BEGIN:VCALENDAR
VERSION:2.0
PRODID:-//Colchester East Hants Public Library - ECPv6.15.20//NONSGML v1.0//EN
CALSCALE:GREGORIAN
METHOD:PUBLISH
X-ORIGINAL-URL:https://www.lovemylibrary.ca
X-WR-CALDESC:Events for Colchester East Hants Public Library
REFRESH-INTERVAL;VALUE=DURATION:PT1H
X-Robots-Tag:noindex
X-PUBLISHED-TTL:PT1H
BEGIN:VTIMEZONE
TZID:America/Halifax
BEGIN:DAYLIGHT
TZOFFSETFROM:-0400
TZOFFSETTO:-0300
TZNAME:ADT
DTSTART:20210314T060000
END:DAYLIGHT
BEGIN:STANDARD
TZOFFSETFROM:-0300
TZOFFSETTO:-0400
TZNAME:AST
DTSTART:20211107T050000
END:STANDARD
BEGIN:DAYLIGHT
TZOFFSETFROM:-0400
TZOFFSETTO:-0300
TZNAME:ADT
DTSTART:20220313T060000
END:DAYLIGHT
BEGIN:STANDARD
TZOFFSETFROM:-0300
TZOFFSETTO:-0400
TZNAME:AST
DTSTART:20221106T050000
END:STANDARD
BEGIN:DAYLIGHT
TZOFFSETFROM:-0400
TZOFFSETTO:-0300
TZNAME:ADT
DTSTART:20230312T060000
END:DAYLIGHT
BEGIN:STANDARD
TZOFFSETFROM:-0300
TZOFFSETTO:-0400
TZNAME:AST
DTSTART:20231105T050000
END:STANDARD
END:VTIMEZONE
BEGIN:VEVENT
DTSTART;VALUE=DATE:20220901
DTEND;VALUE=DATE:20220930
DTSTAMP:20260426T001600
CREATED:20220815T181604Z
LAST-MODIFIED:20220815T181604Z
UID:10001262-1661990400-1664495999@www.lovemylibrary.ca
SUMMARY:The Day the Crayons Quit Scavenger Hunt
DESCRIPTION:The Crayons have quit and are hiding in the Library! Can you help us find them? \nDrop into the library from September 1 – 29 during open hours. No registration required. Ages 3+
URL:https://www.lovemylibrary.ca/event/the-day-the-crayons-quit-scavenger-hunt/
LOCATION:Truro Library\, 754 Prince St\, Truro\, Nova Scotia\, Canada
CATEGORIES:Events For Kids,Location: Truro
ATTACH;FMTTYPE=image/png:https://www.lovemylibrary.ca/wp-content/uploads/2022/06/scavenger-hunt-1.png
END:VEVENT
BEGIN:VEVENT
DTSTART;VALUE=DATE:20220901
DTEND;VALUE=DATE:20221001
DTSTAMP:20260426T001600
CREATED:20220823T205540Z
LAST-MODIFIED:20220823T205540Z
UID:10001302-1661990400-1664582399@www.lovemylibrary.ca
SUMMARY:Take Home Craft Kits
DESCRIPTION:Kits change on a weekly basis and contain all supplies needed to complete the craft. For preschool and early elementary children. \nNo registration is required.  Just drop by.
URL:https://www.lovemylibrary.ca/event/take-home-craft-kits/
LOCATION:Stewiacke Library\, 295 George Street\, Stewiacke\, Nova Scotia\, Canada
CATEGORIES:Crafting,Events For Kids,Location: Stewiacke
ATTACH;FMTTYPE=image/png:https://www.lovemylibrary.ca/wp-content/uploads/2022/03/Untitled-design-57.png
END:VEVENT
BEGIN:VEVENT
DTSTART;VALUE=DATE:20220901
DTEND;VALUE=DATE:20221029
DTSTAMP:20260426T001600
CREATED:20220825T142641Z
LAST-MODIFIED:20220825T142641Z
UID:10001321-1661990400-1667001599@www.lovemylibrary.ca
SUMMARY:“The Other Side of Me: Photography & Drawings by Sandra (Sam) Dill” Art Exhibit
DESCRIPTION:Sandra (Sam) Dill has been an avid supporter of community health and well-being through her various roles in nursing and community organizations. Yet unbeknownst to some\, her passion and skill for art are the other side of her\, that also inspire and better her community. Get to know her in a different light through her art exhibit at the Truro Library! \nThis is a drop-in program. No registration is required.  The exhibit may be found on the second floor of the library.\n 
URL:https://www.lovemylibrary.ca/event/the-other-side-of-me-photography-drawings-by-sandra-sam-dill-art-exhibit/
LOCATION:Truro Library\, 754 Prince St\, Truro\, Nova Scotia\, Canada
CATEGORIES:Events For Adults,Events For Kids,Events For Seniors,Events For Teens,Location: Truro
ATTACH;FMTTYPE=image/png:https://www.lovemylibrary.ca/wp-content/uploads/2022/08/Untitled-design-32.png
END:VEVENT
BEGIN:VEVENT
DTSTART;TZID=America/Halifax:20220913T110000
DTEND;TZID=America/Halifax:20220913T120000
DTSTAMP:20260426T001600
CREATED:20220825T152953Z
LAST-MODIFIED:20220923T171541Z
UID:10001326-1663066800-1663070400@www.lovemylibrary.ca
SUMMARY:Conversational English
DESCRIPTION:Is English your 2nd language? Or maybe your 4th? Our Conversational English program is for those who would like to practice their English in a fun and friendly environment. In partnership with YREACH. \nThis is a drop-in program.  No registration is required.
URL:https://www.lovemylibrary.ca/event/conversational-english-2/2022-09-13/
LOCATION:Truro Library\, 754 Prince St\, Truro\, Nova Scotia\, Canada
CATEGORIES:Events For Adults,Events For Seniors,Location: Truro
ATTACH;FMTTYPE=image/jpeg:https://www.lovemylibrary.ca/wp-content/uploads/2021/08/13.jpg
END:VEVENT
BEGIN:VEVENT
DTSTART;TZID=America/Halifax:20220913T140000
DTEND;TZID=America/Halifax:20220913T150000
DTSTAMP:20260426T001600
CREATED:20220330T133247Z
LAST-MODIFIED:20221129T141954Z
UID:10000948-1663077600-1663081200@www.lovemylibrary.ca
SUMMARY:Homework Hangout
DESCRIPTION:Time to unwind\, get your homework done\, and hangout with your friends. For ages 8-12.
URL:https://www.lovemylibrary.ca/event/homework-hangout/2022-09-13/
LOCATION:Mount Uniacke Library\, 555\, Highway 1\, Mount Uniacke\, Nova Scotia\, Canada
CATEGORIES:Events For Kids,Location: Mount Uniacke
ATTACH;FMTTYPE=image/png:https://www.lovemylibrary.ca/wp-content/uploads/2022/03/Untitled-design-91.png
END:VEVENT
BEGIN:VEVENT
DTSTART;TZID=America/Halifax:20220913T150000
DTEND;TZID=America/Halifax:20220913T170000
DTSTAMP:20260426T001600
CREATED:20220829T171926Z
LAST-MODIFIED:20220829T171926Z
UID:10001351-1663081200-1663088400@www.lovemylibrary.ca
SUMMARY:After School Board Game Club
DESCRIPTION:Drop-in after school club for kids and tweens (ages 5-12). Come play board games and/or card games with other kids your age! \nNo registration required. 
URL:https://www.lovemylibrary.ca/event/after-school-board-game-club/
LOCATION:Tatamagouche Library\, 170 Main Street\, Tatamagouche\, Nova Scotia\, Canada
CATEGORIES:Events For Kids,Location: Tatamagouche
ATTACH;FMTTYPE=image/png:https://www.lovemylibrary.ca/wp-content/uploads/2022/08/Untitled-design-2022-08-29T142010.704.png
END:VEVENT
BEGIN:VEVENT
DTSTART;TZID=America/Halifax:20220913T170000
DTEND;TZID=America/Halifax:20220913T200000
DTSTAMP:20260426T001600
CREATED:20220826T181832Z
LAST-MODIFIED:20220923T172130Z
UID:10001344-1663088400-1663099200@www.lovemylibrary.ca
SUMMARY:Heroes & Adventurers
DESCRIPTION:Role-playing game nights with extraordinary people! We provide the supplies\, you provide the imagination. No experience needed. All welcome! \nHow to Participate\nRegister to play by emailing: HAATruro@gmail.com. Sorry\, no drop-in players at this time.
URL:https://www.lovemylibrary.ca/event/heroes-adventurers/2022-09-13/
LOCATION:Truro Library\, 754 Prince St\, Truro\, Nova Scotia\, Canada
CATEGORIES:Events For Kids,Events For Teens,Location: Truro
ATTACH;FMTTYPE=image/png:https://www.lovemylibrary.ca/wp-content/uploads/2022/06/D-and-D.png
END:VEVENT
BEGIN:VEVENT
DTSTART;TZID=America/Halifax:20220913T183000
DTEND;TZID=America/Halifax:20220913T200000
DTSTAMP:20260426T001600
CREATED:20220429T201421Z
LAST-MODIFIED:20221005T121332Z
UID:10001006-1663093800-1663099200@www.lovemylibrary.ca
SUMMARY:Seniors Learn to Knit with Ewe-niacke Yarn Club
DESCRIPTION:Want to learn to knit or crochet? Already know how\, but need a refresher? Not sure what supplies you need? We have everything you need for your first project. Hants Count Senior Safety Association is providing the supplies necessary to start your project. Bring friends or make new friends! \nDrop-in\, no registration required.
URL:https://www.lovemylibrary.ca/event/seniors-learn-to-knit-with-ewe-niacke-yarn-club/2022-09-13/
LOCATION:Mount Uniacke Library\, 555\, Highway 1\, Mount Uniacke\, Nova Scotia\, Canada
CATEGORIES:Events For Adults,Events For Seniors,Location: Mount Uniacke,STEAM
ATTACH;FMTTYPE=image/png:https://www.lovemylibrary.ca/wp-content/uploads/2022/04/Untitled-design-2022-04-29T171348.604.png
END:VEVENT
BEGIN:VEVENT
DTSTART;TZID=America/Halifax:20220913T183000
DTEND;TZID=America/Halifax:20220913T200000
DTSTAMP:20260426T001600
CREATED:20220727T185012Z
LAST-MODIFIED:20221005T121318Z
UID:10001251-1663093800-1663099200@www.lovemylibrary.ca
SUMMARY:Ewe-niacke Yarn Club
DESCRIPTION:Fiber art for all ages and abilities. Learn to knit or crochet\, bring a project you are working on\, or just come hang out with the club for some social time. \nThis is a drop-in program.  No registration is required
URL:https://www.lovemylibrary.ca/event/ewe-niacke-yarn-club-2/2022-09-13/
LOCATION:Mount Uniacke Library\, 555\, Highway 1\, Mount Uniacke\, Nova Scotia\, Canada
CATEGORIES:Crafting,Events For Adults,STEAM
ATTACH;FMTTYPE=image/png:https://www.lovemylibrary.ca/wp-content/uploads/2022/03/Untitled-design-89.png
END:VEVENT
END:VCALENDAR