BEGIN:VCALENDAR
VERSION:2.0
PRODID:-//Colchester East Hants Public Library - ECPv6.15.20//NONSGML v1.0//EN
CALSCALE:GREGORIAN
METHOD:PUBLISH
X-WR-CALNAME:Colchester East Hants Public Library
X-ORIGINAL-URL:https://www.lovemylibrary.ca
X-WR-CALDESC:Events for Colchester East Hants Public Library
REFRESH-INTERVAL;VALUE=DURATION:PT1H
X-Robots-Tag:noindex
X-PUBLISHED-TTL:PT1H
BEGIN:VTIMEZONE
TZID:America/Halifax
BEGIN:DAYLIGHT
TZOFFSETFROM:-0400
TZOFFSETTO:-0300
TZNAME:ADT
DTSTART:20210314T060000
END:DAYLIGHT
BEGIN:STANDARD
TZOFFSETFROM:-0300
TZOFFSETTO:-0400
TZNAME:AST
DTSTART:20211107T050000
END:STANDARD
BEGIN:DAYLIGHT
TZOFFSETFROM:-0400
TZOFFSETTO:-0300
TZNAME:ADT
DTSTART:20220313T060000
END:DAYLIGHT
BEGIN:STANDARD
TZOFFSETFROM:-0300
TZOFFSETTO:-0400
TZNAME:AST
DTSTART:20221106T050000
END:STANDARD
BEGIN:DAYLIGHT
TZOFFSETFROM:-0400
TZOFFSETTO:-0300
TZNAME:ADT
DTSTART:20230312T060000
END:DAYLIGHT
BEGIN:STANDARD
TZOFFSETFROM:-0300
TZOFFSETTO:-0400
TZNAME:AST
DTSTART:20231105T050000
END:STANDARD
END:VTIMEZONE
BEGIN:VEVENT
DTSTART;VALUE=DATE:20220901
DTEND;VALUE=DATE:20221029
DTSTAMP:20260426T012559
CREATED:20220825T142641Z
LAST-MODIFIED:20220825T142641Z
UID:10001321-1661990400-1667001599@www.lovemylibrary.ca
SUMMARY:“The Other Side of Me: Photography & Drawings by Sandra (Sam) Dill” Art Exhibit
DESCRIPTION:Sandra (Sam) Dill has been an avid supporter of community health and well-being through her various roles in nursing and community organizations. Yet unbeknownst to some\, her passion and skill for art are the other side of her\, that also inspire and better her community. Get to know her in a different light through her art exhibit at the Truro Library! \nThis is a drop-in program. No registration is required.  The exhibit may be found on the second floor of the library.\n 
URL:https://www.lovemylibrary.ca/event/the-other-side-of-me-photography-drawings-by-sandra-sam-dill-art-exhibit/
LOCATION:Truro Library\, 754 Prince St\, Truro\, Nova Scotia\, Canada
CATEGORIES:Events For Adults,Events For Kids,Events For Seniors,Events For Teens,Location: Truro
ATTACH;FMTTYPE=image/png:https://www.lovemylibrary.ca/wp-content/uploads/2022/08/Untitled-design-32.png
END:VEVENT
BEGIN:VEVENT
DTSTART;VALUE=DATE:20221001
DTEND;VALUE=DATE:20221101
DTSTAMP:20260426T012559
CREATED:20220921T190059Z
LAST-MODIFIED:20220921T190059Z
UID:10001380-1664582400-1667260799@www.lovemylibrary.ca
SUMMARY:Take Home Craft Kits
DESCRIPTION:Kits change on a weekly basis and contain all supplies needed to complete the craft. Suitable for preschool and early elementary aged children. \nNo registration is required.
URL:https://www.lovemylibrary.ca/event/take-home-craft-kits-2/
LOCATION:Stewiacke Library\, 295 George Street\, Stewiacke\, Nova Scotia\, Canada
CATEGORIES:Crafting,Events For Kids,Location: Stewiacke
ATTACH;FMTTYPE=image/png:https://www.lovemylibrary.ca/wp-content/uploads/2022/02/Untitled-design-42.png
END:VEVENT
BEGIN:VEVENT
DTSTART;VALUE=DATE:20221001
DTEND;VALUE=DATE:20221101
DTSTAMP:20260426T012559
CREATED:20220922T151847Z
LAST-MODIFIED:20220922T151847Z
UID:10001390-1664582400-1667260799@www.lovemylibrary.ca
SUMMARY:Mi’kmaq History Month Scavenger Hunt
DESCRIPTION:Find images and learn about Mi’kmaq history and culture at the same time. For all ages \nThis is a drop-in program. No registration is required.
URL:https://www.lovemylibrary.ca/event/mikmaq-history-month-scavenger-hunt/
LOCATION:Stewiacke Library\, 295 George Street\, Stewiacke\, Nova Scotia\, Canada
CATEGORIES:Events For Kids,Location: Stewiacke
ATTACH;FMTTYPE=image/png:https://www.lovemylibrary.ca/wp-content/uploads/2022/06/scavenger-hunt-1.png
END:VEVENT
BEGIN:VEVENT
DTSTART;VALUE=DATE:20221001
DTEND;VALUE=DATE:20221101
DTSTAMP:20260426T012559
CREATED:20220922T153821Z
LAST-MODIFIED:20220922T153821Z
UID:10001393-1664582400-1667260799@www.lovemylibrary.ca
SUMMARY:Take and Make Crafts
DESCRIPTION:Weekly take-and-make craft kits are available for pick up in-branch9while supplies last).  Suitable for cildren and adults. \nDrop-in\, no registration required.
URL:https://www.lovemylibrary.ca/event/take-and-make-crafts-5/
LOCATION:Elmsdale Library\, 15 Commerce Ct\, Elmsdale\, Nova Scotia\, Canada
CATEGORIES:Crafting,Events For Adults,Events For Kids,Location: Elmsdale
ATTACH;FMTTYPE=image/png:https://www.lovemylibrary.ca/wp-content/uploads/2022/02/Untitled-design-42.png
END:VEVENT
BEGIN:VEVENT
DTSTART;VALUE=DATE:20221001
DTEND;VALUE=DATE:20221101
DTSTAMP:20260426T012559
CREATED:20220922T192324Z
LAST-MODIFIED:20221214T174832Z
UID:10001419-1664582400-1667260799@www.lovemylibrary.ca
SUMMARY:Take Home Craft Kits
DESCRIPTION:Kits change on a weekly basis and contain all supplies needed to complete the craft. For preschool and early elementary students. \nTo participate\, drop by and pick up your kit.
URL:https://www.lovemylibrary.ca/event/take-home-craft-kits-3/
LOCATION:Stewiacke Library\, 295 George Street\, Stewiacke\, Nova Scotia\, Canada
CATEGORIES:Crafting,Events For Kids,Location: Stewiacke,Location: Tatamagouche
ATTACH;FMTTYPE=image/png:https://www.lovemylibrary.ca/wp-content/uploads/2022/02/Untitled-design-42.png
END:VEVENT
BEGIN:VEVENT
DTSTART;VALUE=DATE:20221001
DTEND;VALUE=DATE:20221101
DTSTAMP:20260426T012559
CREATED:20220929T190842Z
LAST-MODIFIED:20221007T191314Z
UID:10001429-1664582400-1667260799@www.lovemylibrary.ca
SUMMARY:Mi’kmaq History Month Scavenger Hunt
DESCRIPTION:Find images and learn about Mi’kmaq history and culture at the same time. All ages are welcome to participate. \nThis is a drop-in program. No registration is required.
URL:https://www.lovemylibrary.ca/event/mikmaq-history-month-scavenger-hunt-2/
LOCATION:Stewiacke Library\, 295 George Street\, Stewiacke\, Nova Scotia\, Canada
CATEGORIES:Events For Kids,Location: Stewiacke
ATTACH;FMTTYPE=image/png:https://www.lovemylibrary.ca/wp-content/uploads/2022/06/scavenger-hunt-1.png
END:VEVENT
BEGIN:VEVENT
DTSTART;VALUE=DATE:20221001
DTEND;VALUE=DATE:20221101
DTSTAMP:20260426T012559
CREATED:20220929T191401Z
LAST-MODIFIED:20220929T191401Z
UID:10001430-1664582400-1667260799@www.lovemylibrary.ca
SUMMARY:Mi’kmaq History Month Scavenger Hunt
DESCRIPTION:Find images and learn about Mi’kmaq history and culture at the same time.All ages are welcome to participate. \nThis is a drop-in program. No registration is required.
URL:https://www.lovemylibrary.ca/event/mikmaq-history-month-scavenger-hunt-3/
LOCATION:Tatamagouche Library\, 170 Main Street\, Tatamagouche\, Nova Scotia\, Canada
CATEGORIES:Events For Kids,Location: Tatamagouche
ATTACH;FMTTYPE=image/png:https://www.lovemylibrary.ca/wp-content/uploads/2022/06/scavenger-hunt-1.png
END:VEVENT
BEGIN:VEVENT
DTSTART;TZID=America/Halifax:20221021T100000
DTEND;TZID=America/Halifax:20221021T110000
DTSTAMP:20260426T012559
CREATED:20220921T184423Z
LAST-MODIFIED:20220921T184423Z
UID:10001378-1666346400-1666350000@www.lovemylibrary.ca
SUMMARY:Walking Club
DESCRIPTION:Mind your distance! Meet at the library at 10 and enjoy a walk around town. \nThis is a drop-in program. No registration is required.
URL:https://www.lovemylibrary.ca/event/walking-club-4/2022-10-21/
LOCATION:Stewiacke Library\, 295 George Street\, Stewiacke\, Nova Scotia\, Canada
CATEGORIES:Events For Adults,Location: Stewiacke
ATTACH;FMTTYPE=image/png:https://www.lovemylibrary.ca/wp-content/uploads/2022/05/Untitled-design-2022-05-02T165147.740.png
END:VEVENT
BEGIN:VEVENT
DTSTART;TZID=America/Halifax:20221021T100000
DTEND;TZID=America/Halifax:20221021T120000
DTSTAMP:20260426T012559
CREATED:20220922T155003Z
LAST-MODIFIED:20220922T155003Z
UID:10001400-1666346400-1666353600@www.lovemylibrary.ca
SUMMARY:One on One Tech Help
DESCRIPTION:Issues with your phone? Laptop? Social Media? Meet in-person with our digital literacy trainer to get your tech questions answered. For adults. \nPlease call 902-883-9838 or email at elmsdale@cehpubliclibrary.ca to book an appointment
URL:https://www.lovemylibrary.ca/event/one-on-one-tech-help-6/2022-10-21/
LOCATION:Elmsdale Library\, 15 Commerce Ct\, Elmsdale\, Nova Scotia\, Canada
CATEGORIES:Events For Adults,Events For Seniors,Location: Elmsdale
ATTACH;FMTTYPE=image/png:https://www.lovemylibrary.ca/wp-content/uploads/2022/03/Untitled-design-80.png
END:VEVENT
BEGIN:VEVENT
DTSTART;TZID=America/Halifax:20221021T103000
DTEND;TZID=America/Halifax:20221021T110000
DTSTAMP:20260426T012559
CREATED:20220921T192621Z
LAST-MODIFIED:20221003T145157Z
UID:10001435-1666348200-1666350000@www.lovemylibrary.ca
SUMMARY:Picture Book Junction
DESCRIPTION:Fun and Interactive! Share the magic of stories\, songs and crafts. Suitable For 3-5 year olds with a care giver. \nThis is a drop-in program. No registration is required.
URL:https://www.lovemylibrary.ca/event/picture-book-junction-4/2022-10-21/
LOCATION:Stewiacke Library\, 295 George Street\, Stewiacke\, Nova Scotia\, Canada
CATEGORIES:Events For Kids,Location: Stewiacke
ATTACH;FMTTYPE=image/png:https://www.lovemylibrary.ca/wp-content/uploads/2022/03/Untitled-design-81.png
END:VEVENT
BEGIN:VEVENT
DTSTART;TZID=America/Halifax:20221021T103000
DTEND;TZID=America/Halifax:20221021T113000
DTSTAMP:20260426T012559
CREATED:20220922T173851Z
LAST-MODIFIED:20220922T173851Z
UID:10001409-1666348200-1666351800@www.lovemylibrary.ca
SUMMARY:Tots Story time
DESCRIPTION:Join us with your little one for stories and social time. For newborn to 2. \nCall to register at 902-883-9838 or email elmsdale@cehpubliclibrary.ca
URL:https://www.lovemylibrary.ca/event/tots-story-time-2/2022-10-21/
LOCATION:Elmsdale Library\, 15 Commerce Ct\, Elmsdale\, Nova Scotia\, Canada
CATEGORIES:Events For Kids,Location: Elmsdale
ATTACH;FMTTYPE=image/png:https://www.lovemylibrary.ca/wp-content/uploads/2022/03/Untitled-design-75.png
END:VEVENT
BEGIN:VEVENT
DTSTART;TZID=America/Halifax:20221021T140000
DTEND;TZID=America/Halifax:20221021T150000
DTSTAMP:20260426T012559
CREATED:20220330T133247Z
LAST-MODIFIED:20221129T141954Z
UID:10001509-1666360800-1666364400@www.lovemylibrary.ca
SUMMARY:Homework Hangout
DESCRIPTION:Time to unwind\, get your homework done\, and hangout with your friends. For ages 8-12.
URL:https://www.lovemylibrary.ca/event/homework-hangout/2022-10-21/
LOCATION:Mount Uniacke Library\, 555\, Highway 1\, Mount Uniacke\, Nova Scotia\, Canada
CATEGORIES:Events For Kids,Location: Mount Uniacke
ATTACH;FMTTYPE=image/png:https://www.lovemylibrary.ca/wp-content/uploads/2022/03/Untitled-design-91.png
END:VEVENT
BEGIN:VEVENT
DTSTART;TZID=America/Halifax:20221021T150000
DTEND;TZID=America/Halifax:20221021T160000
DTSTAMP:20260426T012559
CREATED:20220330T132213Z
LAST-MODIFIED:20221005T122121Z
UID:10001514-1666364400-1666368000@www.lovemylibrary.ca
SUMMARY:Teen Time
DESCRIPTION:This is your place to hang out\, meet new people\, play games\, explore your artistic side… and have fun! For ages 13-18. \nDrop-in\, no registration required.
URL:https://www.lovemylibrary.ca/event/teen-time/2022-10-21/
LOCATION:Mount Uniacke Library\, 555\, Highway 1\, Mount Uniacke\, Nova Scotia\, Canada
CATEGORIES:Events For Teens,Location: Mount Uniacke
ATTACH;FMTTYPE=image/png:https://www.lovemylibrary.ca/wp-content/uploads/2022/03/Untitled-design-90.png
END:VEVENT
END:VCALENDAR