BEGIN:VCALENDAR
VERSION:2.0
PRODID:-//Colchester East Hants Public Library - ECPv6.15.20//NONSGML v1.0//EN
CALSCALE:GREGORIAN
METHOD:PUBLISH
X-WR-CALNAME:Colchester East Hants Public Library
X-ORIGINAL-URL:https://www.lovemylibrary.ca
X-WR-CALDESC:Events for Colchester East Hants Public Library
REFRESH-INTERVAL;VALUE=DURATION:PT1H
X-Robots-Tag:noindex
X-PUBLISHED-TTL:PT1H
BEGIN:VTIMEZONE
TZID:America/Halifax
BEGIN:DAYLIGHT
TZOFFSETFROM:-0400
TZOFFSETTO:-0300
TZNAME:ADT
DTSTART:20210314T060000
END:DAYLIGHT
BEGIN:STANDARD
TZOFFSETFROM:-0300
TZOFFSETTO:-0400
TZNAME:AST
DTSTART:20211107T050000
END:STANDARD
BEGIN:DAYLIGHT
TZOFFSETFROM:-0400
TZOFFSETTO:-0300
TZNAME:ADT
DTSTART:20220313T060000
END:DAYLIGHT
BEGIN:STANDARD
TZOFFSETFROM:-0300
TZOFFSETTO:-0400
TZNAME:AST
DTSTART:20221106T050000
END:STANDARD
BEGIN:DAYLIGHT
TZOFFSETFROM:-0400
TZOFFSETTO:-0300
TZNAME:ADT
DTSTART:20230312T060000
END:DAYLIGHT
BEGIN:STANDARD
TZOFFSETFROM:-0300
TZOFFSETTO:-0400
TZNAME:AST
DTSTART:20231105T050000
END:STANDARD
END:VTIMEZONE
BEGIN:VEVENT
DTSTART;VALUE=DATE:20221101
DTEND;VALUE=DATE:20221201
DTSTAMP:20260425T104522
CREATED:20221020T174354Z
LAST-MODIFIED:20221020T174354Z
UID:10002060-1667260800-1669852799@www.lovemylibrary.ca
SUMMARY:Celebrate Picture Book Month!
DESCRIPTION:We have bundles of picture books for you to select from and enjoy! Happy Reading! \nThis is a drop-in program. No registration is required.
URL:https://www.lovemylibrary.ca/event/celebrate-picture-book-month/
LOCATION:Elmsdale Library\, 15 Commerce Ct\, Elmsdale\, Nova Scotia\, Canada
CATEGORIES:Events For Kids,Location: Elmsdale
ATTACH;FMTTYPE=image/png:https://www.lovemylibrary.ca/wp-content/uploads/2022/10/Untitled-design-50.png
END:VEVENT
BEGIN:VEVENT
DTSTART;VALUE=DATE:20221101
DTEND;VALUE=DATE:20221201
DTSTAMP:20260425T104522
CREATED:20221021T184840Z
LAST-MODIFIED:20221021T184840Z
UID:10002267-1667260800-1669852799@www.lovemylibrary.ca
SUMMARY:Monthly Scavenger Hunt
DESCRIPTION:How observant are you? Come in and find images and objects around the Library! \nAll ages are welcome to participate. \nDrop in\, no registration is required.
URL:https://www.lovemylibrary.ca/event/monthly-scavenger-hunt/
LOCATION:Tatamagouche Library\, 170 Main Street\, Tatamagouche\, Nova Scotia\, Canada
ATTACH;FMTTYPE=image/png:https://www.lovemylibrary.ca/wp-content/uploads/2022/06/scavenger-hunt-1.png
END:VEVENT
BEGIN:VEVENT
DTSTART;VALUE=DATE:20221101
DTEND;VALUE=DATE:20221230
DTSTAMP:20260425T104522
CREATED:20221026T173741Z
LAST-MODIFIED:20221026T173741Z
UID:10002293-1667260800-1672358399@www.lovemylibrary.ca
SUMMARY:Joy Laking & Susan Paterson Art Exhibit
DESCRIPTION:Nova Scotia artists Joy Laking and Susan Paterson are the creators behind the art exhibit running through November and December at the Truro Library! Come and see their artwork on the second floor of the library. They will be on site to talk with you about their art and the inspiration behind the exhibit on Saturday\, November 12 @2-4pm. \nThis is a drop-in program. No registration is required.
URL:https://www.lovemylibrary.ca/event/joy-laking-susan-paterson-art-exhibit/
LOCATION:Truro Library\, 754 Prince St\, Truro\, Nova Scotia\, Canada
CATEGORIES:Events For Adults,Events For Kids,Events For Seniors,Events For Teens,Location: Truro
ATTACH;FMTTYPE=image/png:https://www.lovemylibrary.ca/wp-content/uploads/2022/10/Untitled-design-23.png
END:VEVENT
BEGIN:VEVENT
DTSTART;TZID=America/Halifax:20221103T093000
DTEND;TZID=America/Halifax:20221103T101500
DTSTAMP:20260425T104522
CREATED:20221025T213321Z
LAST-MODIFIED:20221025T213321Z
UID:10002269-1667467800-1667470500@www.lovemylibrary.ca
SUMMARY:Eddie’s Litterless Quest With Clean Foundation
DESCRIPTION:Join our puppet friend Eddie for humour\, rhymes\, and songs. Learn about the importance of keeping the environment clean and how you can help – starting with a month-long waste reduction challenge! \nFor Grades P-3 \nRegister with Clean Foundation at https://forms.office.com/r/P3hJz8hjf9
URL:https://www.lovemylibrary.ca/event/eddies-litterless-quest-with-clean-foundation/
LOCATION:Virtual
CATEGORIES:Events For Kids,Location: Virtual
ATTACH;FMTTYPE=image/png:https://www.lovemylibrary.ca/wp-content/uploads/2022/10/Untitled-design-16-1.png
END:VEVENT
BEGIN:VEVENT
DTSTART;TZID=America/Halifax:20221103T130000
DTEND;TZID=America/Halifax:20221103T140000
DTSTAMP:20260425T104522
CREATED:20221019T181820Z
LAST-MODIFIED:20221019T181820Z
UID:10001838-1667480400-1667484000@www.lovemylibrary.ca
SUMMARY:Crafty Story Time
DESCRIPTION:Come along and enjoy an hour of fun filled story and craft time. For ages 3-5 \nTo register call 902-883-9838 or email elmsdale@cehpubliclibrary.ca
URL:https://www.lovemylibrary.ca/event/crafty-story-time-2/2022-11-03/
LOCATION:Elmsdale Library\, 15 Commerce Ct\, Elmsdale\, Nova Scotia\, Canada
CATEGORIES:Crafting,Events For Adults,Events For Kids,Location: Elmsdale
ATTACH;FMTTYPE=image/png:https://www.lovemylibrary.ca/wp-content/uploads/2022/09/Untitled-design-43.png
END:VEVENT
BEGIN:VEVENT
DTSTART;TZID=America/Halifax:20221103T140000
DTEND;TZID=America/Halifax:20221103T150000
DTSTAMP:20260425T104522
CREATED:20220330T133247Z
LAST-MODIFIED:20221129T141954Z
UID:10002506-1667484000-1667487600@www.lovemylibrary.ca
SUMMARY:Homework Hangout
DESCRIPTION:Time to unwind\, get your homework done\, and hangout with your friends. For ages 8-12.
URL:https://www.lovemylibrary.ca/event/homework-hangout/2022-11-03/
LOCATION:Mount Uniacke Library\, 555\, Highway 1\, Mount Uniacke\, Nova Scotia\, Canada
CATEGORIES:Events For Kids,Location: Mount Uniacke
ATTACH;FMTTYPE=image/png:https://www.lovemylibrary.ca/wp-content/uploads/2022/03/Untitled-design-91.png
END:VEVENT
BEGIN:VEVENT
DTSTART;TZID=America/Halifax:20221103T144500
DTEND;TZID=America/Halifax:20221103T170000
DTSTAMP:20260425T104522
CREATED:20221021T180121Z
LAST-MODIFIED:20230525T180406Z
UID:10004200-1667486700-1667494800@www.lovemylibrary.ca
SUMMARY:Dungeons and Dragons
DESCRIPTION:The campaign is going to be an adventure of a group of fighters\, trying to complete 20 challenges\, each harder than the next. Ages 12-16. \nRegistration by phone 902-657-3064 or email: tatamago@cehpubliclibrary.ca
URL:https://www.lovemylibrary.ca/event/d-d-group/2022-11-03/
LOCATION:Tatamagouche Library\, 170 Main Street\, Tatamagouche\, Nova Scotia\, Canada
CATEGORIES:Events For Kids,Events For Teens,Location: Tatamagouche
ATTACH;FMTTYPE=image/png:https://www.lovemylibrary.ca/wp-content/uploads/2022/06/D-and-D.png
END:VEVENT
BEGIN:VEVENT
DTSTART;TZID=America/Halifax:20221103T150000
DTEND;TZID=America/Halifax:20221103T160000
DTSTAMP:20260425T104522
CREATED:20221021T175112Z
LAST-MODIFIED:20221021T175112Z
UID:10002202-1667487600-1667491200@www.lovemylibrary.ca
SUMMARY:Remembrance Day Button making
DESCRIPTION:Make your own Remembrance Day button. For ages 5-12 \nThis is a drop-in program. No registration is required.
URL:https://www.lovemylibrary.ca/event/remembrance-day-button-making/
LOCATION:Tatamagouche Library\, 170 Main Street\, Tatamagouche\, Nova Scotia\, Canada
CATEGORIES:Events For Kids,Location: Tatamagouche
ATTACH;FMTTYPE=image/png:https://www.lovemylibrary.ca/wp-content/uploads/2022/10/Untitled-design-13.png
END:VEVENT
BEGIN:VEVENT
DTSTART;TZID=America/Halifax:20221103T153000
DTEND;TZID=America/Halifax:20221103T163000
DTSTAMP:20260425T104522
CREATED:20221020T185109Z
LAST-MODIFIED:20221020T185201Z
UID:10002185-1667489400-1667493000@www.lovemylibrary.ca
SUMMARY:The Book Wizards
DESCRIPTION:Why should the adults have all the fun! Join us at the library for our book club meeting every month. \nFor ages 9-12 \nDrop-in\, registration is required.
URL:https://www.lovemylibrary.ca/event/the-book-wizards-2/
LOCATION:Mount Uniacke Library\, 555\, Highway 1\, Mount Uniacke\, Nova Scotia\, Canada
CATEGORIES:Events For Kids,Location: Mount Uniacke
ATTACH;FMTTYPE=image/png:https://www.lovemylibrary.ca/wp-content/uploads/2022/08/Untitled-700-×-500-px-10.png
END:VEVENT
BEGIN:VEVENT
DTSTART;TZID=America/Halifax:20221103T153000
DTEND;TZID=America/Halifax:20221103T163000
DTSTAMP:20260425T104522
CREATED:20221025T222921Z
LAST-MODIFIED:20221025T222921Z
UID:10002289-1667489400-1667493000@www.lovemylibrary.ca
SUMMARY:Books Out Loud
DESCRIPTION:Do you enjoy listening to stories? Then this book club is just for you.  Come in\, curl up\, get comfy and listen as we read aloud chapters from a book and then discuss what we have read. \nFor ages 8-12 \nThis is a drop-in program.  No registration is required.
URL:https://www.lovemylibrary.ca/event/books-out-loud-2/
LOCATION:Truro Library\, 754 Prince St\, Truro\, Nova Scotia\, Canada
CATEGORIES:Events For Kids,Location: Truro
ATTACH;FMTTYPE=image/png:https://www.lovemylibrary.ca/wp-content/uploads/2022/09/Untitled-design-38.png
END:VEVENT
END:VCALENDAR