BEGIN:VCALENDAR
VERSION:2.0
PRODID:-//Colchester East Hants Public Library - ECPv6.15.20//NONSGML v1.0//EN
CALSCALE:GREGORIAN
METHOD:PUBLISH
X-WR-CALNAME:Colchester East Hants Public Library
X-ORIGINAL-URL:https://www.lovemylibrary.ca
X-WR-CALDESC:Events for Colchester East Hants Public Library
REFRESH-INTERVAL;VALUE=DURATION:PT1H
X-Robots-Tag:noindex
X-PUBLISHED-TTL:PT1H
BEGIN:VTIMEZONE
TZID:America/Halifax
BEGIN:DAYLIGHT
TZOFFSETFROM:-0400
TZOFFSETTO:-0300
TZNAME:ADT
DTSTART:20210314T060000
END:DAYLIGHT
BEGIN:STANDARD
TZOFFSETFROM:-0300
TZOFFSETTO:-0400
TZNAME:AST
DTSTART:20211107T050000
END:STANDARD
BEGIN:DAYLIGHT
TZOFFSETFROM:-0400
TZOFFSETTO:-0300
TZNAME:ADT
DTSTART:20220313T060000
END:DAYLIGHT
BEGIN:STANDARD
TZOFFSETFROM:-0300
TZOFFSETTO:-0400
TZNAME:AST
DTSTART:20221106T050000
END:STANDARD
BEGIN:DAYLIGHT
TZOFFSETFROM:-0400
TZOFFSETTO:-0300
TZNAME:ADT
DTSTART:20230312T060000
END:DAYLIGHT
BEGIN:STANDARD
TZOFFSETFROM:-0300
TZOFFSETTO:-0400
TZNAME:AST
DTSTART:20231105T050000
END:STANDARD
END:VTIMEZONE
BEGIN:VEVENT
DTSTART;VALUE=DATE:20221101
DTEND;VALUE=DATE:20221201
DTSTAMP:20260425T212728
CREATED:20221020T174354Z
LAST-MODIFIED:20221020T174354Z
UID:10002060-1667260800-1669852799@www.lovemylibrary.ca
SUMMARY:Celebrate Picture Book Month!
DESCRIPTION:We have bundles of picture books for you to select from and enjoy! Happy Reading! \nThis is a drop-in program. No registration is required.
URL:https://www.lovemylibrary.ca/event/celebrate-picture-book-month/
LOCATION:Elmsdale Library\, 15 Commerce Ct\, Elmsdale\, Nova Scotia\, Canada
CATEGORIES:Events For Kids,Location: Elmsdale
ATTACH;FMTTYPE=image/png:https://www.lovemylibrary.ca/wp-content/uploads/2022/10/Untitled-design-50.png
END:VEVENT
BEGIN:VEVENT
DTSTART;VALUE=DATE:20221101
DTEND;VALUE=DATE:20221201
DTSTAMP:20260425T212728
CREATED:20221021T184840Z
LAST-MODIFIED:20221021T184840Z
UID:10002267-1667260800-1669852799@www.lovemylibrary.ca
SUMMARY:Monthly Scavenger Hunt
DESCRIPTION:How observant are you? Come in and find images and objects around the Library! \nAll ages are welcome to participate. \nDrop in\, no registration is required.
URL:https://www.lovemylibrary.ca/event/monthly-scavenger-hunt/
LOCATION:Tatamagouche Library\, 170 Main Street\, Tatamagouche\, Nova Scotia\, Canada
ATTACH;FMTTYPE=image/png:https://www.lovemylibrary.ca/wp-content/uploads/2022/06/scavenger-hunt-1.png
END:VEVENT
BEGIN:VEVENT
DTSTART;VALUE=DATE:20221101
DTEND;VALUE=DATE:20221230
DTSTAMP:20260425T212728
CREATED:20221026T173741Z
LAST-MODIFIED:20221026T173741Z
UID:10002293-1667260800-1672358399@www.lovemylibrary.ca
SUMMARY:Joy Laking & Susan Paterson Art Exhibit
DESCRIPTION:Nova Scotia artists Joy Laking and Susan Paterson are the creators behind the art exhibit running through November and December at the Truro Library! Come and see their artwork on the second floor of the library. They will be on site to talk with you about their art and the inspiration behind the exhibit on Saturday\, November 12 @2-4pm. \nThis is a drop-in program. No registration is required.
URL:https://www.lovemylibrary.ca/event/joy-laking-susan-paterson-art-exhibit/
LOCATION:Truro Library\, 754 Prince St\, Truro\, Nova Scotia\, Canada
CATEGORIES:Events For Adults,Events For Kids,Events For Seniors,Events For Teens,Location: Truro
ATTACH;FMTTYPE=image/png:https://www.lovemylibrary.ca/wp-content/uploads/2022/10/Untitled-design-23.png
END:VEVENT
BEGIN:VEVENT
DTSTART;TZID=America/Halifax:20221118T100000
DTEND;TZID=America/Halifax:20221118T120000
DTSTAMP:20260425T212728
CREATED:20221019T195514Z
LAST-MODIFIED:20230118T200434Z
UID:10001895-1668765600-1668772800@www.lovemylibrary.ca
SUMMARY:One on One Tech Help
DESCRIPTION:Issues with your phone? Laptop? Social Media? Meet in-person with our digital literacy trainer to get your tech questions answered. \nPlease call 902-883-9838 or email at elmsdale@cehpubliclibrary.ca to book an appointment
URL:https://www.lovemylibrary.ca/event/one-on-one-tech-help-7/2022-11-18/
LOCATION:Elmsdale Library\, 15 Commerce Ct\, Elmsdale\, Nova Scotia\, Canada
CATEGORIES:Events For Adults,Location: Elmsdale
ATTACH;FMTTYPE=image/png:https://www.lovemylibrary.ca/wp-content/uploads/2022/03/Untitled-design-80.png
END:VEVENT
BEGIN:VEVENT
DTSTART;TZID=America/Halifax:20221118T103000
DTEND;TZID=America/Halifax:20221118T110000
DTSTAMP:20260425T212728
CREATED:20221018T160756Z
LAST-MODIFIED:20221118T203945Z
UID:10001778-1668767400-1668769200@www.lovemylibrary.ca
SUMMARY:Picture Book Junction
DESCRIPTION:Fun and Interactive! Share the magic of stories\, songs and crafts. Suitable For 3-5 year olds with a caregiver \nThis is a drop-in program. No registration is required.
URL:https://www.lovemylibrary.ca/event/picture-book-junction-5/2022-11-18/
LOCATION:Stewiacke Library\, 295 George Street\, Stewiacke\, Nova Scotia\, Canada
CATEGORIES:Events For Kids,Location: Stewiacke
ATTACH;FMTTYPE=image/png:https://www.lovemylibrary.ca/wp-content/uploads/2022/03/Untitled-design-81.png
END:VEVENT
BEGIN:VEVENT
DTSTART;TZID=America/Halifax:20221118T103000
DTEND;TZID=America/Halifax:20221118T160000
DTSTAMP:20260425T212728
CREATED:20221018T184529Z
LAST-MODIFIED:20221018T184529Z
UID:10001833-1668767400-1668787200@www.lovemylibrary.ca
SUMMARY:Resume Workshop
DESCRIPTION:Need help getting hired or promoted? Learn to communicate your value and skills. Valerie Manuel\, Career Practitoner with Nova Scotia Works and YMCA of Greater Halifax/Dartmouth will be available to assist you. Open to all ages. \nThis is a drop-in program. No registration is required.
URL:https://www.lovemylibrary.ca/event/resume-workshop/
LOCATION:Stewiacke Library\, 295 George Street\, Stewiacke\, Nova Scotia\, Canada
CATEGORIES:Events For Adults,Events For Seniors,Events For Teens,Location: Stewiacke
ATTACH;FMTTYPE=image/png:https://www.lovemylibrary.ca/wp-content/uploads/2022/10/Untitled-design-49.png
END:VEVENT
BEGIN:VEVENT
DTSTART;TZID=America/Halifax:20221118T140000
DTEND;TZID=America/Halifax:20221118T150000
DTSTAMP:20260425T212728
CREATED:20220330T133247Z
LAST-MODIFIED:20221129T141954Z
UID:10002513-1668780000-1668783600@www.lovemylibrary.ca
SUMMARY:Homework Hangout
DESCRIPTION:Time to unwind\, get your homework done\, and hangout with your friends. For ages 8-12.
URL:https://www.lovemylibrary.ca/event/homework-hangout/2022-11-18/
LOCATION:Mount Uniacke Library\, 555\, Highway 1\, Mount Uniacke\, Nova Scotia\, Canada
CATEGORIES:Events For Kids,Location: Mount Uniacke
ATTACH;FMTTYPE=image/png:https://www.lovemylibrary.ca/wp-content/uploads/2022/03/Untitled-design-91.png
END:VEVENT
BEGIN:VEVENT
DTSTART;TZID=America/Halifax:20221118T140000
DTEND;TZID=America/Halifax:20221118T150000
DTSTAMP:20260425T212728
CREATED:20221018T154438Z
LAST-MODIFIED:20230524T173018Z
UID:10001664-1668780000-1668783600@www.lovemylibrary.ca
SUMMARY:Walking Club
DESCRIPTION:Mind your distance! Strava will map our walk\, record distance and provide a satellite image.Meet at the library at 2 and enjoy a walk around town. All adults welcome. \nThis is a drop-in program. No registration is required.
URL:https://www.lovemylibrary.ca/event/walking-club-5/2022-11-18/
LOCATION:Stewiacke Library\, 295 George Street\, Stewiacke\, Nova Scotia\, Canada
CATEGORIES:Events For Adults,Events For Seniors,Location: Stewiacke
ATTACH;FMTTYPE=image/png:https://www.lovemylibrary.ca/wp-content/uploads/2022/05/Untitled-design-2022-05-02T165147.740.png
END:VEVENT
BEGIN:VEVENT
DTSTART;TZID=America/Halifax:20221118T140000
DTEND;TZID=America/Halifax:20221118T160000
DTSTAMP:20260425T212728
CREATED:20220825T154417Z
LAST-MODIFIED:20221026T170454Z
UID:10001334-1668780000-1668787200@www.lovemylibrary.ca
SUMMARY:Media Lab Open House
DESCRIPTION:Take a tour of the newly refreshed Media Lab! Learn about how you can become certified to create podcasts\, music\, photos\, and videos in our Media Lab. Open to all ages. \nThis is a drop-in program. No registration is required.
URL:https://www.lovemylibrary.ca/event/media-lab-open-house/
LOCATION:Truro Library\, 754 Prince St\, Truro\, Nova Scotia\, Canada
CATEGORIES:Events For Adults,Events For Kids,Events For Seniors,Events For Teens,Location: Truro
ATTACH;FMTTYPE=image/png:https://www.lovemylibrary.ca/wp-content/uploads/2022/08/Untitled-design-36.png
END:VEVENT
END:VCALENDAR