BEGIN:VCALENDAR
VERSION:2.0
PRODID:-//Colchester East Hants Public Library - ECPv6.15.20//NONSGML v1.0//EN
CALSCALE:GREGORIAN
METHOD:PUBLISH
X-WR-CALNAME:Colchester East Hants Public Library
X-ORIGINAL-URL:https://www.lovemylibrary.ca
X-WR-CALDESC:Events for Colchester East Hants Public Library
REFRESH-INTERVAL;VALUE=DURATION:PT1H
X-Robots-Tag:noindex
X-PUBLISHED-TTL:PT1H
BEGIN:VTIMEZONE
TZID:America/Halifax
BEGIN:DAYLIGHT
TZOFFSETFROM:-0400
TZOFFSETTO:-0300
TZNAME:ADT
DTSTART:20210314T060000
END:DAYLIGHT
BEGIN:STANDARD
TZOFFSETFROM:-0300
TZOFFSETTO:-0400
TZNAME:AST
DTSTART:20211107T050000
END:STANDARD
BEGIN:DAYLIGHT
TZOFFSETFROM:-0400
TZOFFSETTO:-0300
TZNAME:ADT
DTSTART:20220313T060000
END:DAYLIGHT
BEGIN:STANDARD
TZOFFSETFROM:-0300
TZOFFSETTO:-0400
TZNAME:AST
DTSTART:20221106T050000
END:STANDARD
BEGIN:DAYLIGHT
TZOFFSETFROM:-0400
TZOFFSETTO:-0300
TZNAME:ADT
DTSTART:20230312T060000
END:DAYLIGHT
BEGIN:STANDARD
TZOFFSETFROM:-0300
TZOFFSETTO:-0400
TZNAME:AST
DTSTART:20231105T050000
END:STANDARD
END:VTIMEZONE
BEGIN:VEVENT
DTSTART;VALUE=DATE:20221101
DTEND;VALUE=DATE:20221230
DTSTAMP:20260425T082529
CREATED:20221026T173741Z
LAST-MODIFIED:20221026T173741Z
UID:10002293-1667260800-1672358399@www.lovemylibrary.ca
SUMMARY:Joy Laking & Susan Paterson Art Exhibit
DESCRIPTION:Nova Scotia artists Joy Laking and Susan Paterson are the creators behind the art exhibit running through November and December at the Truro Library! Come and see their artwork on the second floor of the library. They will be on site to talk with you about their art and the inspiration behind the exhibit on Saturday\, November 12 @2-4pm. \nThis is a drop-in program. No registration is required.
URL:https://www.lovemylibrary.ca/event/joy-laking-susan-paterson-art-exhibit/
LOCATION:Truro Library\, 754 Prince St\, Truro\, Nova Scotia\, Canada
CATEGORIES:Events For Adults,Events For Kids,Events For Seniors,Events For Teens,Location: Truro
ATTACH;FMTTYPE=image/png:https://www.lovemylibrary.ca/wp-content/uploads/2022/10/Untitled-design-23.png
END:VEVENT
BEGIN:VEVENT
DTSTART;VALUE=DATE:20221201
DTEND;VALUE=DATE:20230101
DTSTAMP:20260425T082529
CREATED:20221025T220846Z
LAST-MODIFIED:20221125T193944Z
UID:10002278-1669852800-1672531199@www.lovemylibrary.ca
SUMMARY:Holiday Scavenger Hunt
DESCRIPTION:Test your detective skills and help us find hidden holiday items in the library!  All ages are welcome to participate. \nThis is a drop-in program. No registration is required.
URL:https://www.lovemylibrary.ca/event/picture-book-month-scavenger-hunt/
LOCATION:Truro Library\, 754 Prince St\, Truro\, Nova Scotia\, Canada
CATEGORIES:Events For Kids,Location: Truro
ATTACH;FMTTYPE=image/png:https://www.lovemylibrary.ca/wp-content/uploads/2022/06/scavenger-hunt-1.png
END:VEVENT
BEGIN:VEVENT
DTSTART;VALUE=DATE:20221201
DTEND;VALUE=DATE:20230101
DTSTAMP:20260425T082529
CREATED:20221129T135632Z
LAST-MODIFIED:20221130T180106Z
UID:10002497-1669852800-1672531199@www.lovemylibrary.ca
SUMMARY:Elf on the Shelf Scavenger Hunt
DESCRIPTION:Test your detective skills with our Elf on the Shelf scavenger hunt. All ages are welcome to participate. \nThis is a drop-in program. No registration is required.
URL:https://www.lovemylibrary.ca/event/elf-on-the-shelf-scavenger-hunt/
LOCATION:Tatamagouche Library\, 170 Main Street\, Tatamagouche\, Nova Scotia\, Canada
CATEGORIES:Events For Kids,Location: Tatamagouche
ATTACH;FMTTYPE=image/png:https://www.lovemylibrary.ca/wp-content/uploads/2022/11/Untitled-design-2022-11-29T095918.902.png
END:VEVENT
BEGIN:VEVENT
DTSTART;VALUE=DATE:20221220
DTEND;VALUE=DATE:20221225
DTSTAMP:20260425T082529
CREATED:20221129T145603Z
LAST-MODIFIED:20221129T145603Z
UID:10002541-1671494400-1671926399@www.lovemylibrary.ca
SUMMARY:5 Days of Holiday Crafts
DESCRIPTION:Join us every day for a new Holiday craft. Each day we will offer a new quick craft to help you get into the holiday spirit. \nDrop-in\, no registration required.
URL:https://www.lovemylibrary.ca/event/5-days-of-holiday-crafts/
LOCATION:Mount Uniacke Library\, 555\, Highway 1\, Mount Uniacke\, Nova Scotia\, Canada
CATEGORIES:Events For Adults,Events For Kids,Events For Seniors,Events For Teens,Location: Mount Uniacke
ATTACH;FMTTYPE=image/png:https://www.lovemylibrary.ca/wp-content/uploads/2022/11/Untitled-design-2022-11-29T105858.002.png
END:VEVENT
BEGIN:VEVENT
DTSTART;TZID=America/Halifax:20221221T110000
DTEND;TZID=America/Halifax:20221221T123000
DTSTAMP:20260425T082529
CREATED:20221020T191019Z
LAST-MODIFIED:20221129T142915Z
UID:10002190-1671620400-1671625800@www.lovemylibrary.ca
SUMMARY:50+ Social Time
DESCRIPTION:Over 50? Want to hangout and socialize with others? Bring a snack or lunch and join us for some casual mingling. \nDrop in\, no registration required
URL:https://www.lovemylibrary.ca/event/50-social-time/
LOCATION:Mount Uniacke Library\, 555\, Highway 1\, Mount Uniacke\, Nova Scotia\, Canada
CATEGORIES:Events For Adults,Events For Seniors,Location: Mount Uniacke
ATTACH;FMTTYPE=image/png:https://www.lovemylibrary.ca/wp-content/uploads/2022/08/Untitled-design-6.png
END:VEVENT
BEGIN:VEVENT
DTSTART;TZID=America/Halifax:20221221T143000
DTEND;TZID=America/Halifax:20221221T190000
DTSTAMP:20260425T082529
CREATED:20210830T161210Z
LAST-MODIFIED:20231213T141030Z
UID:10000768-1671633000-1671649200@www.lovemylibrary.ca
SUMMARY:Satellite Library Visit: Middle Stewiacke Recreation Centre
DESCRIPTION:Meet us at the Middle Stewiacke Recreation Centre where you can browse and borrow materials\, sign up for a Library card\, and use the public WiFi!
URL:https://www.lovemylibrary.ca/event/satellite-library-visit-middle-stewiacke-recreation-centre/2022-12-21/
LOCATION:Middle Stewiacke Recreation Centre\, 2395 Highway 289\, Middle Stewiacke\, Nova Scotia\, Canada
CATEGORIES:Events For Adults,Events For Kids,Events For Seniors,Events For Teens,Location: Middle Stewiacke
ATTACH;FMTTYPE=image/jpeg:https://www.lovemylibrary.ca/wp-content/uploads/2021/08/16.jpg
END:VEVENT
BEGIN:VEVENT
DTSTART;TZID=America/Halifax:20221221T173000
DTEND;TZID=America/Halifax:20221221T193000
DTSTAMP:20260425T082529
CREATED:20221020T172838Z
LAST-MODIFIED:20230215T202420Z
UID:10003603-1671643800-1671651000@www.lovemylibrary.ca
SUMMARY:Adult Board Games Night
DESCRIPTION:Get your game on! Come on out for an evening of board games. This is your chance to play some old favourites or learn a new one. For teens and adults. \nThis is a drop-in program. No registration is required.
URL:https://www.lovemylibrary.ca/event/adult-board-games-night-6/2022-12-21/
LOCATION:Elmsdale Library\, 15 Commerce Ct\, Elmsdale\, Nova Scotia\, Canada
CATEGORIES:Events For Adults,Events For Seniors,Events For Teens,Location: Elmsdale
ATTACH;FMTTYPE=image/png:https://www.lovemylibrary.ca/wp-content/uploads/2022/06/Untitled-700-×-500-px.png
END:VEVENT
END:VCALENDAR