BEGIN:VCALENDAR
VERSION:2.0
PRODID:-//Colchester East Hants Public Library - ECPv6.15.20//NONSGML v1.0//EN
CALSCALE:GREGORIAN
METHOD:PUBLISH
X-WR-CALNAME:Colchester East Hants Public Library
X-ORIGINAL-URL:https://www.lovemylibrary.ca
X-WR-CALDESC:Events for Colchester East Hants Public Library
REFRESH-INTERVAL;VALUE=DURATION:PT1H
X-Robots-Tag:noindex
X-PUBLISHED-TTL:PT1H
BEGIN:VTIMEZONE
TZID:America/Halifax
BEGIN:DAYLIGHT
TZOFFSETFROM:-0400
TZOFFSETTO:-0300
TZNAME:ADT
DTSTART:20210314T060000
END:DAYLIGHT
BEGIN:STANDARD
TZOFFSETFROM:-0300
TZOFFSETTO:-0400
TZNAME:AST
DTSTART:20211107T050000
END:STANDARD
BEGIN:DAYLIGHT
TZOFFSETFROM:-0400
TZOFFSETTO:-0300
TZNAME:ADT
DTSTART:20220313T060000
END:DAYLIGHT
BEGIN:STANDARD
TZOFFSETFROM:-0300
TZOFFSETTO:-0400
TZNAME:AST
DTSTART:20221106T050000
END:STANDARD
BEGIN:DAYLIGHT
TZOFFSETFROM:-0400
TZOFFSETTO:-0300
TZNAME:ADT
DTSTART:20230312T060000
END:DAYLIGHT
BEGIN:STANDARD
TZOFFSETFROM:-0300
TZOFFSETTO:-0400
TZNAME:AST
DTSTART:20231105T050000
END:STANDARD
END:VTIMEZONE
BEGIN:VEVENT
DTSTART;VALUE=DATE:20221201
DTEND;VALUE=DATE:20230101
DTSTAMP:20260425T213144
CREATED:20221025T220846Z
LAST-MODIFIED:20221125T193944Z
UID:10002278-1669852800-1672531199@www.lovemylibrary.ca
SUMMARY:Holiday Scavenger Hunt
DESCRIPTION:Test your detective skills and help us find hidden holiday items in the library!  All ages are welcome to participate. \nThis is a drop-in program. No registration is required.
URL:https://www.lovemylibrary.ca/event/picture-book-month-scavenger-hunt/
LOCATION:Truro Library\, 754 Prince St\, Truro\, Nova Scotia\, Canada
CATEGORIES:Events For Kids,Location: Truro
ATTACH;FMTTYPE=image/png:https://www.lovemylibrary.ca/wp-content/uploads/2022/06/scavenger-hunt-1.png
END:VEVENT
BEGIN:VEVENT
DTSTART;VALUE=DATE:20221201
DTEND;VALUE=DATE:20230101
DTSTAMP:20260425T213144
CREATED:20221129T135632Z
LAST-MODIFIED:20221130T180106Z
UID:10002497-1669852800-1672531199@www.lovemylibrary.ca
SUMMARY:Elf on the Shelf Scavenger Hunt
DESCRIPTION:Test your detective skills with our Elf on the Shelf scavenger hunt. All ages are welcome to participate. \nThis is a drop-in program. No registration is required.
URL:https://www.lovemylibrary.ca/event/elf-on-the-shelf-scavenger-hunt/
LOCATION:Tatamagouche Library\, 170 Main Street\, Tatamagouche\, Nova Scotia\, Canada
CATEGORIES:Events For Kids,Location: Tatamagouche
ATTACH;FMTTYPE=image/png:https://www.lovemylibrary.ca/wp-content/uploads/2022/11/Untitled-design-2022-11-29T095918.902.png
END:VEVENT
BEGIN:VEVENT
DTSTART;VALUE=DATE:20221230
DTEND;VALUE=DATE:20221231
DTSTAMP:20260425T213144
CREATED:20221020T192638Z
LAST-MODIFIED:20221129T143555Z
UID:10002191-1672358400-1672444799@www.lovemylibrary.ca
SUMMARY:Lego Masters
DESCRIPTION:Bored because there is no school? Come to the library and try your hand at building a lego masterpiece. For school aged children. \nDrop in\, no registration required.
URL:https://www.lovemylibrary.ca/event/lego-masters/
LOCATION:Mount Uniacke Library\, 555\, Highway 1\, Mount Uniacke\, Nova Scotia\, Canada
CATEGORIES:Events For Kids,Location: Mount Uniacke
ATTACH;FMTTYPE=image/png:https://www.lovemylibrary.ca/wp-content/uploads/2022/06/Untitled-design-20.png
END:VEVENT
BEGIN:VEVENT
DTSTART;TZID=America/Halifax:20221230T100000
DTEND;TZID=America/Halifax:20221230T120000
DTSTAMP:20260425T213144
CREATED:20221019T195514Z
LAST-MODIFIED:20230118T200434Z
UID:10001901-1672394400-1672401600@www.lovemylibrary.ca
SUMMARY:One on One Tech Help
DESCRIPTION:Issues with your phone? Laptop? Social Media? Meet in-person with our digital literacy trainer to get your tech questions answered. \nPlease call 902-883-9838 or email at elmsdale@cehpubliclibrary.ca to book an appointment
URL:https://www.lovemylibrary.ca/event/one-on-one-tech-help-7/2022-12-30/
LOCATION:Elmsdale Library\, 15 Commerce Ct\, Elmsdale\, Nova Scotia\, Canada
CATEGORIES:Events For Adults,Location: Elmsdale
ATTACH;FMTTYPE=image/png:https://www.lovemylibrary.ca/wp-content/uploads/2022/03/Untitled-design-80.png
END:VEVENT
BEGIN:VEVENT
DTSTART;TZID=America/Halifax:20221230T100000
DTEND;TZID=America/Halifax:20221230T163000
DTSTAMP:20260425T213144
CREATED:20221118T205519Z
LAST-MODIFIED:20230524T173127Z
UID:10002772-1672394400-1672417800@www.lovemylibrary.ca
SUMMARY:Employment Services
DESCRIPTION:Need help getting hired or promoted? Learn to communicate your value and skills. Valerie Manuel\, Career Practitoner with Nova Scotia Works and YMCA of Greater Halifax/Dartmouth will be available to assist you. For ages 16+ \nDrop In or register at valerie.manuel@halifax.ymca.ca
URL:https://www.lovemylibrary.ca/event/employment-services/2022-12-30/
LOCATION:Stewiacke Library\, 295 George Street\, Stewiacke\, Nova Scotia\, Canada
CATEGORIES:Events For Adults,Events For Teens,Location: Stewiacke
ATTACH;FMTTYPE=image/png:https://www.lovemylibrary.ca/wp-content/uploads/2022/10/Untitled-design-49.png
END:VEVENT
BEGIN:VEVENT
DTSTART;TZID=America/Halifax:20221230T140000
DTEND;TZID=America/Halifax:20221230T150000
DTSTAMP:20260425T213144
CREATED:20220330T133247Z
LAST-MODIFIED:20221129T141954Z
UID:10002531-1672408800-1672412400@www.lovemylibrary.ca
SUMMARY:Homework Hangout
DESCRIPTION:Time to unwind\, get your homework done\, and hangout with your friends. For ages 8-12.
URL:https://www.lovemylibrary.ca/event/homework-hangout/2022-12-30/
LOCATION:Mount Uniacke Library\, 555\, Highway 1\, Mount Uniacke\, Nova Scotia\, Canada
CATEGORIES:Events For Kids,Location: Mount Uniacke
ATTACH;FMTTYPE=image/png:https://www.lovemylibrary.ca/wp-content/uploads/2022/03/Untitled-design-91.png
END:VEVENT
BEGIN:VEVENT
DTSTART;TZID=America/Halifax:20221230T140000
DTEND;TZID=America/Halifax:20221230T150000
DTSTAMP:20260425T213144
CREATED:20221018T154438Z
LAST-MODIFIED:20230524T173018Z
UID:10002767-1672408800-1672412400@www.lovemylibrary.ca
SUMMARY:Walking Club
DESCRIPTION:Mind your distance! Strava will map our walk\, record distance and provide a satellite image.Meet at the library at 2 and enjoy a walk around town. All adults welcome. \nThis is a drop-in program. No registration is required.
URL:https://www.lovemylibrary.ca/event/walking-club-5/2022-12-30/
LOCATION:Stewiacke Library\, 295 George Street\, Stewiacke\, Nova Scotia\, Canada
CATEGORIES:Events For Adults,Events For Seniors,Location: Stewiacke
ATTACH;FMTTYPE=image/png:https://www.lovemylibrary.ca/wp-content/uploads/2022/05/Untitled-design-2022-05-02T165147.740.png
END:VEVENT
BEGIN:VEVENT
DTSTART;TZID=America/Halifax:20221230T173000
DTEND;TZID=America/Halifax:20221230T193000
DTSTAMP:20260425T213144
CREATED:20221020T172838Z
LAST-MODIFIED:20230215T202420Z
UID:10003611-1672421400-1672428600@www.lovemylibrary.ca
SUMMARY:Adult Board Games Night
DESCRIPTION:Get your game on! Come on out for an evening of board games. This is your chance to play some old favourites or learn a new one. For teens and adults. \nThis is a drop-in program. No registration is required.
URL:https://www.lovemylibrary.ca/event/adult-board-games-night-6/2022-12-30/
LOCATION:Elmsdale Library\, 15 Commerce Ct\, Elmsdale\, Nova Scotia\, Canada
CATEGORIES:Events For Adults,Events For Seniors,Events For Teens,Location: Elmsdale
ATTACH;FMTTYPE=image/png:https://www.lovemylibrary.ca/wp-content/uploads/2022/06/Untitled-700-×-500-px.png
END:VEVENT
END:VCALENDAR