BEGIN:VCALENDAR
VERSION:2.0
PRODID:-//Colchester East Hants Public Library - ECPv6.15.20//NONSGML v1.0//EN
CALSCALE:GREGORIAN
METHOD:PUBLISH
X-WR-CALNAME:Colchester East Hants Public Library
X-ORIGINAL-URL:https://www.lovemylibrary.ca
X-WR-CALDESC:Events for Colchester East Hants Public Library
REFRESH-INTERVAL;VALUE=DURATION:PT1H
X-Robots-Tag:noindex
X-PUBLISHED-TTL:PT1H
BEGIN:VTIMEZONE
TZID:America/Halifax
BEGIN:DAYLIGHT
TZOFFSETFROM:-0400
TZOFFSETTO:-0300
TZNAME:ADT
DTSTART:20220313T060000
END:DAYLIGHT
BEGIN:STANDARD
TZOFFSETFROM:-0300
TZOFFSETTO:-0400
TZNAME:AST
DTSTART:20221106T050000
END:STANDARD
BEGIN:DAYLIGHT
TZOFFSETFROM:-0400
TZOFFSETTO:-0300
TZNAME:ADT
DTSTART:20230312T060000
END:DAYLIGHT
BEGIN:STANDARD
TZOFFSETFROM:-0300
TZOFFSETTO:-0400
TZNAME:AST
DTSTART:20231105T050000
END:STANDARD
BEGIN:DAYLIGHT
TZOFFSETFROM:-0400
TZOFFSETTO:-0300
TZNAME:ADT
DTSTART:20240310T060000
END:DAYLIGHT
BEGIN:STANDARD
TZOFFSETFROM:-0300
TZOFFSETTO:-0400
TZNAME:AST
DTSTART:20241103T050000
END:STANDARD
END:VTIMEZONE
BEGIN:VEVENT
DTSTART;VALUE=DATE:20230103
DTEND;VALUE=DATE:20230201
DTSTAMP:20260424T235818
CREATED:20221019T145409Z
LAST-MODIFIED:20221214T175027Z
UID:10001834-1672704000-1675209599@www.lovemylibrary.ca
SUMMARY:Around the House Scavenger Hunt
DESCRIPTION:Solve the rhyming clues to help you find the correct images. How many of these things do you have at home? All ages are welcome to participate. \nThis is a drop-in program. No registration is required.
URL:https://www.lovemylibrary.ca/event/ice-age-mammals-scavenger-hunt/
LOCATION:Stewiacke Library\, 295 George Street\, Stewiacke\, Nova Scotia\, Canada
CATEGORIES:Events For Kids,Location: Stewiacke
ATTACH;FMTTYPE=image/png:https://www.lovemylibrary.ca/wp-content/uploads/2022/06/scavenger-hunt-1.png
END:VEVENT
BEGIN:VEVENT
DTSTART;VALUE=DATE:20230103
DTEND;VALUE=DATE:20230224
DTSTAMP:20260424T235818
CREATED:20221214T183927Z
LAST-MODIFIED:20221214T183927Z
UID:10002578-1672704000-1677196799@www.lovemylibrary.ca
SUMMARY:“Sketches of Historic Truro” Art Exhibit by Minette Murphy
DESCRIPTION:Come see beautiful sketches of historic Truro buildings in the art exhibit running through January and February at the Truro Library. The artist Minette Murphy will be on site to talk with you about their art and the inspiration behind the exhibit on Tuesday\, January 3 @6-8pm. All ages are welcome \nThis is a drop-in program. No registration is required.
URL:https://www.lovemylibrary.ca/event/sketches-of-historic-truro-art-exhibit-by-minette-murphy/
LOCATION:Truro Library\, 754 Prince St\, Truro\, Nova Scotia\, Canada
CATEGORIES:Events For Adults,Events For Kids,Events For Seniors,Events For Teens,Location: Truro
ATTACH;FMTTYPE=image/png:https://www.lovemylibrary.ca/wp-content/uploads/2022/12/Untitled-design-35.png
END:VEVENT
BEGIN:VEVENT
DTSTART;TZID=America/Halifax:20230110T100000
DTEND;TZID=America/Halifax:20230110T104500
DTSTAMP:20260424T235818
CREATED:20221222T194311Z
LAST-MODIFIED:20230218T203025Z
UID:10002682-1673344800-1673347500@www.lovemylibrary.ca
SUMMARY:Baby\, Me\, & Mother Goose
DESCRIPTION:Learn rhymes\, songs and have fun with your baby. For all parents with babies 3-18 months. The session will take place at Maggie’s Place. \nTo register\, please call 902-895-0200
URL:https://www.lovemylibrary.ca/event/baby-me-mother-goose-2/2023-01-10/
LOCATION:Maggie’s Place\, 1027 Prince Street\, Truro\, Nova Scotia\, B2N 1H7\, Canada
CATEGORIES:Events For Kids,Location: Truro
ATTACH;FMTTYPE=image/png:https://www.lovemylibrary.ca/wp-content/uploads/2022/03/Untitled-design-75.png
END:VEVENT
BEGIN:VEVENT
DTSTART;TZID=America/Halifax:20230110T110000
DTEND;TZID=America/Halifax:20230110T120000
DTSTAMP:20260424T235818
CREATED:20221214T192815Z
LAST-MODIFIED:20230218T201150Z
UID:10002298-1673348400-1673352000@www.lovemylibrary.ca
SUMMARY:Conversational English
DESCRIPTION:Is English your 2nd language? Or maybe your 4th? Our Conversational English program is for those who would like to practice their English in a fun and friendly environment. In partnership with YREACH. \nThis is a drop-in program.  No registration is required.
URL:https://www.lovemylibrary.ca/event/conversational-english-2-2-2/2023-01-10/
LOCATION:Truro Library\, 754 Prince St\, Truro\, Nova Scotia\, Canada
CATEGORIES:Events For Adults,Events For Seniors,Location: Truro
ATTACH;FMTTYPE=image/jpeg:https://www.lovemylibrary.ca/wp-content/uploads/2021/08/13.jpg
END:VEVENT
BEGIN:VEVENT
DTSTART;TZID=America/Halifax:20230110T123000
DTEND;TZID=America/Halifax:20230110T130000
DTSTAMP:20260424T235818
CREATED:20220406T163620Z
LAST-MODIFIED:20221121T133446Z
UID:10001590-1673353800-1673355600@www.lovemylibrary.ca
SUMMARY:Preschool Storytime
DESCRIPTION:Looking to connect your preschooler with other little ones? Join the gang while we entertain with themed songs\, storybooks and craft time. Drop-ins are always welcome! Ages 3-5.
URL:https://www.lovemylibrary.ca/event/preschool-storytime-2/2023-01-10/
LOCATION:Tatamagouche Library\, 170 Main Street\, Tatamagouche\, Nova Scotia\, Canada
CATEGORIES:Events For Kids,Location: Tatamagouche
ATTACH;FMTTYPE=image/png:https://www.lovemylibrary.ca/wp-content/uploads/2022/04/Untitled-design-98.png
END:VEVENT
BEGIN:VEVENT
DTSTART;TZID=America/Halifax:20230110T133000
DTEND;TZID=America/Halifax:20230110T143000
DTSTAMP:20260424T235818
CREATED:20221025T222519Z
LAST-MODIFIED:20230529T180520Z
UID:10002667-1673357400-1673361000@www.lovemylibrary.ca
SUMMARY:Homeschoolers Haven
DESCRIPTION:Homeschoolers Haven is a place for Homeschool families to meet and share resources. There will be  activities for the children. We will be taking a summer break during the months of July and August.  For ages 5+ \nThis is a drop-in program. No registration is required.
URL:https://www.lovemylibrary.ca/event/homeschoolers-haven-2/2023-01-10/
LOCATION:Truro Library\, 754 Prince St\, Truro\, Nova Scotia\, Canada
CATEGORIES:Events For Kids,Events For Teens,Location: Truro
ATTACH;FMTTYPE=image/png:https://www.lovemylibrary.ca/wp-content/uploads/2022/07/Untitled-design-9.png
END:VEVENT
BEGIN:VEVENT
DTSTART;TZID=America/Halifax:20230110T140000
DTEND;TZID=America/Halifax:20230110T150000
DTSTAMP:20260424T235818
CREATED:20221220T231218Z
LAST-MODIFIED:20230525T163330Z
UID:10002622-1673359200-1673362800@www.lovemylibrary.ca
SUMMARY:Homework Hangout
DESCRIPTION:Time to unwind\, get your homework done\, and hangout with your friends.  For ages 8-15. \nThis is a drop-in program. No registration is required.
URL:https://www.lovemylibrary.ca/event/homework-hangout-2/2023-01-10/
LOCATION:Mount Uniacke Library\, 555\, Highway 1\, Mount Uniacke\, Nova Scotia\, Canada
CATEGORIES:Events For Kids,Events For Teens,Location: Mount Uniacke
ATTACH;FMTTYPE=image/png:https://www.lovemylibrary.ca/wp-content/uploads/2022/03/Untitled-design-91.png
END:VEVENT
BEGIN:VEVENT
DTSTART;TZID=America/Halifax:20230110T153000
DTEND;TZID=America/Halifax:20230110T163000
DTSTAMP:20260424T235818
CREATED:20221020T184343Z
LAST-MODIFIED:20230222T172457Z
UID:10002635-1673364600-1673368200@www.lovemylibrary.ca
SUMMARY:Tuesday Crafternoon
DESCRIPTION:Spring is just around the corner and the birds will need some food. Bernie has a bird feeder craft to help feed all the birds coming North. For children ages 4-15 \nRegister in branch or by email mtuniack@cehpubliclibrary.ca
URL:https://www.lovemylibrary.ca/event/tuesday-crafternoon-2/2023-01-10/
LOCATION:Mount Uniacke Library\, 555\, Highway 1\, Mount Uniacke\, Nova Scotia\, Canada
CATEGORIES:Crafting,Events For Kids,Location: Mount Uniacke
ATTACH;FMTTYPE=image/png:https://www.lovemylibrary.ca/wp-content/uploads/2022/06/Untitled-700-×-500-px-1.png
END:VEVENT
BEGIN:VEVENT
DTSTART;TZID=America/Halifax:20230110T173000
DTEND;TZID=America/Halifax:20230110T193000
DTSTAMP:20260424T235818
CREATED:20221020T172838Z
LAST-MODIFIED:20230215T202420Z
UID:10003622-1673371800-1673379000@www.lovemylibrary.ca
SUMMARY:Adult Board Games Night
DESCRIPTION:Get your game on! Come on out for an evening of board games. This is your chance to play some old favourites or learn a new one. For teens and adults. \nThis is a drop-in program. No registration is required.
URL:https://www.lovemylibrary.ca/event/adult-board-games-night-6/2023-01-10/
LOCATION:Elmsdale Library\, 15 Commerce Ct\, Elmsdale\, Nova Scotia\, Canada
CATEGORIES:Events For Adults,Events For Seniors,Events For Teens,Location: Elmsdale
ATTACH;FMTTYPE=image/png:https://www.lovemylibrary.ca/wp-content/uploads/2022/06/Untitled-700-×-500-px.png
END:VEVENT
BEGIN:VEVENT
DTSTART;TZID=America/Halifax:20230110T173000
DTEND;TZID=America/Halifax:20230110T200000
DTSTAMP:20260424T235818
CREATED:20221116T204822Z
LAST-MODIFIED:20230919T183845Z
UID:10002590-1673371800-1673380800@www.lovemylibrary.ca
SUMMARY:Heroes & Adventurers
DESCRIPTION:Role-playing game nights with extraordinary people! We provide the supplies\, you provide the imagination. No experience needed. All ages welcome! \nRegister to play by emailing: HAATruro@gmail.com Sorry\, no drop-in players at this time.
URL:https://www.lovemylibrary.ca/event/heroes-adventurers-3/2023-01-10/
LOCATION:Truro Library\, 754 Prince St\, Truro\, Nova Scotia\, Canada
CATEGORIES:Location: Truro
ATTACH;FMTTYPE=image/png:https://www.lovemylibrary.ca/wp-content/uploads/2022/06/D-and-D.png
END:VEVENT
BEGIN:VEVENT
DTSTART;TZID=America/Halifax:20230110T180000
DTEND;TZID=America/Halifax:20230110T193000
DTSTAMP:20260424T235818
CREATED:20221214T153423Z
LAST-MODIFIED:20221214T153423Z
UID:10002572-1673373600-1673379000@www.lovemylibrary.ca
SUMMARY:New Year's Intentions versus Resolutions - Start the New Year on a Positive Note
DESCRIPTION:As we head into the New Year\, you may find yourself surrounded by people talking about their New Year’s Resolutions. If you have steered away from New Year’s Resolutions in the past\, or if these conversations leave you feeling drained\, you are not alone. But why does it feel like New Year’s Resolutions are so hard to stick to\, and is there something else you can focus on instead? Instead of concentrating on what “bad” habits you want to change this year\, choose to focus on fostering the best version of yourself\, whatever that looks like. Suitable For Adults \nThis is a virual program. To register\, email info@cehpubliclibrary.ca\n 
URL:https://www.lovemylibrary.ca/event/new-years-intentions-versus-resolutions-start-the-new-year-on-a-positive-note/
LOCATION:Virtual
CATEGORIES:Events For Adults,Events For Seniors,Location: Virtual
ATTACH;FMTTYPE=image/png:https://www.lovemylibrary.ca/wp-content/uploads/2022/12/Untitled-design-56.png
END:VEVENT
BEGIN:VEVENT
DTSTART;TZID=America/Halifax:20230110T183000
DTEND;TZID=America/Halifax:20230110T193000
DTSTAMP:20260424T235818
CREATED:20221214T150320Z
LAST-MODIFIED:20230323T194656Z
UID:10002568-1673375400-1673379000@www.lovemylibrary.ca
SUMMARY:Intergenerational Book Buddies
DESCRIPTION:One on one time with seniors helps children improve their reading\, grow in confidence and create a sense of community connection and purpose.For ages 5 and up. \nTo register email:  stewiacke@cehpubliclibrary.ca or call 902 639-2481\n 
URL:https://www.lovemylibrary.ca/event/intergenerational-book-buddies-2/2023-01-10/
LOCATION:Stewiacke Library\, 295 George Street\, Stewiacke\, Nova Scotia\, Canada
CATEGORIES:Events For Adults,Events For Kids,Events For Seniors,Location: Stewiacke
ATTACH;FMTTYPE=image/png:https://www.lovemylibrary.ca/wp-content/uploads/2022/11/Untitled-design-2022-11-29T111628.045.png
END:VEVENT
BEGIN:VEVENT
DTSTART;TZID=America/Halifax:20230110T183000
DTEND;TZID=America/Halifax:20230110T193000
DTSTAMP:20260424T235818
CREATED:20221214T185354Z
LAST-MODIFIED:20221216T203105Z
UID:10002580-1673375400-1673379000@www.lovemylibrary.ca
SUMMARY:Fitness for Beginners with the RECC
DESCRIPTION:Learn how to stay fit at home and at the gym. All participants will be entered into a draw for a free 2 week all access RECC Pass! All adults are welcome. \nThis is a drop-in program. No registration is required.
URL:https://www.lovemylibrary.ca/event/fitness-for-beginners-with-the-recc-centre/
LOCATION:Truro Library\, 754 Prince St\, Truro\, Nova Scotia\, Canada
CATEGORIES:Events For Adults,Location: Truro
ATTACH;FMTTYPE=image/png:https://www.lovemylibrary.ca/wp-content/uploads/2022/12/Untitled-design-37.png
END:VEVENT
BEGIN:VEVENT
DTSTART;TZID=America/Halifax:20230110T183000
DTEND;TZID=America/Halifax:20230110T200000
DTSTAMP:20260424T235818
CREATED:20221020T193052Z
LAST-MODIFIED:20230926T211554Z
UID:10002638-1673375400-1673380800@www.lovemylibrary.ca
SUMMARY:Ewe-niacke Yarn Club
DESCRIPTION:Fiber art for all ages and abilities. Learn to knit or crochet\, bring a project you are working on\, or just come hang out with the club for some social time. All ages welcome. \nDrop in\, no registration required.
URL:https://www.lovemylibrary.ca/event/ewe-niacke-yarn-club-3/2023-01-10/
LOCATION:Mount Uniacke Library\, 555\, Highway 1\, Mount Uniacke\, Nova Scotia\, Canada
CATEGORIES:Crafting,Events For Adults,Events For Kids,Events For Seniors,Location: Mount Uniacke
ATTACH;FMTTYPE=image/png:https://www.lovemylibrary.ca/wp-content/uploads/2022/03/Untitled-design-89.png
END:VEVENT
BEGIN:VEVENT
DTSTART;TZID=America/Halifax:20230110T183000
DTEND;TZID=America/Halifax:20230110T200000
DTSTAMP:20260424T235818
CREATED:20221020T195846Z
LAST-MODIFIED:20230222T184014Z
UID:10002643-1673375400-1673380800@www.lovemylibrary.ca
SUMMARY:Seniors Learn to Knit with Ewe-niacke Yarn Club
DESCRIPTION:Want to learn to knit or crochet? Already know how\, but need a refresher? Not sure what supplies you need? We have everything you need for your first project. Hants Count Senior Safety Association is providing the supplies necessary to start your project. \nDrop in\, no registration required.
URL:https://www.lovemylibrary.ca/event/seniors-learn-to-knit-with-ewe-niacke-yarn-club-2/2023-01-10/
LOCATION:Mount Uniacke Library\, 555\, Highway 1\, Mount Uniacke\, Nova Scotia\, Canada
CATEGORIES:Events For Seniors,Location: Mount Uniacke
ATTACH;FMTTYPE=image/png:https://www.lovemylibrary.ca/wp-content/uploads/2022/04/Untitled-design-2022-04-29T171348.604.png
END:VEVENT
END:VCALENDAR