BEGIN:VCALENDAR
VERSION:2.0
PRODID:-//Colchester East Hants Public Library - ECPv6.15.20//NONSGML v1.0//EN
CALSCALE:GREGORIAN
METHOD:PUBLISH
X-WR-CALNAME:Colchester East Hants Public Library
X-ORIGINAL-URL:https://www.lovemylibrary.ca
X-WR-CALDESC:Events for Colchester East Hants Public Library
REFRESH-INTERVAL;VALUE=DURATION:PT1H
X-Robots-Tag:noindex
X-PUBLISHED-TTL:PT1H
BEGIN:VTIMEZONE
TZID:America/Halifax
BEGIN:DAYLIGHT
TZOFFSETFROM:-0400
TZOFFSETTO:-0300
TZNAME:ADT
DTSTART:20220313T060000
END:DAYLIGHT
BEGIN:STANDARD
TZOFFSETFROM:-0300
TZOFFSETTO:-0400
TZNAME:AST
DTSTART:20221106T050000
END:STANDARD
BEGIN:DAYLIGHT
TZOFFSETFROM:-0400
TZOFFSETTO:-0300
TZNAME:ADT
DTSTART:20230312T060000
END:DAYLIGHT
BEGIN:STANDARD
TZOFFSETFROM:-0300
TZOFFSETTO:-0400
TZNAME:AST
DTSTART:20231105T050000
END:STANDARD
BEGIN:DAYLIGHT
TZOFFSETFROM:-0400
TZOFFSETTO:-0300
TZNAME:ADT
DTSTART:20240310T060000
END:DAYLIGHT
BEGIN:STANDARD
TZOFFSETFROM:-0300
TZOFFSETTO:-0400
TZNAME:AST
DTSTART:20241103T050000
END:STANDARD
END:VTIMEZONE
BEGIN:VEVENT
DTSTART;VALUE=DATE:20230201
DTEND;VALUE=DATE:20230301
DTSTAMP:20260424T165840
CREATED:20230118T205032Z
LAST-MODIFIED:20230118T205032Z
UID:10002757-1675209600-1677628799@www.lovemylibrary.ca
SUMMARY:Winter Scavenger Hunt
DESCRIPTION:Come in out of the wintery weather and enjoy a scavenger hunt with the library. All ages are welcome to participate \nDrop in – call 902-883-9838 or email elmsdale@cehpubliclibrary.ca
URL:https://www.lovemylibrary.ca/event/winter-scavenger-hunt-2/
LOCATION:Elmsdale Library\, 15 Commerce Ct\, Elmsdale\, Nova Scotia\, Canada
CATEGORIES:Events For Kids,Location: Elmsdale
ATTACH;FMTTYPE=image/png:https://www.lovemylibrary.ca/wp-content/uploads/2022/06/scavenger-hunt-1.png
END:VEVENT
BEGIN:VEVENT
DTSTART;VALUE=DATE:20230201
DTEND;VALUE=DATE:20230301
DTSTAMP:20260424T165840
CREATED:20230124T150804Z
LAST-MODIFIED:20230124T150836Z
UID:10002804-1675209600-1677628799@www.lovemylibrary.ca
SUMMARY:Take Home Craft Kits
DESCRIPTION:Take-and-make craft kits contain all the supplies needed to complete the craft.  Ages 5-12. \nTo participate\, drop by and pick up your kit. No registration required.
URL:https://www.lovemylibrary.ca/event/take-home-craft-kits-7/
LOCATION:Tatamagouche Library\, 170 Main Street\, Tatamagouche\, Nova Scotia\, Canada
CATEGORIES:Events For Kids,Location: Tatamagouche
ATTACH;FMTTYPE=image/png:https://www.lovemylibrary.ca/wp-content/uploads/2022/02/Untitled-design-42.png
END:VEVENT
BEGIN:VEVENT
DTSTART;VALUE=DATE:20230201
DTEND;VALUE=DATE:20230301
DTSTAMP:20260424T165840
CREATED:20230125T183237Z
LAST-MODIFIED:20230125T183237Z
UID:10003571-1675209600-1677628799@www.lovemylibrary.ca
SUMMARY:Blind Date with a Book
DESCRIPTION:We want to set you up with the book of your dreams\, featuring books with sharp and witty profiles better than anything you’ll find on Tinder. \nBlind Date with a Book is your chance to peruse a display of discreetly wrapped books and their descriptive tags. You’re sure to find one that quickens your pulse. \nDrop in anytime during February!
URL:https://www.lovemylibrary.ca/event/blind-date-with-a-book/
LOCATION:Mount Uniacke Library\, 555\, Highway 1\, Mount Uniacke\, Nova Scotia\, Canada
CATEGORIES:Events For Adults,Events For Kids,Events For Seniors,Events For Teens,Location: Mount Uniacke
ATTACH;FMTTYPE=image/png:https://www.lovemylibrary.ca/wp-content/uploads/2023/01/Untitled-design-2023-01-25T143344.764.png
END:VEVENT
BEGIN:VEVENT
DTSTART;VALUE=DATE:20230202
DTEND;VALUE=DATE:20230301
DTSTAMP:20260424T165840
CREATED:20230119T185322Z
LAST-MODIFIED:20230119T185322Z
UID:10002802-1675296000-1677628799@www.lovemylibrary.ca
SUMMARY:Googly Eyes Scavenger Hunt
DESCRIPTION:You have heard of a photo bomb? Well\, Stewiacke library has been eye-bombed. How many pairs of googly eyes can you find? All ages are welcome to participate. \nThis is a drop in program. No registration is required.
URL:https://www.lovemylibrary.ca/event/googly-eyes-scavenger-hunt/
LOCATION:Stewiacke Library\, 295 George Street\, Stewiacke\, Nova Scotia\, Canada
CATEGORIES:Events For Kids,Location: Stewiacke
ATTACH;FMTTYPE=image/png:https://www.lovemylibrary.ca/wp-content/uploads/2021/08/Untitled-design-23.png
END:VEVENT
BEGIN:VEVENT
DTSTART;VALUE=DATE:20230202
DTEND;VALUE=DATE:20230301
DTSTAMP:20260424T165840
CREATED:20230119T200659Z
LAST-MODIFIED:20230119T200659Z
UID:10002803-1675296000-1677628799@www.lovemylibrary.ca
SUMMARY:NS Heritage 3D Museum Tours
DESCRIPTION:We will have dedicated stations for people to come in and tour these museums virtually. A collection of immersive 360 degree tours of popular heritage and culture sites that feature Canadian history developed by the Black Cultural Centre for Nova Scotia along with content 3D scanning developer Smarter Spaces. This project will provide a greater understanding of our diverse heritage as Canadians. For ages 8-99 \nThis is an in person program. No registration is required.
URL:https://www.lovemylibrary.ca/event/ns-heritage-3d-museum-tours/
LOCATION:Stewiacke Library\, 295 George Street\, Stewiacke\, Nova Scotia\, Canada
CATEGORIES:Events For Adults,Events For Kids,Events For Seniors,Location: Stewiacke
ATTACH;FMTTYPE=image/png:https://www.lovemylibrary.ca/wp-content/uploads/2023/01/Untitled-design-65.png
END:VEVENT
BEGIN:VEVENT
DTSTART;VALUE=DATE:20230202
DTEND;VALUE=DATE:20230430
DTSTAMP:20260424T165840
CREATED:20221018T154842Z
LAST-MODIFIED:20230324T181958Z
UID:10001718-1675296000-1682812799@www.lovemylibrary.ca
SUMMARY:Take Home Craft Kits
DESCRIPTION:Kits change on a weekly basis and contain all supplies needed to complete the craft. Suitable For Preschool and early elementary children. \nThis is a drop-in program. No registration is required.
URL:https://www.lovemylibrary.ca/event/take-home-craft-kits-4/
LOCATION:Stewiacke Library\, 295 George Street\, Stewiacke\, Nova Scotia\, Canada
CATEGORIES:Crafting,Events For Kids,Location: Stewiacke
ATTACH;FMTTYPE=image/png:https://www.lovemylibrary.ca/wp-content/uploads/2022/03/Untitled-design-57.png
END:VEVENT
BEGIN:VEVENT
DTSTART;TZID=America/Halifax:20230224T100000
DTEND;TZID=America/Halifax:20230224T120000
DTSTAMP:20260424T165840
CREATED:20230124T151451Z
LAST-MODIFIED:20230124T153215Z
UID:10002821-1677232800-1677240000@www.lovemylibrary.ca
SUMMARY:One on One Tech Help
DESCRIPTION:Issues with your phone? Laptop? Social Media? Meet in-person with our digital literacy trainer to get your tech questions answered. \nPlease call 902-657-3064 or email tatamago@cehpubliclibrary.ca to book an appointment.
URL:https://www.lovemylibrary.ca/event/one-on-one-tech-help-8/2023-02-24/
LOCATION:Tatamagouche Library\, 170 Main Street\, Tatamagouche\, Nova Scotia\, Canada
CATEGORIES:Events For Adults,Events For Seniors,Location: Tatamagouche
ATTACH;FMTTYPE=image/png:https://www.lovemylibrary.ca/wp-content/uploads/2022/03/Untitled-design-80.png
END:VEVENT
BEGIN:VEVENT
DTSTART;TZID=America/Halifax:20230224T100000
DTEND;TZID=America/Halifax:20230224T120000
DTSTAMP:20260424T165840
CREATED:20230215T201212Z
LAST-MODIFIED:20231214T201545Z
UID:10002717-1677232800-1677240000@www.lovemylibrary.ca
SUMMARY:One on One Tech Help
DESCRIPTION:Issues with your phone? Laptop? Social Media? Meet in-person with our digital literacy trainer to get your tech questions answered. \nPlease call 902-883-9838 or email at elmsdale@cehpubliclibrary.ca to book an appointment
URL:https://www.lovemylibrary.ca/event/one-on-one-tech-help-7-2/2023-02-24/
LOCATION:Elmsdale Library\, 15 Commerce Ct\, Elmsdale\, Nova Scotia\, Canada
CATEGORIES:Events For Adults,Location: Elmsdale
ATTACH;FMTTYPE=image/png:https://www.lovemylibrary.ca/wp-content/uploads/2022/03/Untitled-design-80.png
END:VEVENT
BEGIN:VEVENT
DTSTART;TZID=America/Halifax:20230224T100000
DTEND;TZID=America/Halifax:20230224T163000
DTSTAMP:20260424T165840
CREATED:20221118T205519Z
LAST-MODIFIED:20230524T173127Z
UID:10002776-1677232800-1677256200@www.lovemylibrary.ca
SUMMARY:Employment Services
DESCRIPTION:Need help getting hired or promoted? Learn to communicate your value and skills. Valerie Manuel\, Career Practitoner with Nova Scotia Works and YMCA of Greater Halifax/Dartmouth will be available to assist you. For ages 16+ \nDrop In or register at valerie.manuel@halifax.ymca.ca
URL:https://www.lovemylibrary.ca/event/employment-services/2023-02-24/
LOCATION:Stewiacke Library\, 295 George Street\, Stewiacke\, Nova Scotia\, Canada
CATEGORIES:Events For Adults,Events For Teens,Location: Stewiacke
ATTACH;FMTTYPE=image/png:https://www.lovemylibrary.ca/wp-content/uploads/2022/10/Untitled-design-49.png
END:VEVENT
BEGIN:VEVENT
DTSTART;TZID=America/Halifax:20230224T103000
DTEND;TZID=America/Halifax:20230224T110000
DTSTAMP:20260424T165840
CREATED:20221214T145032Z
LAST-MODIFIED:20230524T172910Z
UID:10002765-1677234600-1677236400@www.lovemylibrary.ca
SUMMARY:Picture Book Junction
DESCRIPTION:Fun and Interactive! Share the magic of stories\, songs and crafts. Suitable For 3-5 years old with a caregiver. \nThis is a drop in program. No registration is necessary.\n 
URL:https://www.lovemylibrary.ca/event/picture-book-junction-6/2023-02-24/
LOCATION:Stewiacke Library\, 295 George Street\, Stewiacke\, Nova Scotia\, Canada
CATEGORIES:Events For Kids,Location: Stewiacke
ATTACH;FMTTYPE=image/png:https://www.lovemylibrary.ca/wp-content/uploads/2022/03/Untitled-design-81.png
END:VEVENT
BEGIN:VEVENT
DTSTART;TZID=America/Halifax:20230224T130000
DTEND;TZID=America/Halifax:20230224T143000
DTSTAMP:20260424T165840
CREATED:20221214T172558Z
LAST-MODIFIED:20230524T173333Z
UID:10003712-1677243600-1677249000@www.lovemylibrary.ca
SUMMARY:Scrabble Squad
DESCRIPTION:What spells F-U-N? Playing Scrabble with friends. All adults welcome. \nThis is a drop-in program. No registration is required.
URL:https://www.lovemylibrary.ca/event/scrabble-squad/2023-02-24/
LOCATION:Stewiacke Library\, 295 George Street\, Stewiacke\, Nova Scotia\, Canada
CATEGORIES:Events For Adults,Events For Seniors,Location: Stewiacke
ATTACH;FMTTYPE=image/png:https://www.lovemylibrary.ca/wp-content/uploads/2022/05/Add-a-subheading-700-×-500-px-3.png
END:VEVENT
BEGIN:VEVENT
DTSTART;TZID=America/Halifax:20230224T140000
DTEND;TZID=America/Halifax:20230224T150000
DTSTAMP:20260424T165840
CREATED:20221018T154438Z
LAST-MODIFIED:20230524T173018Z
UID:10002771-1677247200-1677250800@www.lovemylibrary.ca
SUMMARY:Walking Club
DESCRIPTION:Mind your distance! Strava will map our walk\, record distance and provide a satellite image.Meet at the library at 2 and enjoy a walk around town. All adults welcome. \nThis is a drop-in program. No registration is required.
URL:https://www.lovemylibrary.ca/event/walking-club-5/2023-02-24/
LOCATION:Stewiacke Library\, 295 George Street\, Stewiacke\, Nova Scotia\, Canada
CATEGORIES:Events For Adults,Events For Seniors,Location: Stewiacke
ATTACH;FMTTYPE=image/png:https://www.lovemylibrary.ca/wp-content/uploads/2022/05/Untitled-design-2022-05-02T165147.740.png
END:VEVENT
BEGIN:VEVENT
DTSTART;TZID=America/Halifax:20230224T140000
DTEND;TZID=America/Halifax:20230224T150000
DTSTAMP:20260424T165840
CREATED:20221220T231218Z
LAST-MODIFIED:20230525T163330Z
UID:10003551-1677247200-1677250800@www.lovemylibrary.ca
SUMMARY:Homework Hangout
DESCRIPTION:Time to unwind\, get your homework done\, and hangout with your friends.  For ages 8-15. \nThis is a drop-in program. No registration is required.
URL:https://www.lovemylibrary.ca/event/homework-hangout-2/2023-02-24/
LOCATION:Mount Uniacke Library\, 555\, Highway 1\, Mount Uniacke\, Nova Scotia\, Canada
CATEGORIES:Events For Kids,Events For Teens,Location: Mount Uniacke
ATTACH;FMTTYPE=image/png:https://www.lovemylibrary.ca/wp-content/uploads/2022/03/Untitled-design-91.png
END:VEVENT
BEGIN:VEVENT
DTSTART;TZID=America/Halifax:20230224T150000
DTEND;TZID=America/Halifax:20230224T170000
DTSTAMP:20260424T165840
CREATED:20220826T181531Z
LAST-MODIFIED:20230124T194621Z
UID:10003449-1677250800-1677258000@www.lovemylibrary.ca
SUMMARY:David's Book Discussion
DESCRIPTION:Everyone is invited to come\, sit\, and chat about the book of the month! In February we’re reading: Girls Like Us by Cristina Alger. \nRegister by calling 902-895-4183 or emailing info@cehpubliclibrary.ca. Expect a follow up email from Library staff to make arrangements for print copies.
URL:https://www.lovemylibrary.ca/event/davids-book-discussion-2/2023-02-24/
LOCATION:Truro Library\, 754 Prince St\, Truro\, Nova Scotia\, Canada
CATEGORIES:Events For Adults,Events For Seniors,Location: Truro
ATTACH;FMTTYPE=image/png:https://www.lovemylibrary.ca/wp-content/uploads/2022/05/Add-a-subheading-700-×-500-px-2.png
END:VEVENT
BEGIN:VEVENT
DTSTART;TZID=America/Halifax:20230224T150000
DTEND;TZID=America/Halifax:20230224T170000
DTSTAMP:20260424T165840
CREATED:20240221T224333Z
LAST-MODIFIED:20240221T224333Z
UID:10007387-1677250800-1677258000@www.lovemylibrary.ca
SUMMARY:David's Book Discussion
DESCRIPTION:Everyone is invited to come\, sit and chat about the book of the month! In March we’re reading: The Night Watchman by Louise Erdich \nRegister by calling 902-895-4183 or emailing info@cehpubliclibrary.ca. Expect a follow up email from Library staff to make arrangements for print copies.
URL:https://www.lovemylibrary.ca/event/davids-book-discussion-8/2023-02-24/
LOCATION:Truro Library\, 754 Prince St\, Truro\, Nova Scotia\, Canada
CATEGORIES:Events For Adults,Events For Seniors,Location: Truro
ATTACH;FMTTYPE=image/png:https://www.lovemylibrary.ca/wp-content/uploads/2022/05/Add-a-subheading-700-×-500-px-2.png
END:VEVENT
END:VCALENDAR