BEGIN:VCALENDAR
VERSION:2.0
PRODID:-//Colchester East Hants Public Library - ECPv6.15.20//NONSGML v1.0//EN
CALSCALE:GREGORIAN
METHOD:PUBLISH
X-WR-CALNAME:Colchester East Hants Public Library
X-ORIGINAL-URL:https://www.lovemylibrary.ca
X-WR-CALDESC:Events for Colchester East Hants Public Library
REFRESH-INTERVAL;VALUE=DURATION:PT1H
X-Robots-Tag:noindex
X-PUBLISHED-TTL:PT1H
BEGIN:VTIMEZONE
TZID:America/Halifax
BEGIN:DAYLIGHT
TZOFFSETFROM:-0400
TZOFFSETTO:-0300
TZNAME:ADT
DTSTART:20220313T060000
END:DAYLIGHT
BEGIN:STANDARD
TZOFFSETFROM:-0300
TZOFFSETTO:-0400
TZNAME:AST
DTSTART:20221106T050000
END:STANDARD
BEGIN:DAYLIGHT
TZOFFSETFROM:-0400
TZOFFSETTO:-0300
TZNAME:ADT
DTSTART:20230312T060000
END:DAYLIGHT
BEGIN:STANDARD
TZOFFSETFROM:-0300
TZOFFSETTO:-0400
TZNAME:AST
DTSTART:20231105T050000
END:STANDARD
BEGIN:DAYLIGHT
TZOFFSETFROM:-0400
TZOFFSETTO:-0300
TZNAME:ADT
DTSTART:20240310T060000
END:DAYLIGHT
BEGIN:STANDARD
TZOFFSETFROM:-0300
TZOFFSETTO:-0400
TZNAME:AST
DTSTART:20241103T050000
END:STANDARD
END:VTIMEZONE
BEGIN:VEVENT
DTSTART;VALUE=DATE:20230301
DTEND;VALUE=DATE:20230601
DTSTAMP:20260423T124459
CREATED:20221222T145501Z
LAST-MODIFIED:20230426T173012Z
UID:10002662-1677628800-1685577599@www.lovemylibrary.ca
SUMMARY:Creatures Big and Small Scavenger Hunt
DESCRIPTION:Enjoy a scavenger hunt with the library.  All ages are welcome to participate. \nThis is a drop-in program. No registration is required.
URL:https://www.lovemylibrary.ca/event/winter-scavenger-hunt/
LOCATION:Tatamagouche Library\, 170 Main Street\, Tatamagouche\, Nova Scotia\, Canada
CATEGORIES:Events For Kids,Location: Tatamagouche
ATTACH;FMTTYPE=image/png:https://www.lovemylibrary.ca/wp-content/uploads/2022/06/scavenger-hunt-1.png
END:VEVENT
BEGIN:VEVENT
DTSTART;VALUE=DATE:20230401
DTEND;VALUE=DATE:20230701
DTSTAMP:20260423T124459
CREATED:20230222T190032Z
LAST-MODIFIED:20230525T172021Z
UID:10003806-1680307200-1688169599@www.lovemylibrary.ca
SUMMARY:June Take and Makes (preschool)
DESCRIPTION:Drop by for a craft to do at home with your little. All supplies are provided to make a fun project. (while supplies last) For ages 2-5 \nThis is a drop-in program. No registration is required.
URL:https://www.lovemylibrary.ca/event/march-take-and-makes-preschool/
LOCATION:Mount Uniacke Library\, 555\, Highway 1\, Mount Uniacke\, Nova Scotia\, Canada
CATEGORIES:Crafting,Events For Kids,Location: Mount Uniacke
ATTACH;FMTTYPE=image/png:https://www.lovemylibrary.ca/wp-content/uploads/2022/03/Untitled-design-57.png
END:VEVENT
BEGIN:VEVENT
DTSTART;VALUE=DATE:20230401
DTEND;VALUE=DATE:20230701
DTSTAMP:20260423T124459
CREATED:20230222T190308Z
LAST-MODIFIED:20230525T172129Z
UID:10003807-1680307200-1688169599@www.lovemylibrary.ca
SUMMARY:June Take and Makes (school age)
DESCRIPTION:Monthly take and make for school age kids. Pick up in June and take home for something to do when you are bored. (while supplies last) For ages 6-12 \nThis is a drop in program. No registration is required.
URL:https://www.lovemylibrary.ca/event/march-take-and-makes-school-age/
LOCATION:Mount Uniacke Library\, 555\, Highway 1\, Mount Uniacke\, Nova Scotia\, Canada
CATEGORIES:Crafting,Events For Kids,Location: Mount Uniacke
ATTACH;FMTTYPE=image/png:https://www.lovemylibrary.ca/wp-content/uploads/2022/03/Untitled-design-57.png
END:VEVENT
BEGIN:VEVENT
DTSTART;VALUE=DATE:20230501
DTEND;VALUE=DATE:20230601
DTSTAMP:20260423T124459
CREATED:20230421T174615Z
LAST-MODIFIED:20230421T174615Z
UID:10004112-1682899200-1685577599@www.lovemylibrary.ca
SUMMARY:Spring May Flowers Scavenger Hunt
DESCRIPTION:Spring has sprung with flowers. Let’s celebrate with a scavenger hunt. All ages are welcome to participate. \nDrop in – Please call 902-883-9838 or email us at elmsdale@cehpubliclibrary.ca
URL:https://www.lovemylibrary.ca/event/spring-may-flowers-scavenger-hunt/
LOCATION:Elmsdale Library\, 15 Commerce Ct\, Elmsdale\, Nova Scotia\, Canada
CATEGORIES:Events For Kids,Location: Elmsdale
ATTACH;FMTTYPE=image/png:https://www.lovemylibrary.ca/wp-content/uploads/2022/06/scavenger-hunt-1.png
END:VEVENT
BEGIN:VEVENT
DTSTART;VALUE=DATE:20230501
DTEND;VALUE=DATE:20230601
DTSTAMP:20260423T124459
CREATED:20230421T184331Z
LAST-MODIFIED:20230421T184331Z
UID:10004119-1682899200-1685577599@www.lovemylibrary.ca
SUMMARY:Shelf Care Bingo
DESCRIPTION:Give yourself some shelf care! Take home your Shelf Care Bingo Sheet from your local library and combine reading with self-care. Complete the challenge by getting five in a row and be entered into a draw for a $25 Indigo Card!  All ages may participate. \nPick up your shelf care challenge and complete it by the end of May to be entered into the draw.\n 
URL:https://www.lovemylibrary.ca/event/shelf-care-bingo-2/
LOCATION:Truro Library\, 754 Prince St\, Truro\, Nova Scotia\, Canada
CATEGORIES:Location: Elmsdale,Location: Kennetcook,Location: Middle Stewiacke,Location: Mount Uniacke,Location: Stewiacke,Location: Tatamagouche,Location: Truro
ATTACH;FMTTYPE=image/png:https://www.lovemylibrary.ca/wp-content/uploads/2023/04/Untitled-design-32.png
END:VEVENT
BEGIN:VEVENT
DTSTART;VALUE=DATE:20230502
DTEND;VALUE=DATE:20230601
DTSTAMP:20260423T124459
CREATED:20230422T193721Z
LAST-MODIFIED:20230422T193721Z
UID:10004151-1682985600-1685577599@www.lovemylibrary.ca
SUMMARY:Sneaker Scavenger Hunt
DESCRIPTION:We will join our neighbours “across the pond” as they celebrate National Walking Month. Find all the sneakers hidden around the library. All ages are welcome \nThis is a drop-in program. No registration is required.
URL:https://www.lovemylibrary.ca/event/sneaker-scavenger-hunt/
LOCATION:Stewiacke Library\, 295 George Street\, Stewiacke\, Nova Scotia\, Canada
CATEGORIES:Events For Kids,Location: Stewiacke
ATTACH;FMTTYPE=image/png:https://www.lovemylibrary.ca/wp-content/uploads/2021/08/Untitled-design-23.png
END:VEVENT
BEGIN:VEVENT
DTSTART;VALUE=DATE:20230502
DTEND;VALUE=DATE:20230701
DTSTAMP:20260423T124459
CREATED:20221021T181049Z
LAST-MODIFIED:20230525T144814Z
UID:10002262-1682985600-1688169599@www.lovemylibrary.ca
SUMMARY:Take Home Craft Kits
DESCRIPTION:Kits change on a weekly basis and contain all supplies needed to complete the craft. . For preschool and early elementary kids. \nDrop In: No registration necessary
URL:https://www.lovemylibrary.ca/event/take-home-craft-kits-5/
LOCATION:Stewiacke Library\, 295 George Street\, Stewiacke\, Nova Scotia\, Canada
CATEGORIES:Events For Kids,Location: Stewiacke
ATTACH;FMTTYPE=image/png:https://www.lovemylibrary.ca/wp-content/uploads/2022/03/Untitled-design-57.png
END:VEVENT
BEGIN:VEVENT
DTSTART;TZID=America/Halifax:20230503T103000
DTEND;TZID=America/Halifax:20230503T110000
DTSTAMP:20260423T124459
CREATED:20221220T230021Z
LAST-MODIFIED:20230525T163111Z
UID:10004152-1683109800-1683111600@www.lovemylibrary.ca
SUMMARY:Storytime
DESCRIPTION:Enjoy a picture book read by Karri or Bernie and then participate in an activity. For pre schoolers and home schoolers. \nThis is a drop-in program. No registration is required.
URL:https://www.lovemylibrary.ca/event/storytime-4-2/2023-05-03/
LOCATION:Mount Uniacke Library\, 555\, Highway 1\, Mount Uniacke\, Nova Scotia\, Canada
CATEGORIES:Events For Kids,Location: Mount Uniacke
ATTACH;FMTTYPE=image/png:https://www.lovemylibrary.ca/wp-content/uploads/2022/05/Untitled-design-2.png
END:VEVENT
BEGIN:VEVENT
DTSTART;TZID=America/Halifax:20230503T103000
DTEND;TZID=America/Halifax:20230503T113000
DTSTAMP:20260423T124459
CREATED:20230422T185640Z
LAST-MODIFIED:20230512T183739Z
UID:10004125-1683109800-1683113400@www.lovemylibrary.ca
SUMMARY:Seniors Social Time
DESCRIPTION:Interested in getting out regularly and meeting some new folks? Our bi-weekly seniors craft and social time is open to all. \nThis is a drop-in program. No registration is required.
URL:https://www.lovemylibrary.ca/event/seniors-social-time/2023-05-03/
LOCATION:Truro Library\, 754 Prince St\, Truro\, Nova Scotia\, Canada
CATEGORIES:Events For Seniors,Location: Truro
ATTACH;FMTTYPE=image/png:https://www.lovemylibrary.ca/wp-content/uploads/2022/08/Untitled-design-6.png
END:VEVENT
BEGIN:VEVENT
DTSTART;TZID=America/Halifax:20230503T103000
DTEND;TZID=America/Halifax:20230503T113000
DTSTAMP:20260423T124459
CREATED:20230426T165612Z
LAST-MODIFIED:20230525T180140Z
UID:10004007-1683109800-1683113400@www.lovemylibrary.ca
SUMMARY:Parents and Tots Social Time
DESCRIPTION:Join us for story time\, songs and social time. For ages 0-3. \nDrop-in\, no registration required.
URL:https://www.lovemylibrary.ca/event/tots-and-moms-social-time-3-2/2023-05-03/
LOCATION:Tatamagouche Library\, 170 Main Street\, Tatamagouche\, Nova Scotia\, Canada
CATEGORIES:Events For Kids,Location: Tatamagouche
ATTACH;FMTTYPE=image/png:https://www.lovemylibrary.ca/wp-content/uploads/2022/03/Untitled-design-75.png
END:VEVENT
BEGIN:VEVENT
DTSTART;TZID=America/Halifax:20230503T104500
DTEND;TZID=America/Halifax:20230503T114500
DTSTAMP:20260423T124459
CREATED:20230412T173210Z
LAST-MODIFIED:20230412T173210Z
UID:10004063-1683110700-1683114300@www.lovemylibrary.ca
SUMMARY:Marty Chan: Folktales and Furry Tails (Virtual Visit)
DESCRIPTION:Marty Chan combines storytelling\, technical magic\, and audience participation to bring Chinese folktales to life. He’ll share the legend of the first rainbow and how it was created and then invite you to become one of the characters in the story. He’ll also reveal the real-life cats who inspired his picture book\, True Story\, and share the creative process with some behind-the scenes images of the illustrations in progress.\nFor Grades K-3. \nTo register: email info@cehpubliclibrary.ca You will receive a follow-up email with the Zoom link.
URL:https://www.lovemylibrary.ca/event/marty-chan-folktales-and-furry-tails-virtual-visit/
LOCATION:Virtual
CATEGORIES:Events For Kids,Location: Virtual
ATTACH;FMTTYPE=image/png:https://www.lovemylibrary.ca/wp-content/uploads/2023/04/Untitled-design-58.png
END:VEVENT
BEGIN:VEVENT
DTSTART;TZID=America/Halifax:20230503T111500
DTEND;TZID=America/Halifax:20230503T121500
DTSTAMP:20260423T124459
CREATED:20230328T215926Z
LAST-MODIFIED:20230628T142802Z
UID:10004181-1683112500-1683116100@www.lovemylibrary.ca
SUMMARY:Baby Time
DESCRIPTION:Want to spend some time with new parents? Have your baby interact with other babies? Get support from other new parents in a laid back\, casual space. \nThis is a drop-in program.
URL:https://www.lovemylibrary.ca/event/baby-time/2023-05-03/
LOCATION:Mount Uniacke Library\, 555\, Highway 1\, Mount Uniacke\, Nova Scotia\, Canada
CATEGORIES:Events For Adults,Events For Kids,Location: Mount Uniacke
ATTACH;FMTTYPE=image/png:https://www.lovemylibrary.ca/wp-content/uploads/2023/03/Untitled-design-53.png
END:VEVENT
BEGIN:VEVENT
DTSTART;TZID=America/Halifax:20230503T130000
DTEND;TZID=America/Halifax:20230503T150000
DTSTAMP:20260423T124459
CREATED:20230218T202830Z
LAST-MODIFIED:20230919T161657Z
UID:10004128-1683118800-1683126000@www.lovemylibrary.ca
SUMMARY:Makers in the Maker Lab
DESCRIPTION:Calling all Makers! Drop by for a relaxing afternoon to hang out with fellow crafters. Bring along your ongoing projects like knitting\, crochet\, needlework\, painting or other hands on crafts. For adults \nThis is a drop in program. No registration is required.\n 
URL:https://www.lovemylibrary.ca/event/makers-in-the-maker-lab-2/2023-05-03/
LOCATION:Truro Library\, 754 Prince St\, Truro\, Nova Scotia\, Canada
CATEGORIES:Crafting,Events For Adults,Location: Truro
ATTACH;FMTTYPE=image/png:https://www.lovemylibrary.ca/wp-content/uploads/2023/01/Untitled-design-2023-01-24T155257.327.png
END:VEVENT
BEGIN:VEVENT
DTSTART;TZID=America/Halifax:20230503T133000
DTEND;TZID=America/Halifax:20230503T143000
DTSTAMP:20260423T124459
CREATED:20230412T173957Z
LAST-MODIFIED:20230412T175033Z
UID:10004064-1683120600-1683124200@www.lovemylibrary.ca
SUMMARY:Author Sadé Smith Workshop (Virtual Visit)
DESCRIPTION:You will hear more about Sadé’s background and the inspiration for her book\, Granny’s Kitchen\, before learning about the Shelly-Ann doll. You will enjoy exploring topics about Jamaican Culture\, such as family\, food\, and language\, while engaging children in their own experiences of Jamaica.\nFor Grades K-3. \nTo register: email info@cehpubliclibrary.ca  You will receive a follow-up email with the Zoom link.
URL:https://www.lovemylibrary.ca/event/author-sade-smith-workshop-virtual-visit/
LOCATION:Virtual
CATEGORIES:Events For Kids,Location: Virtual
ATTACH;FMTTYPE=image/png:https://www.lovemylibrary.ca/wp-content/uploads/2023/04/Untitled-design-59.png
END:VEVENT
BEGIN:VEVENT
DTSTART;TZID=America/Halifax:20230503T143000
DTEND;TZID=America/Halifax:20230503T190000
DTSTAMP:20260423T124459
CREATED:20210830T143625Z
LAST-MODIFIED:20231213T140902Z
UID:10002706-1683124200-1683140400@www.lovemylibrary.ca
SUMMARY:Satellite Library Visit: Kennetcook Fire Hall
DESCRIPTION:Meet us at the Kennetcook Fire Hall where you can browse and borrow materials\, sign up for a Library card\, and hear about our upcoming programs! \n 
URL:https://www.lovemylibrary.ca/event/satellite-library-visit-kennetcook-fire-hall/2023-05-03/
LOCATION:Kennetcook Fire Hall\, 32 Martin Walsh Road\, Kennetcook\, Nova Scotia\, Canada
CATEGORIES:Events For Adults,Events For Kids,Events For Seniors,Events For Teens,Location: Kennetcook
ATTACH;FMTTYPE=image/jpeg:https://www.lovemylibrary.ca/wp-content/uploads/2021/08/16.jpg
END:VEVENT
BEGIN:VEVENT
DTSTART;TZID=America/Halifax:20230503T183000
DTEND;TZID=America/Halifax:20230503T193000
DTSTAMP:20260423T124459
CREATED:20230428T163654Z
LAST-MODIFIED:20230428T163654Z
UID:10004251-1683138600-1683142200@www.lovemylibrary.ca
SUMMARY:May the Fourth Be With You
DESCRIPTION:Celebrate Star Wars Day at the library with trivia\, crafts\, and more. Costumes are welcome and prizes will be up for grabs!  Ages 13-18 \nThis is a drop in program. No registration is required
URL:https://www.lovemylibrary.ca/event/may-the-fourth-be-with-you/
LOCATION:Truro Library\, 754 Prince St\, Truro\, Nova Scotia\, Canada
CATEGORIES:Events For Teens,Location: Truro
ATTACH;FMTTYPE=image/png:https://www.lovemylibrary.ca/wp-content/uploads/2023/04/Untitled-design-38.png
END:VEVENT
END:VCALENDAR