BEGIN:VCALENDAR
VERSION:2.0
PRODID:-//Colchester East Hants Public Library - ECPv6.15.20//NONSGML v1.0//EN
CALSCALE:GREGORIAN
METHOD:PUBLISH
X-WR-CALNAME:Colchester East Hants Public Library
X-ORIGINAL-URL:https://www.lovemylibrary.ca
X-WR-CALDESC:Events for Colchester East Hants Public Library
REFRESH-INTERVAL;VALUE=DURATION:PT1H
X-Robots-Tag:noindex
X-PUBLISHED-TTL:PT1H
BEGIN:VTIMEZONE
TZID:America/Halifax
BEGIN:DAYLIGHT
TZOFFSETFROM:-0400
TZOFFSETTO:-0300
TZNAME:ADT
DTSTART:20220313T060000
END:DAYLIGHT
BEGIN:STANDARD
TZOFFSETFROM:-0300
TZOFFSETTO:-0400
TZNAME:AST
DTSTART:20221106T050000
END:STANDARD
BEGIN:DAYLIGHT
TZOFFSETFROM:-0400
TZOFFSETTO:-0300
TZNAME:ADT
DTSTART:20230312T060000
END:DAYLIGHT
BEGIN:STANDARD
TZOFFSETFROM:-0300
TZOFFSETTO:-0400
TZNAME:AST
DTSTART:20231105T050000
END:STANDARD
BEGIN:DAYLIGHT
TZOFFSETFROM:-0400
TZOFFSETTO:-0300
TZNAME:ADT
DTSTART:20240310T060000
END:DAYLIGHT
BEGIN:STANDARD
TZOFFSETFROM:-0300
TZOFFSETTO:-0400
TZNAME:AST
DTSTART:20241103T050000
END:STANDARD
END:VTIMEZONE
BEGIN:VEVENT
DTSTART;VALUE=DATE:20230401
DTEND;VALUE=DATE:20230701
DTSTAMP:20260421T130724
CREATED:20230222T190032Z
LAST-MODIFIED:20230525T172021Z
UID:10003806-1680307200-1688169599@www.lovemylibrary.ca
SUMMARY:June Take and Makes (preschool)
DESCRIPTION:Drop by for a craft to do at home with your little. All supplies are provided to make a fun project. (while supplies last) For ages 2-5 \nThis is a drop-in program. No registration is required.
URL:https://www.lovemylibrary.ca/event/march-take-and-makes-preschool/
LOCATION:Mount Uniacke Library\, 555\, Highway 1\, Mount Uniacke\, Nova Scotia\, Canada
CATEGORIES:Crafting,Events For Kids,Location: Mount Uniacke
ATTACH;FMTTYPE=image/png:https://www.lovemylibrary.ca/wp-content/uploads/2022/03/Untitled-design-57.png
END:VEVENT
BEGIN:VEVENT
DTSTART;VALUE=DATE:20230401
DTEND;VALUE=DATE:20230701
DTSTAMP:20260421T130724
CREATED:20230222T190308Z
LAST-MODIFIED:20230525T172129Z
UID:10003807-1680307200-1688169599@www.lovemylibrary.ca
SUMMARY:June Take and Makes (school age)
DESCRIPTION:Monthly take and make for school age kids. Pick up in June and take home for something to do when you are bored. (while supplies last) For ages 6-12 \nThis is a drop in program. No registration is required.
URL:https://www.lovemylibrary.ca/event/march-take-and-makes-school-age/
LOCATION:Mount Uniacke Library\, 555\, Highway 1\, Mount Uniacke\, Nova Scotia\, Canada
CATEGORIES:Crafting,Events For Kids,Location: Mount Uniacke
ATTACH;FMTTYPE=image/png:https://www.lovemylibrary.ca/wp-content/uploads/2022/03/Untitled-design-57.png
END:VEVENT
BEGIN:VEVENT
DTSTART;VALUE=DATE:20230502
DTEND;VALUE=DATE:20230701
DTSTAMP:20260421T130724
CREATED:20221021T181049Z
LAST-MODIFIED:20230525T144814Z
UID:10002262-1682985600-1688169599@www.lovemylibrary.ca
SUMMARY:Take Home Craft Kits
DESCRIPTION:Kits change on a weekly basis and contain all supplies needed to complete the craft. . For preschool and early elementary kids. \nDrop In: No registration necessary
URL:https://www.lovemylibrary.ca/event/take-home-craft-kits-5/
LOCATION:Stewiacke Library\, 295 George Street\, Stewiacke\, Nova Scotia\, Canada
CATEGORIES:Events For Kids,Location: Stewiacke
ATTACH;FMTTYPE=image/png:https://www.lovemylibrary.ca/wp-content/uploads/2022/03/Untitled-design-57.png
END:VEVENT
BEGIN:VEVENT
DTSTART;VALUE=DATE:20230504
DTEND;VALUE=DATE:20230621
DTSTAMP:20260421T130724
CREATED:20230421T184619Z
LAST-MODIFIED:20230421T184619Z
UID:10004120-1683158400-1687305599@www.lovemylibrary.ca
SUMMARY:The Attic Painters: Captured Moments art exhibit
DESCRIPTION:A captivating group art exhibit from the Attic Painters will be running through May and June at the Truro Library. The Attic Painters will be on site to talk with you about their art and the inspiration behind the exhibit on Saturday\, May 13 @2-4pm. \nThis is a drop-in program. No registration is required.\n 
URL:https://www.lovemylibrary.ca/event/the-attic-painters-captured-moments-art-exhibit/
LOCATION:Truro Library\, 754 Prince St\, Truro\, Nova Scotia\, Canada
CATEGORIES:Events For Adults,Events For Kids,Events For Seniors,Location: Truro
ATTACH;FMTTYPE=image/png:https://www.lovemylibrary.ca/wp-content/uploads/2023/04/Untitled-design-33.png
END:VEVENT
BEGIN:VEVENT
DTSTART;VALUE=DATE:20230601
DTEND;VALUE=DATE:20230701
DTSTAMP:20260421T130724
CREATED:20221229T195157Z
LAST-MODIFIED:20230529T175714Z
UID:10002693-1685577600-1688169599@www.lovemylibrary.ca
SUMMARY:Celebrate You! Scavenger Hunt
DESCRIPTION:Drop by your library during the month of June to search for hidden images of all kinds of different people!. All ages are welcome to participate. \nThis is a drop-in program.
URL:https://www.lovemylibrary.ca/event/polar-bear-scavenger-hunt/
LOCATION:Truro Library\, 754 Prince St\, Truro\, Nova Scotia\, Canada
CATEGORIES:Events For Kids,Location: Truro
ATTACH;FMTTYPE=image/png:https://www.lovemylibrary.ca/wp-content/uploads/2022/05/Untitled-design-23.png
END:VEVENT
BEGIN:VEVENT
DTSTART;VALUE=DATE:20230601
DTEND;VALUE=DATE:20230701
DTSTAMP:20260421T130724
CREATED:20230331T180053Z
LAST-MODIFIED:20230529T175504Z
UID:10004047-1685577600-1688169599@www.lovemylibrary.ca
SUMMARY:Take-and-Make Craft
DESCRIPTION:Pick up the supplies to make an adorable pine cone animal.  All ages are welcome to participate. While supplies last. \nThis is a drop in program.
URL:https://www.lovemylibrary.ca/event/take-and-make-craft/
LOCATION:Truro Library\, 754 Prince St\, Truro\, Nova Scotia\, Canada
CATEGORIES:Crafting,Events For Kids,Location: Truro
ATTACH;FMTTYPE=image/png:https://www.lovemylibrary.ca/wp-content/uploads/2022/03/Untitled-design-57.png
END:VEVENT
BEGIN:VEVENT
DTSTART;VALUE=DATE:20230601
DTEND;VALUE=DATE:20230701
DTSTAMP:20260421T130724
CREATED:20230524T170846Z
LAST-MODIFIED:20230524T170846Z
UID:10004295-1685577600-1688169599@www.lovemylibrary.ca
SUMMARY:Dinosaur Scavenger Hunt
DESCRIPTION:What’s your favourite dinosaur? Help us find it with a scavenger hunt. All ages are welcome \nDrop in – Please call 902-883-9838 or email us at elmsdale@cehpubliclibrary.ca
URL:https://www.lovemylibrary.ca/event/dinosaur-scavenger-hunt/
LOCATION:Elmsdale Library\, 15 Commerce Ct\, Elmsdale\, Nova Scotia\, Canada
CATEGORIES:Events For Kids,Location: Elmsdale
ATTACH;FMTTYPE=image/png:https://www.lovemylibrary.ca/wp-content/uploads/2022/05/Untitled-design-23.png
END:VEVENT
BEGIN:VEVENT
DTSTART;VALUE=DATE:20230601
DTEND;VALUE=DATE:20230701
DTSTAMP:20260421T130724
CREATED:20230525T145045Z
LAST-MODIFIED:20230525T145045Z
UID:10004353-1685577600-1688169599@www.lovemylibrary.ca
SUMMARY:Rainbow Scavenger Hunt
DESCRIPTION:Truro Pride Week is June 23-30 but we will have our Scavenger Hunt all month. All ages are welcome
URL:https://www.lovemylibrary.ca/event/rainbow-scavenger-hunt/
LOCATION:Stewiacke Library\, 295 George Street\, Stewiacke\, Nova Scotia\, Canada
ATTACH;FMTTYPE=image/png:https://www.lovemylibrary.ca/wp-content/uploads/2022/06/scavenger-hunt-1.png
END:VEVENT
BEGIN:VEVENT
DTSTART;VALUE=DATE:20230601
DTEND;VALUE=DATE:20230701
DTSTAMP:20260421T130724
CREATED:20230525T190025Z
LAST-MODIFIED:20230525T190025Z
UID:10004427-1685577600-1688169599@www.lovemylibrary.ca
SUMMARY:Gone Fishing Scavenger Hunt
DESCRIPTION:Get your line and hook ready\, as fishing season is upon us.  We guarantee you’ll catch some fun with our fishing themed scavenger hunt. All ages are welcome to participate. \nThis is a drop in program. No registration is required.
URL:https://www.lovemylibrary.ca/event/gone-fishing-scavenger-hunt/
LOCATION:Tatamagouche Library\, 170 Main Street\, Tatamagouche\, Nova Scotia\, Canada
CATEGORIES:Events For Kids,Location: Tatamagouche
ATTACH;FMTTYPE=image/png:https://www.lovemylibrary.ca/wp-content/uploads/2021/08/Untitled-design-23.png
END:VEVENT
BEGIN:VEVENT
DTSTART;VALUE=DATE:20230601
DTEND;VALUE=DATE:20230701
DTSTAMP:20260421T130724
CREATED:20221221T203915Z
LAST-MODIFIED:20230525T180744Z
UID:10004405-1685606400-1688144400@www.lovemylibrary.ca
SUMMARY:Take Home Craft Kits
DESCRIPTION:Weekly take-and-make craft kits are available for pick up in-branch. For preschool and early elementary children. \nThis is a drop-in program. No registration is required.
URL:https://www.lovemylibrary.ca/event/take-home-craft-kits-6/2023-06-01/
LOCATION:Tatamagouche Library\, 170 Main Street\, Tatamagouche\, Nova Scotia\, Canada
CATEGORIES:Crafting,Events For Kids,Location: Tatamagouche
ATTACH;FMTTYPE=image/png:https://www.lovemylibrary.ca/wp-content/uploads/2022/02/Untitled-design-42.png
END:VEVENT
BEGIN:VEVENT
DTSTART;TZID=America/Halifax:20230615T103000
DTEND;TZID=America/Halifax:20230615T110000
DTSTAMP:20260421T130724
CREATED:20221018T160406Z
LAST-MODIFIED:20230524T172811Z
UID:10004303-1686825000-1686826800@www.lovemylibrary.ca
SUMMARY:Baby Rhyme Time
DESCRIPTION:Discover the joy of songs\, finger plays \, bouncing rhymes and simple books. Suitable for Infant-2 years old with a caregiver \nThis is an in-person program. No registration is required.
URL:https://www.lovemylibrary.ca/event/baby-rhyme-time-6/2023-06-15/
LOCATION:Stewiacke Library\, 295 George Street\, Stewiacke\, Nova Scotia\, Canada
CATEGORIES:Events For Kids,Location: Stewiacke
ATTACH;FMTTYPE=image/png:https://www.lovemylibrary.ca/wp-content/uploads/2022/03/Untitled-design-75.png
END:VEVENT
BEGIN:VEVENT
DTSTART;TZID=America/Halifax:20230615T140000
DTEND;TZID=America/Halifax:20230615T150000
DTSTAMP:20260421T130724
CREATED:20221220T231218Z
LAST-MODIFIED:20230525T163330Z
UID:10004371-1686837600-1686841200@www.lovemylibrary.ca
SUMMARY:Homework Hangout
DESCRIPTION:Time to unwind\, get your homework done\, and hangout with your friends.  For ages 8-15. \nThis is a drop-in program. No registration is required.
URL:https://www.lovemylibrary.ca/event/homework-hangout-2/2023-06-15/
LOCATION:Mount Uniacke Library\, 555\, Highway 1\, Mount Uniacke\, Nova Scotia\, Canada
CATEGORIES:Events For Kids,Events For Teens,Location: Mount Uniacke
ATTACH;FMTTYPE=image/png:https://www.lovemylibrary.ca/wp-content/uploads/2022/03/Untitled-design-91.png
END:VEVENT
BEGIN:VEVENT
DTSTART;TZID=America/Halifax:20230615T144500
DTEND;TZID=America/Halifax:20230615T170000
DTSTAMP:20260421T130724
CREATED:20221021T180121Z
LAST-MODIFIED:20230525T180406Z
UID:10004402-1686840300-1686848400@www.lovemylibrary.ca
SUMMARY:Dungeons and Dragons
DESCRIPTION:The campaign is going to be an adventure of a group of fighters\, trying to complete 20 challenges\, each harder than the next. Ages 12-16. \nRegistration by phone 902-657-3064 or email: tatamago@cehpubliclibrary.ca
URL:https://www.lovemylibrary.ca/event/d-d-group/2023-06-15/
LOCATION:Tatamagouche Library\, 170 Main Street\, Tatamagouche\, Nova Scotia\, Canada
CATEGORIES:Events For Kids,Events For Teens,Location: Tatamagouche
ATTACH;FMTTYPE=image/png:https://www.lovemylibrary.ca/wp-content/uploads/2022/06/D-and-D.png
END:VEVENT
BEGIN:VEVENT
DTSTART;TZID=America/Halifax:20230615T150000
DTEND;TZID=America/Halifax:20230615T160000
DTSTAMP:20260421T130724
CREATED:20221020T182415Z
LAST-MODIFIED:20230525T164119Z
UID:10002178-1686841200-1686844800@www.lovemylibrary.ca
SUMMARY:Young Scientists
DESCRIPTION:Science is fun! Technology rocks! Engineering makes things great! Math is #1! What does Karri have in store this month? Let’s build a catapult. Come in to find out. Suitable for ages 8-15. \nRegister in branch or by email mtuniack@cehpubliclibrary.ca
URL:https://www.lovemylibrary.ca/event/young-scientists-2/
LOCATION:Mount Uniacke Library\, 555\, Highway 1\, Mount Uniacke\, Nova Scotia\, Canada
CATEGORIES:Events For Kids,Location: Mount Uniacke,STEAM
ATTACH;FMTTYPE=image/png:https://www.lovemylibrary.ca/wp-content/uploads/2022/09/Untitled-design-42.png
END:VEVENT
BEGIN:VEVENT
DTSTART;TZID=America/Halifax:20230615T150000
DTEND;TZID=America/Halifax:20230615T163000
DTSTAMP:20260421T130724
CREATED:20230525T171244Z
LAST-MODIFIED:20230525T171320Z
UID:10004381-1686841200-1686846600@www.lovemylibrary.ca
SUMMARY:Dungeons and Dragons
DESCRIPTION:Join the adventure to the lost mine of Phandelver. Avoid the Black Spider. Encounter goblins and other creatures as you try to find the lost mine. Your adventure awaits. For ages 10-15 \nThis is a drop-in program. No registration is required.
URL:https://www.lovemylibrary.ca/event/dungeons-and-dragons-7-2/2023-06-15/
LOCATION:Mount Uniacke Library\, 555\, Highway 1\, Mount Uniacke\, Nova Scotia\, Canada
CATEGORIES:Events For Kids,Events For Teens,Location: Mount Uniacke
ATTACH;FMTTYPE=image/png:https://www.lovemylibrary.ca/wp-content/uploads/2022/06/D-and-D.png
END:VEVENT
BEGIN:VEVENT
DTSTART;TZID=America/Halifax:20230615T173000
DTEND;TZID=America/Halifax:20230615T193000
DTSTAMP:20260421T130724
CREATED:20230215T203141Z
LAST-MODIFIED:20230919T213828Z
UID:10004289-1686850200-1686857400@www.lovemylibrary.ca
SUMMARY:Adult Board Games Night
DESCRIPTION:Get your game on! Come on out for an evening of board games. This is your chance to play some old favourites or learn a new one. For teens and adults. \nThis is a drop-in program. No registration is required. Please call 902-883-9838 or email at elmsdale@cehpubliclibrary.ca for more details
URL:https://www.lovemylibrary.ca/event/adult-board-games-night-6-2/2023-06-15/
LOCATION:Elmsdale Library\, 15 Commerce Ct\, Elmsdale\, Nova Scotia\, Canada
CATEGORIES:Events For Adults,Events For Seniors,Events For Teens,Location: Elmsdale
ATTACH;FMTTYPE=image/png:https://www.lovemylibrary.ca/wp-content/uploads/2023/02/Untitled-design-2023-05-16T103613.895.png
END:VEVENT
BEGIN:VEVENT
DTSTART;TZID=America/Halifax:20230615T183000
DTEND;TZID=America/Halifax:20230615T193000
DTSTAMP:20260421T130724
CREATED:20221221T200852Z
LAST-MODIFIED:20230525T180042Z
UID:10004395-1686853800-1686857400@www.lovemylibrary.ca
SUMMARY:Ukulele Night with Lyn(beginners welcome)
DESCRIPTION:Learn to play the Ukelele in 8 weeks. This is an ongoing program\, but beginners are welcome to join. All ages welcome. \nRegistration by phone 902-657-3064 or email: tatamago@cehpubliclibrary.ca
URL:https://www.lovemylibrary.ca/event/ukelele-with-lyn-beginners-welcome/2023-06-15/
LOCATION:Tatamagouche Library\, 170 Main Street\, Tatamagouche\, Nova Scotia\, Canada
CATEGORIES:Events For Adults,Events For Kids,Events For Seniors,Events For Teens,Location: Tatamagouche
ATTACH;FMTTYPE=image/png:https://www.lovemylibrary.ca/wp-content/uploads/2022/10/Untitled-design-17.png
END:VEVENT
BEGIN:VEVENT
DTSTART;TZID=America/Halifax:20230615T183000
DTEND;TZID=America/Halifax:20230615T193000
DTSTAMP:20260421T130724
CREATED:20230324T181558Z
LAST-MODIFIED:20230524T191356Z
UID:10003891-1686853800-1686857400@www.lovemylibrary.ca
SUMMARY:Chess Club for Teens
DESCRIPTION:Learn the game\, practice and sharpen your skills\, make friends and have fun! For ages 13-18 \nThis is a drop-in program. No registration is required.
URL:https://www.lovemylibrary.ca/event/chess-club-for-teens/
LOCATION:Stewiacke Library\, 295 George Street\, Stewiacke\, Nova Scotia\, Canada
CATEGORIES:Events For Teens,Location: Stewiacke
ATTACH;FMTTYPE=image/png:https://www.lovemylibrary.ca/wp-content/uploads/2023/03/Untitled-design-30.png
END:VEVENT
END:VCALENDAR