BEGIN:VCALENDAR
VERSION:2.0
PRODID:-//Colchester East Hants Public Library - ECPv6.15.20//NONSGML v1.0//EN
CALSCALE:GREGORIAN
METHOD:PUBLISH
X-WR-CALNAME:Colchester East Hants Public Library
X-ORIGINAL-URL:https://www.lovemylibrary.ca
X-WR-CALDESC:Events for Colchester East Hants Public Library
REFRESH-INTERVAL;VALUE=DURATION:PT1H
X-Robots-Tag:noindex
X-PUBLISHED-TTL:PT1H
BEGIN:VTIMEZONE
TZID:America/Halifax
BEGIN:DAYLIGHT
TZOFFSETFROM:-0400
TZOFFSETTO:-0300
TZNAME:ADT
DTSTART:20220313T060000
END:DAYLIGHT
BEGIN:STANDARD
TZOFFSETFROM:-0300
TZOFFSETTO:-0400
TZNAME:AST
DTSTART:20221106T050000
END:STANDARD
BEGIN:DAYLIGHT
TZOFFSETFROM:-0400
TZOFFSETTO:-0300
TZNAME:ADT
DTSTART:20230312T060000
END:DAYLIGHT
BEGIN:STANDARD
TZOFFSETFROM:-0300
TZOFFSETTO:-0400
TZNAME:AST
DTSTART:20231105T050000
END:STANDARD
BEGIN:DAYLIGHT
TZOFFSETFROM:-0400
TZOFFSETTO:-0300
TZNAME:ADT
DTSTART:20240310T060000
END:DAYLIGHT
BEGIN:STANDARD
TZOFFSETFROM:-0300
TZOFFSETTO:-0400
TZNAME:AST
DTSTART:20241103T050000
END:STANDARD
END:VTIMEZONE
BEGIN:VEVENT
DTSTART;VALUE=DATE:20230701
DTEND;VALUE=DATE:20230801
DTSTAMP:20260419T233118
CREATED:20230614T195108Z
LAST-MODIFIED:20230614T195108Z
UID:10004570-1688169600-1690847999@www.lovemylibrary.ca
SUMMARY:Nature Scavenger Hunt
DESCRIPTION:Do you love nature?  Visit us at the library for a nature scavenger hunt and receive your own nature journal to take home!  All ages are welcome to participate. \nThis is a drop in program. No registration is required. For details\, please call 902-883-9838 or email us at elmsdale@cehpubliclibrary.ca
URL:https://www.lovemylibrary.ca/event/nature-scavenger-hunt-2/
LOCATION:Elmsdale Library\, 15 Commerce Ct\, Elmsdale\, Nova Scotia\, Canada
ATTACH;FMTTYPE=image/png:https://www.lovemylibrary.ca/wp-content/uploads/2022/06/scavenger-hunt-1.png
END:VEVENT
BEGIN:VEVENT
DTSTART;VALUE=DATE:20230704
DTEND;VALUE=DATE:20230901
DTSTAMP:20260419T233118
CREATED:20230617T161559Z
LAST-MODIFIED:20230617T161559Z
UID:10004584-1688428800-1693526399@www.lovemylibrary.ca
SUMMARY:Truro Art Society: Transformation art exhibit
DESCRIPTION:A transformational art exhibit from the Truro Art Society will be running through July and August at the Truro Library. Members of the Truro Art Society will be on site to talk with you about their art and the inspiration behind the exhibit on Saturday\, July 15 @1:30-3pm. \nThis is a drop in program.
URL:https://www.lovemylibrary.ca/event/truro-art-society-transformation-art-exhibit/
LOCATION:Truro Library\, 754 Prince St\, Truro\, Nova Scotia\, Canada
CATEGORIES:Events For Adults,Events For Seniors,Location: Truro
ATTACH;FMTTYPE=image/png:https://www.lovemylibrary.ca/wp-content/uploads/2023/06/Untitled-design-95.png
END:VEVENT
BEGIN:VEVENT
DTSTART;TZID=America/Halifax:20230706T100000
DTEND;TZID=America/Halifax:20230706T110000
DTSTAMP:20260419T233118
CREATED:20230612T191724Z
LAST-MODIFIED:20230612T191724Z
UID:10004498-1688637600-1688641200@www.lovemylibrary.ca
SUMMARY:Adventure Dolls
DESCRIPTION:Make your own doll using yarn and googly eyes. Share your pictures with us as you have adventures all summer. For ages 8-14. \nNo registration required.
URL:https://www.lovemylibrary.ca/event/adventure-dolls/
LOCATION:Stewiacke Library\, 295 George Street\, Stewiacke\, Nova Scotia\, Canada
CATEGORIES:Events For Kids,Events For Teens,Location: Stewiacke
ATTACH;FMTTYPE=image/png:https://www.lovemylibrary.ca/wp-content/uploads/2023/06/Your-paragraph-text-9.png
END:VEVENT
BEGIN:VEVENT
DTSTART;TZID=America/Halifax:20230706T103000
DTEND;TZID=America/Halifax:20230706T113000
DTSTAMP:20260419T233118
CREATED:20230613T210632Z
LAST-MODIFIED:20230629T174311Z
UID:10004533-1688639400-1688643000@www.lovemylibrary.ca
SUMMARY:Summer Storytime Series
DESCRIPTION:Join us for stories\, songs\, and activities perfect for little ones and their families! All ages are welcome. \nThis is a drop in program. No registration is required.
URL:https://www.lovemylibrary.ca/event/summer-storytime-series/2023-07-06/
LOCATION:Truro Library\, 754 Prince St\, Truro\, Nova Scotia\, Canada
CATEGORIES:Events For Kids,Location: Truro
ATTACH;FMTTYPE=image/png:https://www.lovemylibrary.ca/wp-content/uploads/2022/09/Untitled-design-38.png
END:VEVENT
BEGIN:VEVENT
DTSTART;TZID=America/Halifax:20230706T140000
DTEND;TZID=America/Halifax:20230706T150000
DTSTAMP:20260419T233118
CREATED:20230609T170342Z
LAST-MODIFIED:20230609T170342Z
UID:10004449-1688652000-1688655600@www.lovemylibrary.ca
SUMMARY:Terracotta Pot Painting
DESCRIPTION:Let your creative juices flow. Come and paint a Terracotta pots and start your own little herb garden. All materials will be provided. For ages 8-14. \nTo register\, please email tatamago@cehpubliclibrary.ca or call 902-657-3064
URL:https://www.lovemylibrary.ca/event/terracotta-pot-painting/
LOCATION:Tatamagouche Library\, 170 Main Street\, Tatamagouche\, Nova Scotia\, Canada
CATEGORIES:Events For Kids,Location: Tatamagouche
ATTACH;FMTTYPE=image/png:https://www.lovemylibrary.ca/wp-content/uploads/2023/06/Untitled-design-2023-06-09T140855.685.png
END:VEVENT
BEGIN:VEVENT
DTSTART;TZID=America/Halifax:20230706T140000
DTEND;TZID=America/Halifax:20230706T153000
DTSTAMP:20260419T233118
CREATED:20230613T212128Z
LAST-MODIFIED:20230622T150034Z
UID:10004536-1688652000-1688657400@www.lovemylibrary.ca
SUMMARY:Medicine Pouch Workshop with Theresa Meuse
DESCRIPTION:Theresa Meuse is an Indigenous educator\, advisor\, and author. In 2020 she founded on Mi’kma’ki Craft Supplies\, with the purpose of sharing Indigenous culture. She will lead us in a Medicine Pouch workshop. For ages 5-12. Spaces are limited. \nTo register: email info@cehpubliclibrary.ca
URL:https://www.lovemylibrary.ca/event/medicine-pouch-workshop-with-theresa-meuse/
LOCATION:Truro Library\, 754 Prince St\, Truro\, Nova Scotia\, Canada
CATEGORIES:Crafting,Events For Kids,Location: Truro
ATTACH;FMTTYPE=image/png:https://www.lovemylibrary.ca/wp-content/uploads/2023/06/Untitled-design-81.png
END:VEVENT
BEGIN:VEVENT
DTSTART;TZID=America/Halifax:20230706T140000
DTEND;TZID=America/Halifax:20230706T160000
DTSTAMP:20260419T233118
CREATED:20230613T203815Z
LAST-MODIFIED:20230613T203815Z
UID:10004517-1688652000-1688659200@www.lovemylibrary.ca
SUMMARY:Teen Room Drop In
DESCRIPTION:Get out of the sun this summer in the newly reopened Teen Room!  Grab a snack\, play some games\, make art\, or just hang out with old friends or new ones! For ages 13-18 \nThis is a drop in program. No registration is required.
URL:https://www.lovemylibrary.ca/event/teen-room-drop-in-2/2023-07-06/
LOCATION:Truro Library\, 754 Prince St\, Truro\, Nova Scotia\, Canada
CATEGORIES:Events For Teens,Location: Truro
ATTACH;FMTTYPE=image/png:https://www.lovemylibrary.ca/wp-content/uploads/2023/06/Untitled-design-78.png
END:VEVENT
BEGIN:VEVENT
DTSTART;TZID=America/Halifax:20230706T180000
DTEND;TZID=America/Halifax:20230706T200000
DTSTAMP:20260419T233118
CREATED:20230421T172857Z
LAST-MODIFIED:20230614T193359Z
UID:10004106-1688666400-1688673600@www.lovemylibrary.ca
SUMMARY:Kids Board Games Night
DESCRIPTION:It’s game time! Check out our selection of board games. Play your favourite or learn a new one. For children and teens \nNo registration is required. Please call 902-883-9838 or email us at elmsdale@cehpubliclibrary.ca for more details
URL:https://www.lovemylibrary.ca/event/kids-board-games-night/
LOCATION:Elmsdale Library\, 15 Commerce Ct\, Elmsdale\, Nova Scotia\, Canada
CATEGORIES:Events For Kids,Events For Teens,Location: Elmsdale
ATTACH;FMTTYPE=image/jpeg:https://www.lovemylibrary.ca/wp-content/uploads/2023/04/pexels-cottonbro-studio-4691579-scaled.jpg
END:VEVENT
END:VCALENDAR