BEGIN:VCALENDAR
VERSION:2.0
PRODID:-//Colchester East Hants Public Library - ECPv6.15.20//NONSGML v1.0//EN
CALSCALE:GREGORIAN
METHOD:PUBLISH
X-ORIGINAL-URL:https://www.lovemylibrary.ca
X-WR-CALDESC:Events for Colchester East Hants Public Library
REFRESH-INTERVAL;VALUE=DURATION:PT1H
X-Robots-Tag:noindex
X-PUBLISHED-TTL:PT1H
BEGIN:VTIMEZONE
TZID:America/Halifax
BEGIN:DAYLIGHT
TZOFFSETFROM:-0400
TZOFFSETTO:-0300
TZNAME:ADT
DTSTART:20220313T060000
END:DAYLIGHT
BEGIN:STANDARD
TZOFFSETFROM:-0300
TZOFFSETTO:-0400
TZNAME:AST
DTSTART:20221106T050000
END:STANDARD
BEGIN:DAYLIGHT
TZOFFSETFROM:-0400
TZOFFSETTO:-0300
TZNAME:ADT
DTSTART:20230312T060000
END:DAYLIGHT
BEGIN:STANDARD
TZOFFSETFROM:-0300
TZOFFSETTO:-0400
TZNAME:AST
DTSTART:20231105T050000
END:STANDARD
BEGIN:DAYLIGHT
TZOFFSETFROM:-0400
TZOFFSETTO:-0300
TZNAME:ADT
DTSTART:20240310T060000
END:DAYLIGHT
BEGIN:STANDARD
TZOFFSETFROM:-0300
TZOFFSETTO:-0400
TZNAME:AST
DTSTART:20241103T050000
END:STANDARD
END:VTIMEZONE
BEGIN:VEVENT
DTSTART;VALUE=DATE:20230701
DTEND;VALUE=DATE:20230801
DTSTAMP:20260421T224750
CREATED:20230614T195108Z
LAST-MODIFIED:20230614T195108Z
UID:10004570-1688169600-1690847999@www.lovemylibrary.ca
SUMMARY:Nature Scavenger Hunt
DESCRIPTION:Do you love nature?  Visit us at the library for a nature scavenger hunt and receive your own nature journal to take home!  All ages are welcome to participate. \nThis is a drop in program. No registration is required. For details\, please call 902-883-9838 or email us at elmsdale@cehpubliclibrary.ca
URL:https://www.lovemylibrary.ca/event/nature-scavenger-hunt-2/
LOCATION:Elmsdale Library\, 15 Commerce Ct\, Elmsdale\, Nova Scotia\, Canada
ATTACH;FMTTYPE=image/png:https://www.lovemylibrary.ca/wp-content/uploads/2022/06/scavenger-hunt-1.png
END:VEVENT
BEGIN:VEVENT
DTSTART;VALUE=DATE:20230704
DTEND;VALUE=DATE:20230901
DTSTAMP:20260421T224750
CREATED:20230617T161559Z
LAST-MODIFIED:20230617T161559Z
UID:10004584-1688428800-1693526399@www.lovemylibrary.ca
SUMMARY:Truro Art Society: Transformation art exhibit
DESCRIPTION:A transformational art exhibit from the Truro Art Society will be running through July and August at the Truro Library. Members of the Truro Art Society will be on site to talk with you about their art and the inspiration behind the exhibit on Saturday\, July 15 @1:30-3pm. \nThis is a drop in program.
URL:https://www.lovemylibrary.ca/event/truro-art-society-transformation-art-exhibit/
LOCATION:Truro Library\, 754 Prince St\, Truro\, Nova Scotia\, Canada
CATEGORIES:Events For Adults,Events For Seniors,Location: Truro
ATTACH;FMTTYPE=image/png:https://www.lovemylibrary.ca/wp-content/uploads/2023/06/Untitled-design-95.png
END:VEVENT
BEGIN:VEVENT
DTSTART;TZID=America/Halifax:20230708T103000
DTEND;TZID=America/Halifax:20230708T120000
DTSTAMP:20260421T224750
CREATED:20220716T165547Z
LAST-MODIFIED:20230613T220459Z
UID:10001221-1688812200-1688817600@www.lovemylibrary.ca
SUMMARY:Sidewalk Chalk
DESCRIPTION:Do you like to go big with your art? Come help us decorate the sidewalks and walkways around the library! (Weather permitting!) All ages are welcome. \nThis is a drop-in program. No registration is required.
URL:https://www.lovemylibrary.ca/event/sidewalk-chalk-extravaganza/
LOCATION:Truro Library\, 754 Prince St\, Truro\, Nova Scotia\, Canada
CATEGORIES:Events For Kids,Location: Truro
ATTACH;FMTTYPE=image/png:https://www.lovemylibrary.ca/wp-content/uploads/2022/07/Untitled-design-25.png
END:VEVENT
BEGIN:VEVENT
DTSTART;TZID=America/Halifax:20230708T113000
DTEND;TZID=America/Halifax:20230708T123000
DTSTAMP:20260421T224750
CREATED:20230619T141421Z
LAST-MODIFIED:20230619T141508Z
UID:10004606-1688815800-1688819400@www.lovemylibrary.ca
SUMMARY:Overbooked Social
DESCRIPTION:Are you new to the area? Retired? Just want to get out of the house? Join us for a monthly gab session and get to know the people in your community. Light refreshments will be available. \nDrop-in\, no registration required.
URL:https://www.lovemylibrary.ca/event/overbooked-social-3/2023-07-08/
LOCATION:Mount Uniacke Library\, 555\, Highway 1\, Mount Uniacke\, Nova Scotia\, Canada
CATEGORIES:Events For Adults,Events For Seniors,Location: Mount Uniacke
ATTACH;FMTTYPE=image/png:https://www.lovemylibrary.ca/wp-content/uploads/2023/06/Untitled-design-2023-06-19T111314.785.png
END:VEVENT
BEGIN:VEVENT
DTSTART;TZID=America/Halifax:20230708T140000
DTEND;TZID=America/Halifax:20230708T150000
DTSTAMP:20260421T224750
CREATED:20221018T153340Z
LAST-MODIFIED:20231222T154016Z
UID:10005466-1688824800-1688828400@www.lovemylibrary.ca
SUMMARY:Lego Club
DESCRIPTION:Activate your creativity and imagination! We will proudly display what you build in our children’s area. For ages 5-100 \nThis is a drop-in program. No registration is required.
URL:https://www.lovemylibrary.ca/event/lego-club-5/2023-07-08/
LOCATION:Stewiacke Library\, 295 George Street\, Stewiacke\, Nova Scotia\, Canada
CATEGORIES:Events For Kids,Location: Stewiacke
ATTACH;FMTTYPE=image/png:https://www.lovemylibrary.ca/wp-content/uploads/2022/06/Untitled-design-20.png
END:VEVENT
BEGIN:VEVENT
DTSTART;TZID=America/Halifax:20230708T140000
DTEND;TZID=America/Halifax:20230708T150000
DTSTAMP:20260421T224750
CREATED:20230612T194628Z
LAST-MODIFIED:20230612T194628Z
UID:10004512-1688824800-1688828400@www.lovemylibrary.ca
SUMMARY:Lego Club
DESCRIPTION:Bring your imagination and create something special. Library space is available for display. All ages. \nNo registration required.
URL:https://www.lovemylibrary.ca/event/lego-club-6/2023-07-08/
LOCATION:Stewiacke Library\, 295 George Street\, Stewiacke\, Nova Scotia\, Canada
CATEGORIES:Events For Adults,Events For Kids,Events For Seniors,Events For Teens,Location: Stewiacke
ATTACH;FMTTYPE=image/png:https://www.lovemylibrary.ca/wp-content/uploads/2023/06/Your-paragraph-text-19.png
END:VEVENT
END:VCALENDAR