BEGIN:VCALENDAR
VERSION:2.0
PRODID:-//Colchester East Hants Public Library - ECPv6.15.20//NONSGML v1.0//EN
CALSCALE:GREGORIAN
METHOD:PUBLISH
X-WR-CALNAME:Colchester East Hants Public Library
X-ORIGINAL-URL:https://www.lovemylibrary.ca
X-WR-CALDESC:Events for Colchester East Hants Public Library
REFRESH-INTERVAL;VALUE=DURATION:PT1H
X-Robots-Tag:noindex
X-PUBLISHED-TTL:PT1H
BEGIN:VTIMEZONE
TZID:America/Halifax
BEGIN:DAYLIGHT
TZOFFSETFROM:-0400
TZOFFSETTO:-0300
TZNAME:ADT
DTSTART:20220313T060000
END:DAYLIGHT
BEGIN:STANDARD
TZOFFSETFROM:-0300
TZOFFSETTO:-0400
TZNAME:AST
DTSTART:20221106T050000
END:STANDARD
BEGIN:DAYLIGHT
TZOFFSETFROM:-0400
TZOFFSETTO:-0300
TZNAME:ADT
DTSTART:20230312T060000
END:DAYLIGHT
BEGIN:STANDARD
TZOFFSETFROM:-0300
TZOFFSETTO:-0400
TZNAME:AST
DTSTART:20231105T050000
END:STANDARD
BEGIN:DAYLIGHT
TZOFFSETFROM:-0400
TZOFFSETTO:-0300
TZNAME:ADT
DTSTART:20240310T060000
END:DAYLIGHT
BEGIN:STANDARD
TZOFFSETFROM:-0300
TZOFFSETTO:-0400
TZNAME:AST
DTSTART:20241103T050000
END:STANDARD
END:VTIMEZONE
BEGIN:VEVENT
DTSTART;VALUE=DATE:20230701
DTEND;VALUE=DATE:20230801
DTSTAMP:20260420T092957
CREATED:20230614T195108Z
LAST-MODIFIED:20230614T195108Z
UID:10004570-1688169600-1690847999@www.lovemylibrary.ca
SUMMARY:Nature Scavenger Hunt
DESCRIPTION:Do you love nature?  Visit us at the library for a nature scavenger hunt and receive your own nature journal to take home!  All ages are welcome to participate. \nThis is a drop in program. No registration is required. For details\, please call 902-883-9838 or email us at elmsdale@cehpubliclibrary.ca
URL:https://www.lovemylibrary.ca/event/nature-scavenger-hunt-2/
LOCATION:Elmsdale Library\, 15 Commerce Ct\, Elmsdale\, Nova Scotia\, Canada
ATTACH;FMTTYPE=image/png:https://www.lovemylibrary.ca/wp-content/uploads/2022/06/scavenger-hunt-1.png
END:VEVENT
BEGIN:VEVENT
DTSTART;VALUE=DATE:20230704
DTEND;VALUE=DATE:20230901
DTSTAMP:20260420T092957
CREATED:20230617T161559Z
LAST-MODIFIED:20230617T161559Z
UID:10004584-1688428800-1693526399@www.lovemylibrary.ca
SUMMARY:Truro Art Society: Transformation art exhibit
DESCRIPTION:A transformational art exhibit from the Truro Art Society will be running through July and August at the Truro Library. Members of the Truro Art Society will be on site to talk with you about their art and the inspiration behind the exhibit on Saturday\, July 15 @1:30-3pm. \nThis is a drop in program.
URL:https://www.lovemylibrary.ca/event/truro-art-society-transformation-art-exhibit/
LOCATION:Truro Library\, 754 Prince St\, Truro\, Nova Scotia\, Canada
CATEGORIES:Events For Adults,Events For Seniors,Location: Truro
ATTACH;FMTTYPE=image/png:https://www.lovemylibrary.ca/wp-content/uploads/2023/06/Untitled-design-95.png
END:VEVENT
BEGIN:VEVENT
DTSTART;VALUE=DATE:20230710
DTEND;VALUE=DATE:20230716
DTSTAMP:20260420T092957
CREATED:20220716T165239Z
LAST-MODIFIED:20230613T221019Z
UID:10001220-1688947200-1689465599@www.lovemylibrary.ca
SUMMARY:Teen Take-and-Make
DESCRIPTION:Pick up a kit with everything you need to make a macramé keychain\, plus some extra goodies! For ages 13-18 \nDrop in and pick up your kit\, while supplies last.
URL:https://www.lovemylibrary.ca/event/teen-take-and-make/
LOCATION:Truro Library\, 754 Prince St\, Truro\, Nova Scotia\, Canada
CATEGORIES:Crafting,Events For Teens,Location: Truro
ATTACH;FMTTYPE=image/png:https://www.lovemylibrary.ca/wp-content/uploads/2022/07/Untitled-design-83.png
END:VEVENT
BEGIN:VEVENT
DTSTART;VALUE=DATE:20230711
DTEND;VALUE=DATE:20230712
DTSTAMP:20260420T092957
CREATED:20230614T194834Z
LAST-MODIFIED:20230614T194834Z
UID:10004569-1689033600-1689119999@www.lovemylibrary.ca
SUMMARY:Paper Marbling
DESCRIPTION:Love colours?  Create your own unique art to take home. See you at the library! For children \nFor details\, please call 902-883-9838 or email us at elmsdale@cehpubliclibrary.ca
URL:https://www.lovemylibrary.ca/event/paper-marbling/
LOCATION:Elmsdale Library\, 15 Commerce Ct\, Elmsdale\, Nova Scotia\, Canada
CATEGORIES:Events For Kids,Location: Elmsdale
ATTACH;FMTTYPE=image/png:https://www.lovemylibrary.ca/wp-content/uploads/2023/06/Untitled-design-94.png
END:VEVENT
BEGIN:VEVENT
DTSTART;TZID=America/Halifax:20230711T140000
DTEND;TZID=America/Halifax:20230711T160000
DTSTAMP:20260420T092957
CREATED:20230613T203815Z
LAST-MODIFIED:20230613T203815Z
UID:10004518-1689084000-1689091200@www.lovemylibrary.ca
SUMMARY:Teen Room Drop In
DESCRIPTION:Get out of the sun this summer in the newly reopened Teen Room!  Grab a snack\, play some games\, make art\, or just hang out with old friends or new ones! For ages 13-18 \nThis is a drop in program. No registration is required.
URL:https://www.lovemylibrary.ca/event/teen-room-drop-in-2/2023-07-11/
LOCATION:Truro Library\, 754 Prince St\, Truro\, Nova Scotia\, Canada
CATEGORIES:Events For Teens,Location: Truro
ATTACH;FMTTYPE=image/png:https://www.lovemylibrary.ca/wp-content/uploads/2023/06/Untitled-design-78.png
END:VEVENT
BEGIN:VEVENT
DTSTART;TZID=America/Halifax:20230711T140000
DTEND;TZID=America/Halifax:20230711T180000
DTSTAMP:20260420T092957
CREATED:20230612T191858Z
LAST-MODIFIED:20230612T191858Z
UID:10004499-1689084000-1689098400@www.lovemylibrary.ca
SUMMARY:Pirate Sensory Play
DESCRIPTION:Walk the plank and dive into some pirate fun. Gloves will be provided if you choose not to get your hands messy. For all ages. \nNo registration required.
URL:https://www.lovemylibrary.ca/event/pirate-sensory-play/
LOCATION:Stewiacke Library\, 295 George Street\, Stewiacke\, Nova Scotia\, Canada
CATEGORIES:Events For Adults,Events For Kids,Events For Seniors,Events For Teens,Location: Stewiacke
ATTACH;FMTTYPE=image/png:https://www.lovemylibrary.ca/wp-content/uploads/2023/06/Your-paragraph-text-10.png
END:VEVENT
BEGIN:VEVENT
DTSTART;TZID=America/Halifax:20230711T173000
DTEND;TZID=America/Halifax:20230711T193000
DTSTAMP:20260420T092957
CREATED:20230614T193807Z
LAST-MODIFIED:20230704T185547Z
UID:10004562-1689096600-1689103800@www.lovemylibrary.ca
SUMMARY:Dungeons & Dragons (Youth)
DESCRIPTION:Ready to embark on a fantasy adventure? Join us at the Elmsdale library for action\, drama\, and dice! No experience required; all materials provided! For ages 10-13 \nRegistration required.  Please call at 902-883-9838 or email us at elmsdale@cehpubliclibrary.ca to register 
URL:https://www.lovemylibrary.ca/event/dungeons-dragons-youth/2023-07-11/
LOCATION:Elmsdale Library\, 15 Commerce Ct\, Elmsdale\, Nova Scotia\, Canada
CATEGORIES:Events For Kids,Events For Teens,Location: Elmsdale
ATTACH;FMTTYPE=image/png:https://www.lovemylibrary.ca/wp-content/uploads/2022/06/D-and-D.png
END:VEVENT
BEGIN:VEVENT
DTSTART;TZID=America/Halifax:20230711T173000
DTEND;TZID=America/Halifax:20230711T200000
DTSTAMP:20260420T092957
CREATED:20221116T204822Z
LAST-MODIFIED:20230919T183845Z
UID:10004601-1689096600-1689105600@www.lovemylibrary.ca
SUMMARY:Heroes & Adventurers
DESCRIPTION:Role-playing game nights with extraordinary people! We provide the supplies\, you provide the imagination. No experience needed. All ages welcome! \nRegister to play by emailing: HAATruro@gmail.com Sorry\, no drop-in players at this time.
URL:https://www.lovemylibrary.ca/event/heroes-adventurers-3/2023-07-11/
LOCATION:Truro Library\, 754 Prince St\, Truro\, Nova Scotia\, Canada
CATEGORIES:Location: Truro
ATTACH;FMTTYPE=image/png:https://www.lovemylibrary.ca/wp-content/uploads/2022/06/D-and-D.png
END:VEVENT
BEGIN:VEVENT
DTSTART;TZID=America/Halifax:20230711T180000
DTEND;TZID=America/Halifax:20230711T190000
DTSTAMP:20260420T092957
CREATED:20230609T170455Z
LAST-MODIFIED:20230609T170455Z
UID:10004450-1689098400-1689102000@www.lovemylibrary.ca
SUMMARY:Terracotta Pot Painting (for adults)
DESCRIPTION:Let your creative juices flow. Come and paint a Terracotta pots and start your own little herb garden. All materials will be provided. For adults. \nTo register\, please email tatamago@cehpubliclibrary.ca or call 902-657-3064
URL:https://www.lovemylibrary.ca/event/terracotta-pot-painting-for-adults/
LOCATION:Tatamagouche Library\, 170 Main Street\, Tatamagouche\, Nova Scotia\, Canada
CATEGORIES:Events For Adults,Location: Tatamagouche
ATTACH;FMTTYPE=image/png:https://www.lovemylibrary.ca/wp-content/uploads/2023/06/Untitled-design-2023-06-09T140855.685.png
END:VEVENT
BEGIN:VEVENT
DTSTART;TZID=America/Halifax:20230711T180000
DTEND;TZID=America/Halifax:20230711T190000
DTSTAMP:20260420T092957
CREATED:20230629T143639Z
LAST-MODIFIED:20230629T143639Z
UID:10004657-1689098400-1689102000@www.lovemylibrary.ca
SUMMARY:Hope for Wildlife Visit
DESCRIPTION:Join us for a visit from Hope for Wildlife. We will be learning about the organization and meeting a few of their rescue animals. For all ages. \nTo register\, email mtuniacke@cehpubliclibrary.ca or call 902-866-0124 \n 
URL:https://www.lovemylibrary.ca/event/hope-for-wildlife-visit/
LOCATION:Mount Uniacke Library\, 555\, Highway 1\, Mount Uniacke\, Nova Scotia\, Canada
CATEGORIES:Events For Adults,Events For Kids,Events For Seniors,Events For Teens,Location: Mount Uniacke
ATTACH;FMTTYPE=image/png:https://www.lovemylibrary.ca/wp-content/uploads/2023/06/Untitled-design-2023-06-29T114225.730.png
END:VEVENT
BEGIN:VEVENT
DTSTART;TZID=America/Halifax:20230711T183000
DTEND;TZID=America/Halifax:20230711T193000
DTSTAMP:20260420T092957
CREATED:20230617T163342Z
LAST-MODIFIED:20230619T131256Z
UID:10004586-1689100200-1689103800@www.lovemylibrary.ca
SUMMARY:Getting to Know Your Local Food Bank
DESCRIPTION:The Colchester Food Bank plays a vital role in our communities. Join us when Executive Director\, Shelly DeViller\, drops by to talk about the services provided by the Food Bank and how we can help them continue to support those in need in our communities. This is an adult program. \nThis is a drop in program. No registration is required.
URL:https://www.lovemylibrary.ca/event/getting-to-know-your-local-food-bank/
LOCATION:Truro Library\, 754 Prince St\, Truro\, Nova Scotia\, Canada
CATEGORIES:Events For Adults,Events For Seniors,Location: Truro
ATTACH;FMTTYPE=image/png:https://www.lovemylibrary.ca/wp-content/uploads/2023/06/Untitled-design-99.png
END:VEVENT
BEGIN:VEVENT
DTSTART;TZID=America/Halifax:20230711T183000
DTEND;TZID=America/Halifax:20230711T200000
DTSTAMP:20260420T092957
CREATED:20221020T193052Z
LAST-MODIFIED:20230926T211554Z
UID:10004471-1689100200-1689105600@www.lovemylibrary.ca
SUMMARY:Ewe-niacke Yarn Club
DESCRIPTION:Fiber art for all ages and abilities. Learn to knit or crochet\, bring a project you are working on\, or just come hang out with the club for some social time. All ages welcome. \nDrop in\, no registration required.
URL:https://www.lovemylibrary.ca/event/ewe-niacke-yarn-club-3/2023-07-11/
LOCATION:Mount Uniacke Library\, 555\, Highway 1\, Mount Uniacke\, Nova Scotia\, Canada
CATEGORIES:Crafting,Events For Adults,Events For Kids,Events For Seniors,Location: Mount Uniacke
ATTACH;FMTTYPE=image/png:https://www.lovemylibrary.ca/wp-content/uploads/2022/03/Untitled-design-89.png
END:VEVENT
END:VCALENDAR