BEGIN:VCALENDAR
VERSION:2.0
PRODID:-//Colchester East Hants Public Library - ECPv6.15.20//NONSGML v1.0//EN
CALSCALE:GREGORIAN
METHOD:PUBLISH
X-ORIGINAL-URL:https://www.lovemylibrary.ca
X-WR-CALDESC:Events for Colchester East Hants Public Library
REFRESH-INTERVAL;VALUE=DURATION:PT1H
X-Robots-Tag:noindex
X-PUBLISHED-TTL:PT1H
BEGIN:VTIMEZONE
TZID:America/Halifax
BEGIN:DAYLIGHT
TZOFFSETFROM:-0400
TZOFFSETTO:-0300
TZNAME:ADT
DTSTART:20220313T060000
END:DAYLIGHT
BEGIN:STANDARD
TZOFFSETFROM:-0300
TZOFFSETTO:-0400
TZNAME:AST
DTSTART:20221106T050000
END:STANDARD
BEGIN:DAYLIGHT
TZOFFSETFROM:-0400
TZOFFSETTO:-0300
TZNAME:ADT
DTSTART:20230312T060000
END:DAYLIGHT
BEGIN:STANDARD
TZOFFSETFROM:-0300
TZOFFSETTO:-0400
TZNAME:AST
DTSTART:20231105T050000
END:STANDARD
BEGIN:DAYLIGHT
TZOFFSETFROM:-0400
TZOFFSETTO:-0300
TZNAME:ADT
DTSTART:20240310T060000
END:DAYLIGHT
BEGIN:STANDARD
TZOFFSETFROM:-0300
TZOFFSETTO:-0400
TZNAME:AST
DTSTART:20241103T050000
END:STANDARD
END:VTIMEZONE
BEGIN:VEVENT
DTSTART;VALUE=DATE:20230701
DTEND;VALUE=DATE:20230801
DTSTAMP:20260420T160539
CREATED:20230614T195108Z
LAST-MODIFIED:20230614T195108Z
UID:10004570-1688169600-1690847999@www.lovemylibrary.ca
SUMMARY:Nature Scavenger Hunt
DESCRIPTION:Do you love nature?  Visit us at the library for a nature scavenger hunt and receive your own nature journal to take home!  All ages are welcome to participate. \nThis is a drop in program. No registration is required. For details\, please call 902-883-9838 or email us at elmsdale@cehpubliclibrary.ca
URL:https://www.lovemylibrary.ca/event/nature-scavenger-hunt-2/
LOCATION:Elmsdale Library\, 15 Commerce Ct\, Elmsdale\, Nova Scotia\, Canada
ATTACH;FMTTYPE=image/png:https://www.lovemylibrary.ca/wp-content/uploads/2022/06/scavenger-hunt-1.png
END:VEVENT
BEGIN:VEVENT
DTSTART;VALUE=DATE:20230704
DTEND;VALUE=DATE:20230901
DTSTAMP:20260420T160539
CREATED:20230617T161559Z
LAST-MODIFIED:20230617T161559Z
UID:10004584-1688428800-1693526399@www.lovemylibrary.ca
SUMMARY:Truro Art Society: Transformation art exhibit
DESCRIPTION:A transformational art exhibit from the Truro Art Society will be running through July and August at the Truro Library. Members of the Truro Art Society will be on site to talk with you about their art and the inspiration behind the exhibit on Saturday\, July 15 @1:30-3pm. \nThis is a drop in program.
URL:https://www.lovemylibrary.ca/event/truro-art-society-transformation-art-exhibit/
LOCATION:Truro Library\, 754 Prince St\, Truro\, Nova Scotia\, Canada
CATEGORIES:Events For Adults,Events For Seniors,Location: Truro
ATTACH;FMTTYPE=image/png:https://www.lovemylibrary.ca/wp-content/uploads/2023/06/Untitled-design-95.png
END:VEVENT
BEGIN:VEVENT
DTSTART;VALUE=DATE:20230710
DTEND;VALUE=DATE:20230716
DTSTAMP:20260420T160539
CREATED:20220716T165239Z
LAST-MODIFIED:20230613T221019Z
UID:10001220-1688947200-1689465599@www.lovemylibrary.ca
SUMMARY:Teen Take-and-Make
DESCRIPTION:Pick up a kit with everything you need to make a macramé keychain\, plus some extra goodies! For ages 13-18 \nDrop in and pick up your kit\, while supplies last.
URL:https://www.lovemylibrary.ca/event/teen-take-and-make/
LOCATION:Truro Library\, 754 Prince St\, Truro\, Nova Scotia\, Canada
CATEGORIES:Crafting,Events For Teens,Location: Truro
ATTACH;FMTTYPE=image/png:https://www.lovemylibrary.ca/wp-content/uploads/2022/07/Untitled-design-83.png
END:VEVENT
BEGIN:VEVENT
DTSTART;TZID=America/Halifax:20230713T103000
DTEND;TZID=America/Halifax:20230713T113000
DTSTAMP:20260420T160539
CREATED:20230613T210632Z
LAST-MODIFIED:20230629T174311Z
UID:10004534-1689244200-1689247800@www.lovemylibrary.ca
SUMMARY:Summer Storytime Series
DESCRIPTION:Join us for stories\, songs\, and activities perfect for little ones and their families! All ages are welcome. \nThis is a drop in program. No registration is required.
URL:https://www.lovemylibrary.ca/event/summer-storytime-series/2023-07-13/
LOCATION:Truro Library\, 754 Prince St\, Truro\, Nova Scotia\, Canada
CATEGORIES:Events For Kids,Location: Truro
ATTACH;FMTTYPE=image/png:https://www.lovemylibrary.ca/wp-content/uploads/2022/09/Untitled-design-38.png
END:VEVENT
BEGIN:VEVENT
DTSTART;TZID=America/Halifax:20230713T103000
DTEND;TZID=America/Halifax:20230713T113000
DTSTAMP:20260420T160539
CREATED:20230619T140258Z
LAST-MODIFIED:20230619T140327Z
UID:10004604-1689244200-1689247800@www.lovemylibrary.ca
SUMMARY:Children's Concert with Sue McBride
DESCRIPTION:It’s musical fun for all\, featuring quality family musical entertainment with acclaimed Kindie artist\, ECMA nominee\, and entertainer Sue McBride. \nSue will whisk you away on a magical\, musical journey to celebrate summer in style. \nThis event will be hosted at the Stewiacke Community Centre. \nAll ages\, no registration required.
URL:https://www.lovemylibrary.ca/event/childrens-concert-with-sue-mcbride/
LOCATION:Stewiacke Community Centre\, Canada
CATEGORIES:Events For Kids,Location: Stewiacke
ATTACH;FMTTYPE=image/png:https://www.lovemylibrary.ca/wp-content/uploads/2023/06/Untitled-design-2023-06-19T110843.789.png
END:VEVENT
BEGIN:VEVENT
DTSTART;TZID=America/Halifax:20230713T110000
DTEND;TZID=America/Halifax:20230713T123000
DTSTAMP:20260420T160539
CREATED:20230614T182611Z
LAST-MODIFIED:20230614T182611Z
UID:10004554-1689246000-1689251400@www.lovemylibrary.ca
SUMMARY:Launch into Summer with STEM!
DESCRIPTION:Join us as we build\, create and design our own popsicle stick catapults and balloon rockets and see how far we can launch them all while learning about the science of propulsion! For ages 5-12 \nThis is a drop in program. For details\, please call 902-883-9838 or email us at elmsdale@cehpubliclibrary.ca\n 
URL:https://www.lovemylibrary.ca/event/launch-into-summer-with-stem/
LOCATION:Elmsdale Library\, 15 Commerce Ct\, Elmsdale\, Nova Scotia\, Canada
CATEGORIES:Events For Kids,Location: Elmsdale
ATTACH;FMTTYPE=image/png:https://www.lovemylibrary.ca/wp-content/uploads/2023/06/Untitled-design-92-1.png
END:VEVENT
BEGIN:VEVENT
DTSTART;TZID=America/Halifax:20230713T110000
DTEND;TZID=America/Halifax:20230713T140000
DTSTAMP:20260420T160539
CREATED:20230224T174341Z
LAST-MODIFIED:20240612T175533Z
UID:10003855-1689246000-1689256800@www.lovemylibrary.ca
SUMMARY:Dungeons and Dragons (Youth)
DESCRIPTION:Ready to embark on a fantasy adventure? Join us at the Elmsdale library for action\, drama\, and dice! No experience required; all materials provided! For ages 8-12 \nTo register\, please call 902-883-9838 or email elmsdale@cehpubliclibrary.ca
URL:https://www.lovemylibrary.ca/event/intro-to-dungeons-and-dragons/
LOCATION:Elmsdale Library\, 15 Commerce Ct\, Elmsdale\, Nova Scotia\, Canada
CATEGORIES:Events For Kids,Location: Elmsdale
ATTACH;FMTTYPE=image/png:https://www.lovemylibrary.ca/wp-content/uploads/2022/06/D-and-D.png
END:VEVENT
BEGIN:VEVENT
DTSTART;TZID=America/Halifax:20230713T140000
DTEND;TZID=America/Halifax:20230713T160000
DTSTAMP:20260420T160539
CREATED:20230613T203815Z
LAST-MODIFIED:20230613T203815Z
UID:10004519-1689256800-1689264000@www.lovemylibrary.ca
SUMMARY:Teen Room Drop In
DESCRIPTION:Get out of the sun this summer in the newly reopened Teen Room!  Grab a snack\, play some games\, make art\, or just hang out with old friends or new ones! For ages 13-18 \nThis is a drop in program. No registration is required.
URL:https://www.lovemylibrary.ca/event/teen-room-drop-in-2/2023-07-13/
LOCATION:Truro Library\, 754 Prince St\, Truro\, Nova Scotia\, Canada
CATEGORIES:Events For Teens,Location: Truro
ATTACH;FMTTYPE=image/png:https://www.lovemylibrary.ca/wp-content/uploads/2023/06/Untitled-design-78.png
END:VEVENT
BEGIN:VEVENT
DTSTART;TZID=America/Halifax:20230713T143000
DTEND;TZID=America/Halifax:20230713T153000
DTSTAMP:20260420T160539
CREATED:20230614T171320Z
LAST-MODIFIED:20230614T171320Z
UID:10004553-1689258600-1689262200@www.lovemylibrary.ca
SUMMARY:Tissue Paper Flowers
DESCRIPTION:Flower Power Craft. Make your own beautiful bloom using recycled plastic containers and tissue paper. Using recycled materials and creating art. What could be better? For ages 5-12 \n 
URL:https://www.lovemylibrary.ca/event/tissue-paper-flowers/
LOCATION:Truro Library\, 754 Prince St\, Truro\, Nova Scotia\, Canada
CATEGORIES:Crafting,Events For Kids,Location: Truro
ATTACH;FMTTYPE=image/png:https://www.lovemylibrary.ca/wp-content/uploads/2023/06/Untitled-design-91.png
END:VEVENT
BEGIN:VEVENT
DTSTART;TZID=America/Halifax:20230713T150000
DTEND;TZID=America/Halifax:20230713T160000
DTSTAMP:20260420T160539
CREATED:20230612T183724Z
LAST-MODIFIED:20230612T183724Z
UID:10004462-1689260400-1689264000@www.lovemylibrary.ca
SUMMARY:Science Adventures
DESCRIPTION:Choose your Science Adventure. We are doing 3 science adventures. Something might explode. Something might be grown. We aren’t sure what will happen with our third experiment… join us to find out! For ages 5-12. \nTo register\, email mtuniacke@cehpubliclibrary.ca or call 902-866-0124.
URL:https://www.lovemylibrary.ca/event/science-adventures/
LOCATION:Mount Uniacke Library\, 555\, Highway 1\, Mount Uniacke\, Nova Scotia\, Canada
CATEGORIES:Events For Kids,Location: Mount Uniacke
ATTACH;FMTTYPE=image/png:https://www.lovemylibrary.ca/wp-content/uploads/2023/06/Untitled-design-2023-06-12T154243.196.png
END:VEVENT
BEGIN:VEVENT
DTSTART;TZID=America/Halifax:20230713T173000
DTEND;TZID=America/Halifax:20230713T193000
DTSTAMP:20260420T160539
CREATED:20230215T203141Z
LAST-MODIFIED:20230919T213828Z
UID:10004559-1689269400-1689276600@www.lovemylibrary.ca
SUMMARY:Adult Board Games Night
DESCRIPTION:Get your game on! Come on out for an evening of board games. This is your chance to play some old favourites or learn a new one. For teens and adults. \nThis is a drop-in program. No registration is required. Please call 902-883-9838 or email at elmsdale@cehpubliclibrary.ca for more details
URL:https://www.lovemylibrary.ca/event/adult-board-games-night-6-2/2023-07-13/
LOCATION:Elmsdale Library\, 15 Commerce Ct\, Elmsdale\, Nova Scotia\, Canada
CATEGORIES:Events For Adults,Events For Seniors,Events For Teens,Location: Elmsdale
ATTACH;FMTTYPE=image/png:https://www.lovemylibrary.ca/wp-content/uploads/2023/02/Untitled-design-2023-05-16T103613.895.png
END:VEVENT
END:VCALENDAR