BEGIN:VCALENDAR
VERSION:2.0
PRODID:-//Colchester East Hants Public Library - ECPv6.15.20//NONSGML v1.0//EN
CALSCALE:GREGORIAN
METHOD:PUBLISH
X-ORIGINAL-URL:https://www.lovemylibrary.ca
X-WR-CALDESC:Events for Colchester East Hants Public Library
REFRESH-INTERVAL;VALUE=DURATION:PT1H
X-Robots-Tag:noindex
X-PUBLISHED-TTL:PT1H
BEGIN:VTIMEZONE
TZID:America/Halifax
BEGIN:DAYLIGHT
TZOFFSETFROM:-0400
TZOFFSETTO:-0300
TZNAME:ADT
DTSTART:20220313T060000
END:DAYLIGHT
BEGIN:STANDARD
TZOFFSETFROM:-0300
TZOFFSETTO:-0400
TZNAME:AST
DTSTART:20221106T050000
END:STANDARD
BEGIN:DAYLIGHT
TZOFFSETFROM:-0400
TZOFFSETTO:-0300
TZNAME:ADT
DTSTART:20230312T060000
END:DAYLIGHT
BEGIN:STANDARD
TZOFFSETFROM:-0300
TZOFFSETTO:-0400
TZNAME:AST
DTSTART:20231105T050000
END:STANDARD
BEGIN:DAYLIGHT
TZOFFSETFROM:-0400
TZOFFSETTO:-0300
TZNAME:ADT
DTSTART:20240310T060000
END:DAYLIGHT
BEGIN:STANDARD
TZOFFSETFROM:-0300
TZOFFSETTO:-0400
TZNAME:AST
DTSTART:20241103T050000
END:STANDARD
END:VTIMEZONE
BEGIN:VEVENT
DTSTART;VALUE=DATE:20230701
DTEND;VALUE=DATE:20230801
DTSTAMP:20260420T190909
CREATED:20230614T195108Z
LAST-MODIFIED:20230614T195108Z
UID:10004570-1688169600-1690847999@www.lovemylibrary.ca
SUMMARY:Nature Scavenger Hunt
DESCRIPTION:Do you love nature?  Visit us at the library for a nature scavenger hunt and receive your own nature journal to take home!  All ages are welcome to participate. \nThis is a drop in program. No registration is required. For details\, please call 902-883-9838 or email us at elmsdale@cehpubliclibrary.ca
URL:https://www.lovemylibrary.ca/event/nature-scavenger-hunt-2/
LOCATION:Elmsdale Library\, 15 Commerce Ct\, Elmsdale\, Nova Scotia\, Canada
ATTACH;FMTTYPE=image/png:https://www.lovemylibrary.ca/wp-content/uploads/2022/06/scavenger-hunt-1.png
END:VEVENT
BEGIN:VEVENT
DTSTART;VALUE=DATE:20230704
DTEND;VALUE=DATE:20230901
DTSTAMP:20260420T190909
CREATED:20230617T161559Z
LAST-MODIFIED:20230617T161559Z
UID:10004584-1688428800-1693526399@www.lovemylibrary.ca
SUMMARY:Truro Art Society: Transformation art exhibit
DESCRIPTION:A transformational art exhibit from the Truro Art Society will be running through July and August at the Truro Library. Members of the Truro Art Society will be on site to talk with you about their art and the inspiration behind the exhibit on Saturday\, July 15 @1:30-3pm. \nThis is a drop in program.
URL:https://www.lovemylibrary.ca/event/truro-art-society-transformation-art-exhibit/
LOCATION:Truro Library\, 754 Prince St\, Truro\, Nova Scotia\, Canada
CATEGORIES:Events For Adults,Events For Seniors,Location: Truro
ATTACH;FMTTYPE=image/png:https://www.lovemylibrary.ca/wp-content/uploads/2023/06/Untitled-design-95.png
END:VEVENT
BEGIN:VEVENT
DTSTART;VALUE=DATE:20230710
DTEND;VALUE=DATE:20230716
DTSTAMP:20260420T190909
CREATED:20220716T165239Z
LAST-MODIFIED:20230613T221019Z
UID:10001220-1688947200-1689465599@www.lovemylibrary.ca
SUMMARY:Teen Take-and-Make
DESCRIPTION:Pick up a kit with everything you need to make a macramé keychain\, plus some extra goodies! For ages 13-18 \nDrop in and pick up your kit\, while supplies last.
URL:https://www.lovemylibrary.ca/event/teen-take-and-make/
LOCATION:Truro Library\, 754 Prince St\, Truro\, Nova Scotia\, Canada
CATEGORIES:Crafting,Events For Teens,Location: Truro
ATTACH;FMTTYPE=image/png:https://www.lovemylibrary.ca/wp-content/uploads/2022/07/Untitled-design-83.png
END:VEVENT
BEGIN:VEVENT
DTSTART;TZID=America/Halifax:20230715T103000
DTEND;TZID=America/Halifax:20230715T113000
DTSTAMP:20260420T190909
CREATED:20230614T161555Z
LAST-MODIFIED:20230629T174620Z
UID:10004548-1689417000-1689420600@www.lovemylibrary.ca
SUMMARY:Saturday Stories
DESCRIPTION:Come for some stories and leave with a craft! Each week will feature a new theme and a fabulous craft. What more could you ask for? For ages 3 and up. \nThis is a drop in program. No registration is required.\n 
URL:https://www.lovemylibrary.ca/event/saturday-stories/2023-07-15/
LOCATION:Truro Library\, 754 Prince St\, Truro\, Nova Scotia\, Canada
CATEGORIES:Events For Kids,Location: Truro
ATTACH;FMTTYPE=image/png:https://www.lovemylibrary.ca/wp-content/uploads/2023/06/Untitled-design-88.png
END:VEVENT
BEGIN:VEVENT
DTSTART;TZID=America/Halifax:20230715T110000
DTEND;TZID=America/Halifax:20230715T130000
DTSTAMP:20260420T190909
CREATED:20230426T164440Z
LAST-MODIFIED:20230926T212223Z
UID:10004488-1689418800-1689426000@www.lovemylibrary.ca
SUMMARY:Technically Speaking
DESCRIPTION:Is your tablet confusing? Having trouble downloading an app to your phone or don’t know what an app means? Want to learn more about TikTok? Drop into the library with your questions and we can help. All ages are welcome. \nNo registration is required.
URL:https://www.lovemylibrary.ca/event/technically-speaking-3/2023-07-15/
LOCATION:Mount Uniacke Library\, 555\, Highway 1\, Mount Uniacke\, Nova Scotia\, Canada
CATEGORIES:Events For Adults,Location: Mount Uniacke
ATTACH;FMTTYPE=image/png:https://www.lovemylibrary.ca/wp-content/uploads/2023/04/Untitled-design-65.png
END:VEVENT
BEGIN:VEVENT
DTSTART;TZID=America/Halifax:20230715T130000
DTEND;TZID=America/Halifax:20230715T160000
DTSTAMP:20260420T190909
CREATED:20230612T192621Z
LAST-MODIFIED:20230612T192621Z
UID:10004502-1689426000-1689436800@www.lovemylibrary.ca
SUMMARY:Tech Help
DESCRIPTION:Bring your own device or use one of our computers. We can answer questions on: eReaders/ebooks\, basic computer navigation\, basic app use\, basic cellphone use\, basic tablet use\, general internet instruction\, research and using library electronic resources. All ages welcome. \nNo registration required.
URL:https://www.lovemylibrary.ca/event/tech-help-3/
LOCATION:Stewiacke Library\, 295 George Street\, Stewiacke\, Nova Scotia\, Canada
CATEGORIES:Events For Adults,Events For Seniors,Location: Stewiacke
ATTACH;FMTTYPE=image/png:https://www.lovemylibrary.ca/wp-content/uploads/2023/06/Your-paragraph-text-13.png
END:VEVENT
BEGIN:VEVENT
DTSTART;TZID=America/Halifax:20230715T133000
DTEND;TZID=America/Halifax:20230715T150000
DTSTAMP:20260420T190909
CREATED:20230617T162808Z
LAST-MODIFIED:20230617T162808Z
UID:10004585-1689427800-1689433200@www.lovemylibrary.ca
SUMMARY:Meet the Artists: Truro Art Society
DESCRIPTION:The Truro Art Society are the creators behind the art exhibit “Transformation” running through July and August at the Truro Library. They will be on site to talk with you about their art and the inspiration behind the exhibit. All ages are welcome. \nThis is a drop in program. No registration is required.
URL:https://www.lovemylibrary.ca/event/meet-the-artists-truro-art-society/
LOCATION:Truro Library\, 754 Prince St\, Truro\, Nova Scotia\, Canada
CATEGORIES:Events For Adults,Events For Seniors,Events For Teens,Location: Truro
ATTACH;FMTTYPE=image/png:https://www.lovemylibrary.ca/wp-content/uploads/2023/06/Untitled-design-96.png
END:VEVENT
END:VCALENDAR