BEGIN:VCALENDAR
VERSION:2.0
PRODID:-//Colchester East Hants Public Library - ECPv6.15.20//NONSGML v1.0//EN
CALSCALE:GREGORIAN
METHOD:PUBLISH
X-ORIGINAL-URL:https://www.lovemylibrary.ca
X-WR-CALDESC:Events for Colchester East Hants Public Library
REFRESH-INTERVAL;VALUE=DURATION:PT1H
X-Robots-Tag:noindex
X-PUBLISHED-TTL:PT1H
BEGIN:VTIMEZONE
TZID:America/Halifax
BEGIN:DAYLIGHT
TZOFFSETFROM:-0400
TZOFFSETTO:-0300
TZNAME:ADT
DTSTART:20220313T060000
END:DAYLIGHT
BEGIN:STANDARD
TZOFFSETFROM:-0300
TZOFFSETTO:-0400
TZNAME:AST
DTSTART:20221106T050000
END:STANDARD
BEGIN:DAYLIGHT
TZOFFSETFROM:-0400
TZOFFSETTO:-0300
TZNAME:ADT
DTSTART:20230312T060000
END:DAYLIGHT
BEGIN:STANDARD
TZOFFSETFROM:-0300
TZOFFSETTO:-0400
TZNAME:AST
DTSTART:20231105T050000
END:STANDARD
BEGIN:DAYLIGHT
TZOFFSETFROM:-0400
TZOFFSETTO:-0300
TZNAME:ADT
DTSTART:20240310T060000
END:DAYLIGHT
BEGIN:STANDARD
TZOFFSETFROM:-0300
TZOFFSETTO:-0400
TZNAME:AST
DTSTART:20241103T050000
END:STANDARD
END:VTIMEZONE
BEGIN:VEVENT
DTSTART;VALUE=DATE:20230701
DTEND;VALUE=DATE:20230801
DTSTAMP:20260421T161852
CREATED:20230614T195108Z
LAST-MODIFIED:20230614T195108Z
UID:10004570-1688169600-1690847999@www.lovemylibrary.ca
SUMMARY:Nature Scavenger Hunt
DESCRIPTION:Do you love nature?  Visit us at the library for a nature scavenger hunt and receive your own nature journal to take home!  All ages are welcome to participate. \nThis is a drop in program. No registration is required. For details\, please call 902-883-9838 or email us at elmsdale@cehpubliclibrary.ca
URL:https://www.lovemylibrary.ca/event/nature-scavenger-hunt-2/
LOCATION:Elmsdale Library\, 15 Commerce Ct\, Elmsdale\, Nova Scotia\, Canada
ATTACH;FMTTYPE=image/png:https://www.lovemylibrary.ca/wp-content/uploads/2022/06/scavenger-hunt-1.png
END:VEVENT
BEGIN:VEVENT
DTSTART;VALUE=DATE:20230704
DTEND;VALUE=DATE:20230901
DTSTAMP:20260421T161852
CREATED:20230617T161559Z
LAST-MODIFIED:20230617T161559Z
UID:10004584-1688428800-1693526399@www.lovemylibrary.ca
SUMMARY:Truro Art Society: Transformation art exhibit
DESCRIPTION:A transformational art exhibit from the Truro Art Society will be running through July and August at the Truro Library. Members of the Truro Art Society will be on site to talk with you about their art and the inspiration behind the exhibit on Saturday\, July 15 @1:30-3pm. \nThis is a drop in program.
URL:https://www.lovemylibrary.ca/event/truro-art-society-transformation-art-exhibit/
LOCATION:Truro Library\, 754 Prince St\, Truro\, Nova Scotia\, Canada
CATEGORIES:Events For Adults,Events For Seniors,Location: Truro
ATTACH;FMTTYPE=image/png:https://www.lovemylibrary.ca/wp-content/uploads/2023/06/Untitled-design-95.png
END:VEVENT
BEGIN:VEVENT
DTSTART;TZID=America/Halifax:20230721T100000
DTEND;TZID=America/Halifax:20230721T110000
DTSTAMP:20260421T161852
CREATED:20230609T171053Z
LAST-MODIFIED:20230630T124627Z
UID:10004453-1689933600-1689937200@www.lovemylibrary.ca
SUMMARY:English for Beginners
DESCRIPTION:Is English your second language? If you are wanting to learn English\, then we can help. Learn English with Eve. All are welcome. \nRegistration by phone 902-657-3064 or email: tatamago@cehpubliclibrary.ca
URL:https://www.lovemylibrary.ca/event/english-for-beginners-2-2/2023-07-21/
LOCATION:Tatamagouche Library\, 170 Main Street\, Tatamagouche\, Nova Scotia\, Canada
CATEGORIES:Location: Tatamagouche
ATTACH;FMTTYPE=image/jpeg:https://www.lovemylibrary.ca/wp-content/uploads/2023/03/pexels-tima-miroshnichenko-5428012-scaled.jpg
END:VEVENT
BEGIN:VEVENT
DTSTART;TZID=America/Halifax:20230721T100000
DTEND;TZID=America/Halifax:20230721T120000
DTSTAMP:20260421T161852
CREATED:20230215T201212Z
LAST-MODIFIED:20231214T201545Z
UID:10004557-1689933600-1689940800@www.lovemylibrary.ca
SUMMARY:One on One Tech Help
DESCRIPTION:Issues with your phone? Laptop? Social Media? Meet in-person with our digital literacy trainer to get your tech questions answered. \nPlease call 902-883-9838 or email at elmsdale@cehpubliclibrary.ca to book an appointment
URL:https://www.lovemylibrary.ca/event/one-on-one-tech-help-7-2/2023-07-21/
LOCATION:Elmsdale Library\, 15 Commerce Ct\, Elmsdale\, Nova Scotia\, Canada
CATEGORIES:Events For Adults,Location: Elmsdale
ATTACH;FMTTYPE=image/png:https://www.lovemylibrary.ca/wp-content/uploads/2022/03/Untitled-design-80.png
END:VEVENT
BEGIN:VEVENT
DTSTART;TZID=America/Halifax:20230721T100000
DTEND;TZID=America/Halifax:20230721T163000
DTSTAMP:20260421T161852
CREATED:20230612T194440Z
LAST-MODIFIED:20230628T143347Z
UID:10004510-1689933600-1689957000@www.lovemylibrary.ca
SUMMARY:Employment Services
DESCRIPTION:Need help getting hired or promoted? Learn to communicate your value and skills. Valerie Manuel\, Career Practitoner with Nova Scotia Works and YMCA of Greater Halifax/Dartmouth will be available to assist you. For ages 16+ \nDrop In or register at valerie.manuel@halifax.ymca.ca
URL:https://www.lovemylibrary.ca/event/employment-services-2/2023-07-21/
LOCATION:Stewiacke Library\, 295 George Street\, Stewiacke\, Nova Scotia\, Canada
CATEGORIES:Events For Adults,Events For Teens,Location: Stewiacke
ATTACH;FMTTYPE=image/png:https://www.lovemylibrary.ca/wp-content/uploads/2022/10/Untitled-design-49.png
END:VEVENT
BEGIN:VEVENT
DTSTART;TZID=America/Halifax:20230721T103000
DTEND;TZID=America/Halifax:20230721T113000
DTSTAMP:20260421T161852
CREATED:20230621T132639Z
LAST-MODIFIED:20230621T132639Z
UID:10004611-1689935400-1689939000@www.lovemylibrary.ca
SUMMARY:Police Storytime
DESCRIPTION:Constable Katie Titus from the Truro Police Service will be here for a storytime and touch-a-car event – with an extra special guest\, police dog Mojo! \nThis is a drop in program. No registration is required.\n 
URL:https://www.lovemylibrary.ca/event/police-storytime/
LOCATION:Truro Library\, 754 Prince St\, Truro\, Nova Scotia\, Canada
CATEGORIES:Events For Kids,Location: Truro
ATTACH;FMTTYPE=image/png:https://www.lovemylibrary.ca/wp-content/uploads/2023/06/Untitled-design-95-1.png
END:VEVENT
BEGIN:VEVENT
DTSTART;TZID=America/Halifax:20230721T110000
DTEND;TZID=America/Halifax:20230721T120000
DTSTAMP:20260421T161852
CREATED:20230329T185252Z
LAST-MODIFIED:20230609T171214Z
UID:10004457-1689937200-1689940800@www.lovemylibrary.ca
SUMMARY:Conversational English
DESCRIPTION:Improve your conversational English with Eve and meet new people in the community. All are welcome. \nRegistration by phone 902-657-3064 or email: tatamago@cehpubliclibrary.ca
URL:https://www.lovemylibrary.ca/event/english-for-beginners/2023-07-21/
LOCATION:Tatamagouche Library\, 170 Main Street\, Tatamagouche\, Nova Scotia\, Canada
CATEGORIES:Events For Adults,Location: Tatamagouche
ATTACH;FMTTYPE=image/png:https://www.lovemylibrary.ca/wp-content/uploads/2023/03/Untitled-design-54.png
END:VEVENT
BEGIN:VEVENT
DTSTART;TZID=America/Halifax:20230721T140000
DTEND;TZID=America/Halifax:20230721T160000
DTSTAMP:20260421T161852
CREATED:20230612T193508Z
LAST-MODIFIED:20230612T193508Z
UID:10004505-1689948000-1689955200@www.lovemylibrary.ca
SUMMARY:Galaxy Jars
DESCRIPTION:Make a galaxy jar using a few simple ingredients. Swirly\, bright and mesmerizing\, they are the perfect project. For all ages. \nNo registration required.
URL:https://www.lovemylibrary.ca/event/galaxy-jars/
LOCATION:Stewiacke Library\, 295 George Street\, Stewiacke\, Nova Scotia\, Canada
CATEGORIES:Events For Adults,Events For Kids,Events For Seniors,Events For Teens,Location: Stewiacke
ATTACH;FMTTYPE=image/png:https://www.lovemylibrary.ca/wp-content/uploads/2023/06/Your-paragraph-text-16.png
END:VEVENT
BEGIN:VEVENT
DTSTART;TZID=America/Halifax:20230721T150000
DTEND;TZID=America/Halifax:20230721T160000
DTSTAMP:20260421T161852
CREATED:20230612T191342Z
LAST-MODIFIED:20230612T191342Z
UID:10004496-1689951600-1689955200@www.lovemylibrary.ca
SUMMARY:What's on Your Phone?
DESCRIPTION:This is the one time you are encouraged to be on your phone. Play bingo and point based games. There will be prizes! For ages 13-18. \nNo registration required.
URL:https://www.lovemylibrary.ca/event/whats-on-your-phone/
LOCATION:Mount Uniacke Library\, 555\, Highway 1\, Mount Uniacke\, Nova Scotia\, Canada
CATEGORIES:Events For Teens,Location: Mount Uniacke
ATTACH;FMTTYPE=image/png:https://www.lovemylibrary.ca/wp-content/uploads/2023/06/Your-paragraph-text-8.png
END:VEVENT
END:VCALENDAR