BEGIN:VCALENDAR
VERSION:2.0
PRODID:-//Colchester East Hants Public Library - ECPv6.15.20//NONSGML v1.0//EN
CALSCALE:GREGORIAN
METHOD:PUBLISH
X-ORIGINAL-URL:https://www.lovemylibrary.ca
X-WR-CALDESC:Events for Colchester East Hants Public Library
REFRESH-INTERVAL;VALUE=DURATION:PT1H
X-Robots-Tag:noindex
X-PUBLISHED-TTL:PT1H
BEGIN:VTIMEZONE
TZID:America/Halifax
BEGIN:DAYLIGHT
TZOFFSETFROM:-0400
TZOFFSETTO:-0300
TZNAME:ADT
DTSTART:20220313T060000
END:DAYLIGHT
BEGIN:STANDARD
TZOFFSETFROM:-0300
TZOFFSETTO:-0400
TZNAME:AST
DTSTART:20221106T050000
END:STANDARD
BEGIN:DAYLIGHT
TZOFFSETFROM:-0400
TZOFFSETTO:-0300
TZNAME:ADT
DTSTART:20230312T060000
END:DAYLIGHT
BEGIN:STANDARD
TZOFFSETFROM:-0300
TZOFFSETTO:-0400
TZNAME:AST
DTSTART:20231105T050000
END:STANDARD
BEGIN:DAYLIGHT
TZOFFSETFROM:-0400
TZOFFSETTO:-0300
TZNAME:ADT
DTSTART:20240310T060000
END:DAYLIGHT
BEGIN:STANDARD
TZOFFSETFROM:-0300
TZOFFSETTO:-0400
TZNAME:AST
DTSTART:20241103T050000
END:STANDARD
END:VTIMEZONE
BEGIN:VEVENT
DTSTART;VALUE=DATE:20230701
DTEND;VALUE=DATE:20230801
DTSTAMP:20260420T160609
CREATED:20230614T195108Z
LAST-MODIFIED:20230614T195108Z
UID:10004570-1688169600-1690847999@www.lovemylibrary.ca
SUMMARY:Nature Scavenger Hunt
DESCRIPTION:Do you love nature?  Visit us at the library for a nature scavenger hunt and receive your own nature journal to take home!  All ages are welcome to participate. \nThis is a drop in program. No registration is required. For details\, please call 902-883-9838 or email us at elmsdale@cehpubliclibrary.ca
URL:https://www.lovemylibrary.ca/event/nature-scavenger-hunt-2/
LOCATION:Elmsdale Library\, 15 Commerce Ct\, Elmsdale\, Nova Scotia\, Canada
ATTACH;FMTTYPE=image/png:https://www.lovemylibrary.ca/wp-content/uploads/2022/06/scavenger-hunt-1.png
END:VEVENT
BEGIN:VEVENT
DTSTART;VALUE=DATE:20230704
DTEND;VALUE=DATE:20230901
DTSTAMP:20260420T160609
CREATED:20230617T161559Z
LAST-MODIFIED:20230617T161559Z
UID:10004584-1688428800-1693526399@www.lovemylibrary.ca
SUMMARY:Truro Art Society: Transformation art exhibit
DESCRIPTION:A transformational art exhibit from the Truro Art Society will be running through July and August at the Truro Library. Members of the Truro Art Society will be on site to talk with you about their art and the inspiration behind the exhibit on Saturday\, July 15 @1:30-3pm. \nThis is a drop in program.
URL:https://www.lovemylibrary.ca/event/truro-art-society-transformation-art-exhibit/
LOCATION:Truro Library\, 754 Prince St\, Truro\, Nova Scotia\, Canada
CATEGORIES:Events For Adults,Events For Seniors,Location: Truro
ATTACH;FMTTYPE=image/png:https://www.lovemylibrary.ca/wp-content/uploads/2023/06/Untitled-design-95.png
END:VEVENT
BEGIN:VEVENT
DTSTART;TZID=America/Halifax:20230722T103000
DTEND;TZID=America/Halifax:20230722T113000
DTSTAMP:20260420T160609
CREATED:20230614T161555Z
LAST-MODIFIED:20230629T174620Z
UID:10004549-1690021800-1690025400@www.lovemylibrary.ca
SUMMARY:Saturday Stories
DESCRIPTION:Come for some stories and leave with a craft! Each week will feature a new theme and a fabulous craft. What more could you ask for? For ages 3 and up. \nThis is a drop in program. No registration is required.\n 
URL:https://www.lovemylibrary.ca/event/saturday-stories/2023-07-22/
LOCATION:Truro Library\, 754 Prince St\, Truro\, Nova Scotia\, Canada
CATEGORIES:Events For Kids,Location: Truro
ATTACH;FMTTYPE=image/png:https://www.lovemylibrary.ca/wp-content/uploads/2023/06/Untitled-design-88.png
END:VEVENT
BEGIN:VEVENT
DTSTART;TZID=America/Halifax:20230722T110000
DTEND;TZID=America/Halifax:20230722T120000
DTSTAMP:20260420T160609
CREATED:20230609T172030Z
LAST-MODIFIED:20230609T172030Z
UID:10004460-1690023600-1690027200@www.lovemylibrary.ca
SUMMARY:Summer Flowers
DESCRIPTION:Gardening not your thing? Join us to make some beautiful flowers – no green thumb required. For seniors. \nTo register\, please call 902-657-3064 or email tatamago@cehpubliclibrary.ca
URL:https://www.lovemylibrary.ca/event/summer-flowers/
LOCATION:Tatamagouche Library\, 170 Main Street\, Tatamagouche\, Nova Scotia\, Canada
CATEGORIES:Events For Seniors,Location: Tatamagouche
ATTACH;FMTTYPE=image/png:https://www.lovemylibrary.ca/wp-content/uploads/2023/06/Untitled-design-2023-06-09T142547.506.png
END:VEVENT
BEGIN:VEVENT
DTSTART;TZID=America/Halifax:20230722T140000
DTEND;TZID=America/Halifax:20230722T150000
DTSTAMP:20260420T160609
CREATED:20221018T153340Z
LAST-MODIFIED:20231222T154016Z
UID:10005467-1690034400-1690038000@www.lovemylibrary.ca
SUMMARY:Lego Club
DESCRIPTION:Activate your creativity and imagination! We will proudly display what you build in our children’s area. For ages 5-100 \nThis is a drop-in program. No registration is required.
URL:https://www.lovemylibrary.ca/event/lego-club-5/2023-07-22/
LOCATION:Stewiacke Library\, 295 George Street\, Stewiacke\, Nova Scotia\, Canada
CATEGORIES:Events For Kids,Location: Stewiacke
ATTACH;FMTTYPE=image/png:https://www.lovemylibrary.ca/wp-content/uploads/2022/06/Untitled-design-20.png
END:VEVENT
BEGIN:VEVENT
DTSTART;TZID=America/Halifax:20230722T140000
DTEND;TZID=America/Halifax:20230722T150000
DTSTAMP:20260420T160609
CREATED:20230612T194628Z
LAST-MODIFIED:20230612T194628Z
UID:10004513-1690034400-1690038000@www.lovemylibrary.ca
SUMMARY:Lego Club
DESCRIPTION:Bring your imagination and create something special. Library space is available for display. All ages. \nNo registration required.
URL:https://www.lovemylibrary.ca/event/lego-club-6/2023-07-22/
LOCATION:Stewiacke Library\, 295 George Street\, Stewiacke\, Nova Scotia\, Canada
CATEGORIES:Events For Adults,Events For Kids,Events For Seniors,Events For Teens,Location: Stewiacke
ATTACH;FMTTYPE=image/png:https://www.lovemylibrary.ca/wp-content/uploads/2023/06/Your-paragraph-text-19.png
END:VEVENT
END:VCALENDAR