BEGIN:VCALENDAR
VERSION:2.0
PRODID:-//Colchester East Hants Public Library - ECPv6.15.20//NONSGML v1.0//EN
CALSCALE:GREGORIAN
METHOD:PUBLISH
X-ORIGINAL-URL:https://www.lovemylibrary.ca
X-WR-CALDESC:Events for Colchester East Hants Public Library
REFRESH-INTERVAL;VALUE=DURATION:PT1H
X-Robots-Tag:noindex
X-PUBLISHED-TTL:PT1H
BEGIN:VTIMEZONE
TZID:America/Halifax
BEGIN:DAYLIGHT
TZOFFSETFROM:-0400
TZOFFSETTO:-0300
TZNAME:ADT
DTSTART:20220313T060000
END:DAYLIGHT
BEGIN:STANDARD
TZOFFSETFROM:-0300
TZOFFSETTO:-0400
TZNAME:AST
DTSTART:20221106T050000
END:STANDARD
BEGIN:DAYLIGHT
TZOFFSETFROM:-0400
TZOFFSETTO:-0300
TZNAME:ADT
DTSTART:20230312T060000
END:DAYLIGHT
BEGIN:STANDARD
TZOFFSETFROM:-0300
TZOFFSETTO:-0400
TZNAME:AST
DTSTART:20231105T050000
END:STANDARD
BEGIN:DAYLIGHT
TZOFFSETFROM:-0400
TZOFFSETTO:-0300
TZNAME:ADT
DTSTART:20240310T060000
END:DAYLIGHT
BEGIN:STANDARD
TZOFFSETFROM:-0300
TZOFFSETTO:-0400
TZNAME:AST
DTSTART:20241103T050000
END:STANDARD
END:VTIMEZONE
BEGIN:VEVENT
DTSTART;VALUE=DATE:20230704
DTEND;VALUE=DATE:20230901
DTSTAMP:20260419T214154
CREATED:20230617T161559Z
LAST-MODIFIED:20230617T161559Z
UID:10004584-1688428800-1693526399@www.lovemylibrary.ca
SUMMARY:Truro Art Society: Transformation art exhibit
DESCRIPTION:A transformational art exhibit from the Truro Art Society will be running through July and August at the Truro Library. Members of the Truro Art Society will be on site to talk with you about their art and the inspiration behind the exhibit on Saturday\, July 15 @1:30-3pm. \nThis is a drop in program.
URL:https://www.lovemylibrary.ca/event/truro-art-society-transformation-art-exhibit/
LOCATION:Truro Library\, 754 Prince St\, Truro\, Nova Scotia\, Canada
CATEGORIES:Events For Adults,Events For Seniors,Location: Truro
ATTACH;FMTTYPE=image/png:https://www.lovemylibrary.ca/wp-content/uploads/2023/06/Untitled-design-95.png
END:VEVENT
BEGIN:VEVENT
DTSTART;VALUE=DATE:20230801
DTEND;VALUE=DATE:20230901
DTSTAMP:20260419T214154
CREATED:20230628T190927Z
LAST-MODIFIED:20230628T190927Z
UID:10004633-1690848000-1693526399@www.lovemylibrary.ca
SUMMARY:Little Free Pantry
DESCRIPTION:Take what you need. Give what you can. We carry non perishable food\, toiletries and cleaning supplies. Available during open hours.
URL:https://www.lovemylibrary.ca/event/little-free-pantry/
LOCATION:Stewiacke Library\, 295 George Street\, Stewiacke\, Nova Scotia\, Canada
CATEGORIES:Location: Stewiacke
ATTACH;FMTTYPE=image/png:https://www.lovemylibrary.ca/wp-content/uploads/2023/06/Untitled-design-2023-06-28T161451.795.png
END:VEVENT
BEGIN:VEVENT
DTSTART;TZID=America/Halifax:20230803T103000
DTEND;TZID=America/Halifax:20230803T113000
DTSTAMP:20260419T214154
CREATED:20230613T210632Z
LAST-MODIFIED:20230629T174311Z
UID:10004663-1691058600-1691062200@www.lovemylibrary.ca
SUMMARY:Summer Storytime Series
DESCRIPTION:Join us for stories\, songs\, and activities perfect for little ones and their families! All ages are welcome. \nThis is a drop in program. No registration is required.
URL:https://www.lovemylibrary.ca/event/summer-storytime-series/2023-08-03/
LOCATION:Truro Library\, 754 Prince St\, Truro\, Nova Scotia\, Canada
CATEGORIES:Events For Kids,Location: Truro
ATTACH;FMTTYPE=image/png:https://www.lovemylibrary.ca/wp-content/uploads/2022/09/Untitled-design-38.png
END:VEVENT
BEGIN:VEVENT
DTSTART;TZID=America/Halifax:20230803T110000
DTEND;TZID=America/Halifax:20230803T114500
DTSTAMP:20260419T214154
CREATED:20230612T195726Z
LAST-MODIFIED:20230612T195726Z
UID:10004514-1691060400-1691063100@www.lovemylibrary.ca
SUMMARY:Author Visit: Jack Wong
DESCRIPTION:Jack will read his new book When You Can Swim\, and chat about being an author\, and then lead participants in a collaborative drawing activity! For ages 3-9. \nNo registration required.
URL:https://www.lovemylibrary.ca/event/author-visit-jack-wong/
LOCATION:Stewiacke Library\, 295 George Street\, Stewiacke\, Nova Scotia\, Canada
CATEGORIES:Events For Kids,Location: Stewiacke
ATTACH;FMTTYPE=image/png:https://www.lovemylibrary.ca/wp-content/uploads/2023/06/Your-paragraph-text-20.png
END:VEVENT
BEGIN:VEVENT
DTSTART;TZID=America/Halifax:20230803T140000
DTEND;TZID=America/Halifax:20230803T144500
DTSTAMP:20260419T214154
CREATED:20230629T174455Z
LAST-MODIFIED:20230718T173232Z
UID:10004665-1691071200-1691073900@www.lovemylibrary.ca
SUMMARY:Author Visit: Jack Wong
DESCRIPTION:Jack Wong is an author and illustrator who was born in Hong Kong\, raised in Vancouver\, and now lives in Halifax. He will visit the library to read his most recent picture book\, When You Can Swim\, chat about being an author\, and lead participants in a collaborative drawing activity. For ages 4-9. \nCopies of When You Can Swim will be available for purchase at the event. \nTo register\, email info@cehpubliclibrary.ca or call 902-895-4183 \n 
URL:https://www.lovemylibrary.ca/event/author-visit-jack-wong-2/
LOCATION:Truro Library\, 754 Prince St\, Truro\, Nova Scotia\, Canada
CATEGORIES:Events For Kids,Location: Truro
ATTACH;FMTTYPE=image/png:https://www.lovemylibrary.ca/wp-content/uploads/2023/06/Your-paragraph-text-20.png
END:VEVENT
BEGIN:VEVENT
DTSTART;TZID=America/Halifax:20230803T140000
DTEND;TZID=America/Halifax:20230803T150000
DTSTAMP:20260419T214154
CREATED:20230627T203300Z
LAST-MODIFIED:20230627T203300Z
UID:10004617-1691071200-1691074800@www.lovemylibrary.ca
SUMMARY:Reader Spotlight
DESCRIPTION:Help fellow readers find a book they love!  All ages are welcome. \nThis is a drop in program. No registration is required.
URL:https://www.lovemylibrary.ca/event/reader-spotlight/
LOCATION:Stewiacke Community Centre\, Canada
CATEGORIES:Location: Stewiacke
ATTACH;FMTTYPE=image/png:https://www.lovemylibrary.ca/wp-content/uploads/2023/06/Untitled-design-97-1.png
END:VEVENT
BEGIN:VEVENT
DTSTART;TZID=America/Halifax:20230803T140000
DTEND;TZID=America/Halifax:20230803T150000
DTSTAMP:20260419T214154
CREATED:20230630T124955Z
LAST-MODIFIED:20230630T124955Z
UID:10004695-1691071200-1691074800@www.lovemylibrary.ca
SUMMARY:Tie Dye!
DESCRIPTION:We will show you have to make fun designs for tie dye! For ages 8-14 \nRegistration by phone 902-657-3064 or email: tatamago@cehpubliclibrary.ca
URL:https://www.lovemylibrary.ca/event/tie-dye/
LOCATION:Tatamagouche Library\, 170 Main Street\, Tatamagouche\, Nova Scotia\, Canada
CATEGORIES:Crafting,Events For Kids,Events For Teens,Location: Tatamagouche
ATTACH;FMTTYPE=image/png:https://www.lovemylibrary.ca/wp-content/uploads/2023/06/Untitled-design-2023-06-30T095536.264.png
END:VEVENT
BEGIN:VEVENT
DTSTART;TZID=America/Halifax:20230803T140000
DTEND;TZID=America/Halifax:20230803T160000
DTSTAMP:20260419T214154
CREATED:20230613T203815Z
LAST-MODIFIED:20230613T203815Z
UID:10004525-1691071200-1691078400@www.lovemylibrary.ca
SUMMARY:Teen Room Drop In
DESCRIPTION:Get out of the sun this summer in the newly reopened Teen Room!  Grab a snack\, play some games\, make art\, or just hang out with old friends or new ones! For ages 13-18 \nThis is a drop in program. No registration is required.
URL:https://www.lovemylibrary.ca/event/teen-room-drop-in-2/2023-08-03/
LOCATION:Truro Library\, 754 Prince St\, Truro\, Nova Scotia\, Canada
CATEGORIES:Events For Teens,Location: Truro
ATTACH;FMTTYPE=image/png:https://www.lovemylibrary.ca/wp-content/uploads/2023/06/Untitled-design-78.png
END:VEVENT
BEGIN:VEVENT
DTSTART;TZID=America/Halifax:20230803T150000
DTEND;TZID=America/Halifax:20230803T160000
DTSTAMP:20260419T214154
CREATED:20230612T190352Z
LAST-MODIFIED:20230612T190352Z
UID:10004490-1691074800-1691078400@www.lovemylibrary.ca
SUMMARY:Travel Adventures
DESCRIPTION:Have you ever been to another country? Did you ever wonder what games they play in Africa? Travel to different countries with our adventures tour. For ages 5-12. \nTo register\, email mtuniacke@cehpubliclibrary.ca or call 902-866-0124.
URL:https://www.lovemylibrary.ca/event/travel-adventures/
LOCATION:Mount Uniacke Library\, 555\, Highway 1\, Mount Uniacke\, Nova Scotia\, Canada
CATEGORIES:Events For Kids,Location: Mount Uniacke
ATTACH;FMTTYPE=image/png:https://www.lovemylibrary.ca/wp-content/uploads/2023/06/Your-paragraph-text-4.png
END:VEVENT
BEGIN:VEVENT
DTSTART;TZID=America/Halifax:20230803T160000
DTEND;TZID=America/Halifax:20230803T190000
DTSTAMP:20260419T214154
CREATED:20230628T192406Z
LAST-MODIFIED:20230628T192406Z
UID:10004639-1691078400-1691089200@www.lovemylibrary.ca
SUMMARY:3D Printer Showcase
DESCRIPTION:Watch our 3D printer in action! See how it works on a project from beginning to end. See you at the library!  All ages are welcome. \nFor more details\, please call 902-883-9838 or email us at elmsdale@cehpubliclibrary.ca
URL:https://www.lovemylibrary.ca/event/3d-printer-showcase/
LOCATION:Elmsdale Library\, 15 Commerce Ct\, Elmsdale\, Nova Scotia\, Canada
CATEGORIES:Location: Elmsdale
ATTACH;FMTTYPE=image/png:https://www.lovemylibrary.ca/wp-content/uploads/2023/06/Untitled-design-2023-06-28T162936.372.png
END:VEVENT
BEGIN:VEVENT
DTSTART;TZID=America/Halifax:20230803T183000
DTEND;TZID=America/Halifax:20230803T193000
DTSTAMP:20260419T214154
CREATED:20230629T194846Z
LAST-MODIFIED:20230823T165511Z
UID:10004397-1691087400-1691091000@www.lovemylibrary.ca
SUMMARY:Ukulele Night with Lyn(beginners welcome)
DESCRIPTION:Learn to play the Ukelele . This is an ongoing program\, but beginners are welcome to join. This is a program for adults. \nRegistration by phone 902-657-3064 or email: tatamago@cehpubliclibrary.ca
URL:https://www.lovemylibrary.ca/event/ukelele-with-lyn-beginners-welcome-2/2023-08-03/
LOCATION:Tatamagouche Library\, 170 Main Street\, Tatamagouche\, Nova Scotia\, Canada
CATEGORIES:Events For Adults,Events For Seniors,Location: Tatamagouche
ATTACH;FMTTYPE=image/png:https://www.lovemylibrary.ca/wp-content/uploads/2022/10/Untitled-design-17.png
END:VEVENT
END:VCALENDAR