BEGIN:VCALENDAR
VERSION:2.0
PRODID:-//Colchester East Hants Public Library - ECPv6.15.20//NONSGML v1.0//EN
CALSCALE:GREGORIAN
METHOD:PUBLISH
X-ORIGINAL-URL:https://www.lovemylibrary.ca
X-WR-CALDESC:Events for Colchester East Hants Public Library
REFRESH-INTERVAL;VALUE=DURATION:PT1H
X-Robots-Tag:noindex
X-PUBLISHED-TTL:PT1H
BEGIN:VTIMEZONE
TZID:America/Halifax
BEGIN:DAYLIGHT
TZOFFSETFROM:-0400
TZOFFSETTO:-0300
TZNAME:ADT
DTSTART:20220313T060000
END:DAYLIGHT
BEGIN:STANDARD
TZOFFSETFROM:-0300
TZOFFSETTO:-0400
TZNAME:AST
DTSTART:20221106T050000
END:STANDARD
BEGIN:DAYLIGHT
TZOFFSETFROM:-0400
TZOFFSETTO:-0300
TZNAME:ADT
DTSTART:20230312T060000
END:DAYLIGHT
BEGIN:STANDARD
TZOFFSETFROM:-0300
TZOFFSETTO:-0400
TZNAME:AST
DTSTART:20231105T050000
END:STANDARD
BEGIN:DAYLIGHT
TZOFFSETFROM:-0400
TZOFFSETTO:-0300
TZNAME:ADT
DTSTART:20240310T060000
END:DAYLIGHT
BEGIN:STANDARD
TZOFFSETFROM:-0300
TZOFFSETTO:-0400
TZNAME:AST
DTSTART:20241103T050000
END:STANDARD
END:VTIMEZONE
BEGIN:VEVENT
DTSTART;VALUE=DATE:20230704
DTEND;VALUE=DATE:20230901
DTSTAMP:20260419T103111
CREATED:20230617T161559Z
LAST-MODIFIED:20230617T161559Z
UID:10004584-1688428800-1693526399@www.lovemylibrary.ca
SUMMARY:Truro Art Society: Transformation art exhibit
DESCRIPTION:A transformational art exhibit from the Truro Art Society will be running through July and August at the Truro Library. Members of the Truro Art Society will be on site to talk with you about their art and the inspiration behind the exhibit on Saturday\, July 15 @1:30-3pm. \nThis is a drop in program.
URL:https://www.lovemylibrary.ca/event/truro-art-society-transformation-art-exhibit/
LOCATION:Truro Library\, 754 Prince St\, Truro\, Nova Scotia\, Canada
CATEGORIES:Events For Adults,Events For Seniors,Location: Truro
ATTACH;FMTTYPE=image/png:https://www.lovemylibrary.ca/wp-content/uploads/2023/06/Untitled-design-95.png
END:VEVENT
BEGIN:VEVENT
DTSTART;VALUE=DATE:20230801
DTEND;VALUE=DATE:20230901
DTSTAMP:20260419T103111
CREATED:20230628T190927Z
LAST-MODIFIED:20230628T190927Z
UID:10004633-1690848000-1693526399@www.lovemylibrary.ca
SUMMARY:Little Free Pantry
DESCRIPTION:Take what you need. Give what you can. We carry non perishable food\, toiletries and cleaning supplies. Available during open hours.
URL:https://www.lovemylibrary.ca/event/little-free-pantry/
LOCATION:Stewiacke Library\, 295 George Street\, Stewiacke\, Nova Scotia\, Canada
CATEGORIES:Location: Stewiacke
ATTACH;FMTTYPE=image/png:https://www.lovemylibrary.ca/wp-content/uploads/2023/06/Untitled-design-2023-06-28T161451.795.png
END:VEVENT
BEGIN:VEVENT
DTSTART;TZID=America/Halifax:20230810T103000
DTEND;TZID=America/Halifax:20230810T113000
DTSTAMP:20260419T103111
CREATED:20230613T210632Z
LAST-MODIFIED:20230629T174311Z
UID:10004664-1691663400-1691667000@www.lovemylibrary.ca
SUMMARY:Summer Storytime Series
DESCRIPTION:Join us for stories\, songs\, and activities perfect for little ones and their families! All ages are welcome. \nThis is a drop in program. No registration is required.
URL:https://www.lovemylibrary.ca/event/summer-storytime-series/2023-08-10/
LOCATION:Truro Library\, 754 Prince St\, Truro\, Nova Scotia\, Canada
CATEGORIES:Events For Kids,Location: Truro
ATTACH;FMTTYPE=image/png:https://www.lovemylibrary.ca/wp-content/uploads/2022/09/Untitled-design-38.png
END:VEVENT
BEGIN:VEVENT
DTSTART;TZID=America/Halifax:20230810T110000
DTEND;TZID=America/Halifax:20230810T123000
DTSTAMP:20260419T103111
CREATED:20230710T121813Z
LAST-MODIFIED:20230710T121813Z
UID:10004703-1691665200-1691670600@www.lovemylibrary.ca
SUMMARY:Drive into Summer with STEM!
DESCRIPTION:Come on down to the Elmsdale Library where we are going to be building giant motion machines using Sci-STEM Busy Builder pieces. You can build vehicles either from a variety of different instructions – or you can have a go at it using your own imagination! Explore the science of motion this summer and enjoy this fun STEM activity. \nFor ages 5-12. Drop-in\, no registration required.
URL:https://www.lovemylibrary.ca/event/drive-into-summer-with-stem/
LOCATION:Elmsdale Library\, 15 Commerce Ct\, Elmsdale\, Nova Scotia\, Canada
CATEGORIES:Events For Kids,Location: Elmsdale
ATTACH;FMTTYPE=image/png:https://www.lovemylibrary.ca/wp-content/uploads/2023/07/Untitled-design-2023-07-10T092419.451.png
END:VEVENT
BEGIN:VEVENT
DTSTART;TZID=America/Halifax:20230810T140000
DTEND;TZID=America/Halifax:20230810T160000
DTSTAMP:20260419T103111
CREATED:20230613T203815Z
LAST-MODIFIED:20230613T203815Z
UID:10004527-1691676000-1691683200@www.lovemylibrary.ca
SUMMARY:Teen Room Drop In
DESCRIPTION:Get out of the sun this summer in the newly reopened Teen Room!  Grab a snack\, play some games\, make art\, or just hang out with old friends or new ones! For ages 13-18 \nThis is a drop in program. No registration is required.
URL:https://www.lovemylibrary.ca/event/teen-room-drop-in-2/2023-08-10/
LOCATION:Truro Library\, 754 Prince St\, Truro\, Nova Scotia\, Canada
CATEGORIES:Events For Teens,Location: Truro
ATTACH;FMTTYPE=image/png:https://www.lovemylibrary.ca/wp-content/uploads/2023/06/Untitled-design-78.png
END:VEVENT
BEGIN:VEVENT
DTSTART;TZID=America/Halifax:20230810T140000
DTEND;TZID=America/Halifax:20230810T160000
DTSTAMP:20260419T103111
CREATED:20230627T224436Z
LAST-MODIFIED:20230627T224436Z
UID:10004620-1691676000-1691683200@www.lovemylibrary.ca
SUMMARY:Yes! You Can Be an Author/Illustrator
DESCRIPTION:Calling all budding wordsmiths and artisans….. Share your stories and drawings. We will laminate them and have them available here at the branch for others to enjoy/borrow. For ages 6-16 \nThis is a drop in program. No registration is required.
URL:https://www.lovemylibrary.ca/event/yes-you-can-be-an-author-illustrator/
LOCATION:Stewiacke Library\, 295 George Street\, Stewiacke\, Nova Scotia\, Canada
CATEGORIES:Events For Kids,Events For Teens,Location: Stewiacke
ATTACH;FMTTYPE=image/png:https://www.lovemylibrary.ca/wp-content/uploads/2023/06/Untitled-design-99-1.png
END:VEVENT
BEGIN:VEVENT
DTSTART;TZID=America/Halifax:20230810T143000
DTEND;TZID=America/Halifax:20230810T160000
DTSTAMP:20260419T103111
CREATED:20230629T175240Z
LAST-MODIFIED:20230629T175240Z
UID:10004670-1691677800-1691683200@www.lovemylibrary.ca
SUMMARY:Get Messy!: Slime
DESCRIPTION:Slime Time! Choose your slime\, choose your add ins\, and get your own personalized slime to take home! For ages 5-12. \nNo registration required.
URL:https://www.lovemylibrary.ca/event/get-messy-slime/
LOCATION:Truro Library\, 754 Prince St\, Truro\, Nova Scotia\, Canada
CATEGORIES:Events For Kids,Location: Truro
ATTACH;FMTTYPE=image/png:https://www.lovemylibrary.ca/wp-content/uploads/2023/06/Untitled-design-2023-06-29T145828.745.png
END:VEVENT
BEGIN:VEVENT
DTSTART;TZID=America/Halifax:20230810T173000
DTEND;TZID=America/Halifax:20230810T193000
DTSTAMP:20260419T103111
CREATED:20230215T203141Z
LAST-MODIFIED:20230919T213828Z
UID:10004641-1691688600-1691695800@www.lovemylibrary.ca
SUMMARY:Adult Board Games Night
DESCRIPTION:Get your game on! Come on out for an evening of board games. This is your chance to play some old favourites or learn a new one. For teens and adults. \nThis is a drop-in program. No registration is required. Please call 902-883-9838 or email at elmsdale@cehpubliclibrary.ca for more details
URL:https://www.lovemylibrary.ca/event/adult-board-games-night-6-2/2023-08-10/
LOCATION:Elmsdale Library\, 15 Commerce Ct\, Elmsdale\, Nova Scotia\, Canada
CATEGORIES:Events For Adults,Events For Seniors,Events For Teens,Location: Elmsdale
ATTACH;FMTTYPE=image/png:https://www.lovemylibrary.ca/wp-content/uploads/2023/02/Untitled-design-2023-05-16T103613.895.png
END:VEVENT
END:VCALENDAR