BEGIN:VCALENDAR
VERSION:2.0
PRODID:-//Colchester East Hants Public Library - ECPv6.15.20//NONSGML v1.0//EN
CALSCALE:GREGORIAN
METHOD:PUBLISH
X-ORIGINAL-URL:https://www.lovemylibrary.ca
X-WR-CALDESC:Events for Colchester East Hants Public Library
REFRESH-INTERVAL;VALUE=DURATION:PT1H
X-Robots-Tag:noindex
X-PUBLISHED-TTL:PT1H
BEGIN:VTIMEZONE
TZID:America/Halifax
BEGIN:DAYLIGHT
TZOFFSETFROM:-0400
TZOFFSETTO:-0300
TZNAME:ADT
DTSTART:20220313T060000
END:DAYLIGHT
BEGIN:STANDARD
TZOFFSETFROM:-0300
TZOFFSETTO:-0400
TZNAME:AST
DTSTART:20221106T050000
END:STANDARD
BEGIN:DAYLIGHT
TZOFFSETFROM:-0400
TZOFFSETTO:-0300
TZNAME:ADT
DTSTART:20230312T060000
END:DAYLIGHT
BEGIN:STANDARD
TZOFFSETFROM:-0300
TZOFFSETTO:-0400
TZNAME:AST
DTSTART:20231105T050000
END:STANDARD
BEGIN:DAYLIGHT
TZOFFSETFROM:-0400
TZOFFSETTO:-0300
TZNAME:ADT
DTSTART:20240310T060000
END:DAYLIGHT
BEGIN:STANDARD
TZOFFSETFROM:-0300
TZOFFSETTO:-0400
TZNAME:AST
DTSTART:20241103T050000
END:STANDARD
END:VTIMEZONE
BEGIN:VEVENT
DTSTART;VALUE=DATE:20230704
DTEND;VALUE=DATE:20230901
DTSTAMP:20260419T182242
CREATED:20230617T161559Z
LAST-MODIFIED:20230617T161559Z
UID:10004584-1688428800-1693526399@www.lovemylibrary.ca
SUMMARY:Truro Art Society: Transformation art exhibit
DESCRIPTION:A transformational art exhibit from the Truro Art Society will be running through July and August at the Truro Library. Members of the Truro Art Society will be on site to talk with you about their art and the inspiration behind the exhibit on Saturday\, July 15 @1:30-3pm. \nThis is a drop in program.
URL:https://www.lovemylibrary.ca/event/truro-art-society-transformation-art-exhibit/
LOCATION:Truro Library\, 754 Prince St\, Truro\, Nova Scotia\, Canada
CATEGORIES:Events For Adults,Events For Seniors,Location: Truro
ATTACH;FMTTYPE=image/png:https://www.lovemylibrary.ca/wp-content/uploads/2023/06/Untitled-design-95.png
END:VEVENT
BEGIN:VEVENT
DTSTART;VALUE=DATE:20230801
DTEND;VALUE=DATE:20230901
DTSTAMP:20260419T182242
CREATED:20230628T190927Z
LAST-MODIFIED:20230628T190927Z
UID:10004633-1690848000-1693526399@www.lovemylibrary.ca
SUMMARY:Little Free Pantry
DESCRIPTION:Take what you need. Give what you can. We carry non perishable food\, toiletries and cleaning supplies. Available during open hours.
URL:https://www.lovemylibrary.ca/event/little-free-pantry/
LOCATION:Stewiacke Library\, 295 George Street\, Stewiacke\, Nova Scotia\, Canada
CATEGORIES:Location: Stewiacke
ATTACH;FMTTYPE=image/png:https://www.lovemylibrary.ca/wp-content/uploads/2023/06/Untitled-design-2023-06-28T161451.795.png
END:VEVENT
BEGIN:VEVENT
DTSTART;TZID=America/Halifax:20230817T100000
DTEND;TZID=America/Halifax:20230817T140000
DTSTAMP:20260419T182242
CREATED:20230816T145705Z
LAST-MODIFIED:20230816T145706Z
UID:10004656-1692266400-1692280800@www.lovemylibrary.ca
SUMMARY:Lego Day
DESCRIPTION:Let’s get building!  We have tons of LEGO for you to build your masterpiece. All ages are welcome! \nThis is a drop in program. No registration is required. For details\, please call 902-883-9838 or email us at elmsdale@cehpubliclibrary.ca
URL:https://www.lovemylibrary.ca/event/lego-day-2-2/
LOCATION:Elmsdale Library\, 15 Commerce Ct\, Elmsdale\, Nova Scotia\, Canada
CATEGORIES:Events For Kids,Location: Elmsdale
ATTACH;FMTTYPE=image/png:https://www.lovemylibrary.ca/wp-content/uploads/2022/06/Untitled-design-20.png
END:VEVENT
BEGIN:VEVENT
DTSTART;TZID=America/Halifax:20230817T140000
DTEND;TZID=America/Halifax:20230817T160000
DTSTAMP:20260419T182242
CREATED:20230613T203815Z
LAST-MODIFIED:20230613T203815Z
UID:10004529-1692280800-1692288000@www.lovemylibrary.ca
SUMMARY:Teen Room Drop In
DESCRIPTION:Get out of the sun this summer in the newly reopened Teen Room!  Grab a snack\, play some games\, make art\, or just hang out with old friends or new ones! For ages 13-18 \nThis is a drop in program. No registration is required.
URL:https://www.lovemylibrary.ca/event/teen-room-drop-in-2/2023-08-17/
LOCATION:Truro Library\, 754 Prince St\, Truro\, Nova Scotia\, Canada
CATEGORIES:Events For Teens,Location: Truro
ATTACH;FMTTYPE=image/png:https://www.lovemylibrary.ca/wp-content/uploads/2023/06/Untitled-design-78.png
END:VEVENT
BEGIN:VEVENT
DTSTART;TZID=America/Halifax:20230817T140000
DTEND;TZID=America/Halifax:20230817T160000
DTSTAMP:20260419T182242
CREATED:20230630T143528Z
LAST-MODIFIED:20230630T144410Z
UID:10004696-1692280800-1692288000@www.lovemylibrary.ca
SUMMARY:Summer Reading Wrap Party
DESCRIPTION:Let’s celebrate all our Summer adventures with SRC. For ages 3-12 \nThis is a drop in program. No registration is required.
URL:https://www.lovemylibrary.ca/event/src-wrap-party-2/
LOCATION:Tatamagouche Library\, 170 Main Street\, Tatamagouche\, Nova Scotia\, Canada
CATEGORIES:Events For Kids,Location: Tatamagouche
ATTACH;FMTTYPE=image/png:https://www.lovemylibrary.ca/wp-content/uploads/2023/05/DRAFT-SRC-2023-Postcard-2400-×-2560-px.png
END:VEVENT
BEGIN:VEVENT
DTSTART;TZID=America/Halifax:20230817T180000
DTEND;TZID=America/Halifax:20230817T193000
DTSTAMP:20260419T182242
CREATED:20230629T144639Z
LAST-MODIFIED:20230629T144639Z
UID:10004658-1692295200-1692300600@www.lovemylibrary.ca
SUMMARY:Rainbow Social (Adult)
DESCRIPTION:Looking for a space to be out and social? Want to make some new friends in the area? Have scalding opinions on media that you’re dying to share? Join us for a time of fun and friendly gay chatter! All 2SLGBTQIAP+ and questioning individuals welcome! Light refreshments available. For ages 19 and up \nFor details\, please call us at 902-883-9838 or email us at elmsdale@cehpubliclibrary.ca
URL:https://www.lovemylibrary.ca/event/rainbow-social-adult/
LOCATION:Elmsdale Library\, 15 Commerce Ct\, Elmsdale\, Nova Scotia\, Canada
CATEGORIES:Events For Adults,Location: Elmsdale
ATTACH;FMTTYPE=image/png:https://www.lovemylibrary.ca/wp-content/uploads/2022/06/Untitled-700-×-500-px-3.png
END:VEVENT
BEGIN:VEVENT
DTSTART;TZID=America/Halifax:20230817T183000
DTEND;TZID=America/Halifax:20230817T193000
DTSTAMP:20260419T182242
CREATED:20230629T194846Z
LAST-MODIFIED:20230823T165511Z
UID:10004682-1692297000-1692300600@www.lovemylibrary.ca
SUMMARY:Ukulele Night with Lyn(beginners welcome)
DESCRIPTION:Learn to play the Ukelele . This is an ongoing program\, but beginners are welcome to join. This is a program for adults. \nRegistration by phone 902-657-3064 or email: tatamago@cehpubliclibrary.ca
URL:https://www.lovemylibrary.ca/event/ukelele-with-lyn-beginners-welcome-2/2023-08-17/
LOCATION:Tatamagouche Library\, 170 Main Street\, Tatamagouche\, Nova Scotia\, Canada
CATEGORIES:Events For Adults,Events For Seniors,Location: Tatamagouche
ATTACH;FMTTYPE=image/png:https://www.lovemylibrary.ca/wp-content/uploads/2022/10/Untitled-design-17.png
END:VEVENT
END:VCALENDAR