BEGIN:VCALENDAR
VERSION:2.0
PRODID:-//Colchester East Hants Public Library - ECPv6.15.20//NONSGML v1.0//EN
CALSCALE:GREGORIAN
METHOD:PUBLISH
X-WR-CALNAME:Colchester East Hants Public Library
X-ORIGINAL-URL:https://www.lovemylibrary.ca
X-WR-CALDESC:Events for Colchester East Hants Public Library
REFRESH-INTERVAL;VALUE=DURATION:PT1H
X-Robots-Tag:noindex
X-PUBLISHED-TTL:PT1H
BEGIN:VTIMEZONE
TZID:America/Halifax
BEGIN:DAYLIGHT
TZOFFSETFROM:-0400
TZOFFSETTO:-0300
TZNAME:ADT
DTSTART:20220313T060000
END:DAYLIGHT
BEGIN:STANDARD
TZOFFSETFROM:-0300
TZOFFSETTO:-0400
TZNAME:AST
DTSTART:20221106T050000
END:STANDARD
BEGIN:DAYLIGHT
TZOFFSETFROM:-0400
TZOFFSETTO:-0300
TZNAME:ADT
DTSTART:20230312T060000
END:DAYLIGHT
BEGIN:STANDARD
TZOFFSETFROM:-0300
TZOFFSETTO:-0400
TZNAME:AST
DTSTART:20231105T050000
END:STANDARD
BEGIN:DAYLIGHT
TZOFFSETFROM:-0400
TZOFFSETTO:-0300
TZNAME:ADT
DTSTART:20240310T060000
END:DAYLIGHT
BEGIN:STANDARD
TZOFFSETFROM:-0300
TZOFFSETTO:-0400
TZNAME:AST
DTSTART:20241103T050000
END:STANDARD
END:VTIMEZONE
BEGIN:VEVENT
DTSTART;VALUE=DATE:20230704
DTEND;VALUE=DATE:20230901
DTSTAMP:20260419T203614
CREATED:20230617T161559Z
LAST-MODIFIED:20230617T161559Z
UID:10004584-1688428800-1693526399@www.lovemylibrary.ca
SUMMARY:Truro Art Society: Transformation art exhibit
DESCRIPTION:A transformational art exhibit from the Truro Art Society will be running through July and August at the Truro Library. Members of the Truro Art Society will be on site to talk with you about their art and the inspiration behind the exhibit on Saturday\, July 15 @1:30-3pm. \nThis is a drop in program.
URL:https://www.lovemylibrary.ca/event/truro-art-society-transformation-art-exhibit/
LOCATION:Truro Library\, 754 Prince St\, Truro\, Nova Scotia\, Canada
CATEGORIES:Events For Adults,Events For Seniors,Location: Truro
ATTACH;FMTTYPE=image/png:https://www.lovemylibrary.ca/wp-content/uploads/2023/06/Untitled-design-95.png
END:VEVENT
BEGIN:VEVENT
DTSTART;VALUE=DATE:20230801
DTEND;VALUE=DATE:20230901
DTSTAMP:20260419T203614
CREATED:20230628T190927Z
LAST-MODIFIED:20230628T190927Z
UID:10004633-1690848000-1693526399@www.lovemylibrary.ca
SUMMARY:Little Free Pantry
DESCRIPTION:Take what you need. Give what you can. We carry non perishable food\, toiletries and cleaning supplies. Available during open hours.
URL:https://www.lovemylibrary.ca/event/little-free-pantry/
LOCATION:Stewiacke Library\, 295 George Street\, Stewiacke\, Nova Scotia\, Canada
CATEGORIES:Location: Stewiacke
ATTACH;FMTTYPE=image/png:https://www.lovemylibrary.ca/wp-content/uploads/2023/06/Untitled-design-2023-06-28T161451.795.png
END:VEVENT
BEGIN:VEVENT
DTSTART;TZID=America/Halifax:20230819T113000
DTEND;TZID=America/Halifax:20230819T123000
DTSTAMP:20260419T203614
CREATED:20230619T141421Z
LAST-MODIFIED:20230619T141508Z
UID:10004607-1692444600-1692448200@www.lovemylibrary.ca
SUMMARY:Overbooked Social
DESCRIPTION:Are you new to the area? Retired? Just want to get out of the house? Join us for a monthly gab session and get to know the people in your community. Light refreshments will be available. \nDrop-in\, no registration required.
URL:https://www.lovemylibrary.ca/event/overbooked-social-3/2023-08-19/
LOCATION:Mount Uniacke Library\, 555\, Highway 1\, Mount Uniacke\, Nova Scotia\, Canada
CATEGORIES:Events For Adults,Events For Seniors,Location: Mount Uniacke
ATTACH;FMTTYPE=image/png:https://www.lovemylibrary.ca/wp-content/uploads/2023/06/Untitled-design-2023-06-19T111314.785.png
END:VEVENT
BEGIN:VEVENT
DTSTART;TZID=America/Halifax:20230819T120000
DTEND;TZID=America/Halifax:20230819T140000
DTSTAMP:20260419T203614
CREATED:20230710T122004Z
LAST-MODIFIED:20230710T122004Z
UID:10004704-1692446400-1692453600@www.lovemylibrary.ca
SUMMARY:Intro to Zines Workshop
DESCRIPTION:We’re getting together to make some zines! What’s a zine? It’s a DIY mini magazine/fanzine – they can be about anything you want it to be! Even Albert Einstein’s quest to become a Pokémon Master or a collection of haikus about pecan pies – whatever you want! We’ll have coloured-sharpies\, magazines for cut-outs and collages & a type-writer. We just need your help to fill in the paper with whatever is in your bouncing around in that creative brain of yours\, but feel free to bring your own supplies. \nFor ages 13+ \nDrop-in\, no registration required.
URL:https://www.lovemylibrary.ca/event/intro-to-zines-workshop/
LOCATION:Elmsdale Library\, 15 Commerce Ct\, Elmsdale\, Nova Scotia\, Canada
CATEGORIES:Events For Adults,Events For Teens,Location: Elmsdale
ATTACH;FMTTYPE=image/png:https://www.lovemylibrary.ca/wp-content/uploads/2023/07/Untitled-design-2023-07-10T092613.375.png
END:VEVENT
BEGIN:VEVENT
DTSTART;TZID=America/Halifax:20230819T130000
DTEND;TZID=America/Halifax:20230819T163000
DTSTAMP:20260419T203614
CREATED:20230628T135317Z
LAST-MODIFIED:20230628T135317Z
UID:10004623-1692450000-1692462600@www.lovemylibrary.ca
SUMMARY:Summer Reading Club Wind Up Party Adopt a Shell
DESCRIPTION:Keep those super fun summer memories going by adopting a shell to read to. Select a shell\, fill out the adoption certificate\, have a snack and take your new family member home. For ages 3-18 \nThis is a drop in program. No registration is required.
URL:https://www.lovemylibrary.ca/event/summer-reading-club-wind-up-party-adopt-a-shell/
LOCATION:Stewiacke Library\, 295 George Street\, Stewiacke\, Nova Scotia\, Canada
CATEGORIES:Events For Kids,Events For Teens,Location: Stewiacke
ATTACH;FMTTYPE=image/png:https://www.lovemylibrary.ca/wp-content/uploads/2023/05/DRAFT-SRC-2023-Postcard-2400-×-2560-px-500-×-500-px.png
END:VEVENT
BEGIN:VEVENT
DTSTART;TZID=America/Halifax:20230819T140000
DTEND;TZID=America/Halifax:20230819T150000
DTSTAMP:20260419T203614
CREATED:20221018T153340Z
LAST-MODIFIED:20231222T154016Z
UID:10005469-1692453600-1692457200@www.lovemylibrary.ca
SUMMARY:Lego Club
DESCRIPTION:Activate your creativity and imagination! We will proudly display what you build in our children’s area. For ages 5-100 \nThis is a drop-in program. No registration is required.
URL:https://www.lovemylibrary.ca/event/lego-club-5/2023-08-19/
LOCATION:Stewiacke Library\, 295 George Street\, Stewiacke\, Nova Scotia\, Canada
CATEGORIES:Events For Kids,Location: Stewiacke
ATTACH;FMTTYPE=image/png:https://www.lovemylibrary.ca/wp-content/uploads/2022/06/Untitled-design-20.png
END:VEVENT
BEGIN:VEVENT
DTSTART;TZID=America/Halifax:20230819T140000
DTEND;TZID=America/Halifax:20230819T150000
DTSTAMP:20260419T203614
CREATED:20230628T143228Z
LAST-MODIFIED:20230628T143228Z
UID:10004627-1692453600-1692457200@www.lovemylibrary.ca
SUMMARY:LEGO
DESCRIPTION:Bring your imagination and create something special. Library space is available for display. For ages 5-99 \nThis is a drop in program. No registration is required.
URL:https://www.lovemylibrary.ca/event/lego/2023-08-19/
LOCATION:Stewiacke Library\, 295 George Street\, Stewiacke\, Nova Scotia\, Canada
CATEGORIES:Events For Kids,Location: Stewiacke
ATTACH;FMTTYPE=image/png:https://www.lovemylibrary.ca/wp-content/uploads/2023/06/Your-paragraph-text-19.png
END:VEVENT
END:VCALENDAR