BEGIN:VCALENDAR
VERSION:2.0
PRODID:-//Colchester East Hants Public Library - ECPv6.15.20//NONSGML v1.0//EN
CALSCALE:GREGORIAN
METHOD:PUBLISH
X-WR-CALNAME:Colchester East Hants Public Library
X-ORIGINAL-URL:https://www.lovemylibrary.ca
X-WR-CALDESC:Events for Colchester East Hants Public Library
REFRESH-INTERVAL;VALUE=DURATION:PT1H
X-Robots-Tag:noindex
X-PUBLISHED-TTL:PT1H
BEGIN:VTIMEZONE
TZID:America/Halifax
BEGIN:DAYLIGHT
TZOFFSETFROM:-0400
TZOFFSETTO:-0300
TZNAME:ADT
DTSTART:20220313T060000
END:DAYLIGHT
BEGIN:STANDARD
TZOFFSETFROM:-0300
TZOFFSETTO:-0400
TZNAME:AST
DTSTART:20221106T050000
END:STANDARD
BEGIN:DAYLIGHT
TZOFFSETFROM:-0400
TZOFFSETTO:-0300
TZNAME:ADT
DTSTART:20230312T060000
END:DAYLIGHT
BEGIN:STANDARD
TZOFFSETFROM:-0300
TZOFFSETTO:-0400
TZNAME:AST
DTSTART:20231105T050000
END:STANDARD
BEGIN:DAYLIGHT
TZOFFSETFROM:-0400
TZOFFSETTO:-0300
TZNAME:ADT
DTSTART:20240310T060000
END:DAYLIGHT
BEGIN:STANDARD
TZOFFSETFROM:-0300
TZOFFSETTO:-0400
TZNAME:AST
DTSTART:20241103T050000
END:STANDARD
END:VTIMEZONE
BEGIN:VEVENT
DTSTART;VALUE=DATE:20230901
DTEND;VALUE=DATE:20240101
DTSTAMP:20260419T165018
CREATED:20230825T180640Z
LAST-MODIFIED:20230825T180640Z
UID:10004816-1693526400-1704067199@www.lovemylibrary.ca
SUMMARY:Mount Uniacke Book Challenge 2023.
DESCRIPTION:Read or listen to something new each month and earn a ballot for a monthly\, quarterly\, and yearly prize. Each month is a new genre to try. All ages are welcome to participate. \nThis is a drop in program. No registration is required.
URL:https://www.lovemylibrary.ca/event/mount-uniacke-book-challenge-2023/
LOCATION:Mount Uniacke Library\, 555\, Highway 1\, Mount Uniacke\, Nova Scotia\, Canada
CATEGORIES:Location: Mount Uniacke
ATTACH;FMTTYPE=image/jpeg:https://www.lovemylibrary.ca/wp-content/uploads/2023/08/pexels-pixabay-159711-scaled.jpg
END:VEVENT
BEGIN:VEVENT
DTSTART;TZID=America/Halifax:20230916T103000
DTEND;TZID=America/Halifax:20230916T110000
DTSTAMP:20260419T165018
CREATED:20230825T170353Z
LAST-MODIFIED:20230926T210634Z
UID:10004793-1694860200-1694862000@www.lovemylibrary.ca
SUMMARY:Storytime
DESCRIPTION:Enjoy a picture book read by Karri or Bernie and then participate in an activity. For pre schoolers and home schoolers. \nThis is a drop-in program. No registration is required.
URL:https://www.lovemylibrary.ca/event/storytime-4-2-2/2023-09-16/
LOCATION:Mount Uniacke Library\, 555\, Highway 1\, Mount Uniacke\, Nova Scotia\, Canada
CATEGORIES:Events For Kids,Location: Mount Uniacke
ATTACH;FMTTYPE=image/png:https://www.lovemylibrary.ca/wp-content/uploads/2022/05/Untitled-design-2.png
END:VEVENT
BEGIN:VEVENT
DTSTART;TZID=America/Halifax:20230916T110000
DTEND;TZID=America/Halifax:20230916T120000
DTSTAMP:20260419T165018
CREATED:20230823T172855Z
LAST-MODIFIED:20230823T172855Z
UID:10004783-1694862000-1694865600@www.lovemylibrary.ca
SUMMARY:Design your vase
DESCRIPTION:Make a beautiful vase for Fall flowers. All seniors are welcome. \nRegistration by phone 902-657-3064 or email: tatamago@cehpubliclibrary.ca
URL:https://www.lovemylibrary.ca/event/design-your-vase/
LOCATION:Tatamagouche Library\, 170 Main Street\, Tatamagouche\, Nova Scotia\, Canada
CATEGORIES:Crafting,Events For Seniors
ATTACH;FMTTYPE=image/png:https://www.lovemylibrary.ca/wp-content/uploads/2023/08/Untitled-design-2023-08-23T143522.432.png
END:VEVENT
BEGIN:VEVENT
DTSTART;TZID=America/Halifax:20230916T140000
DTEND;TZID=America/Halifax:20230916T150000
DTSTAMP:20260419T165018
CREATED:20221018T153340Z
LAST-MODIFIED:20231222T154016Z
UID:10005471-1694872800-1694876400@www.lovemylibrary.ca
SUMMARY:Lego Club
DESCRIPTION:Activate your creativity and imagination! We will proudly display what you build in our children’s area. For ages 5-100 \nThis is a drop-in program. No registration is required.
URL:https://www.lovemylibrary.ca/event/lego-club-5/2023-09-16/
LOCATION:Stewiacke Library\, 295 George Street\, Stewiacke\, Nova Scotia\, Canada
CATEGORIES:Events For Kids,Location: Stewiacke
ATTACH;FMTTYPE=image/png:https://www.lovemylibrary.ca/wp-content/uploads/2022/06/Untitled-design-20.png
END:VEVENT
BEGIN:VEVENT
DTSTART;TZID=America/Halifax:20230916T140000
DTEND;TZID=America/Halifax:20230916T160000
DTSTAMP:20260419T165018
CREATED:20230822T154953Z
LAST-MODIFIED:20230908T130025Z
UID:10004758-1694872800-1694880000@www.lovemylibrary.ca
SUMMARY:Indigenous blanket exercise learning circle workshop
DESCRIPTION:This in-person workshop brings people together to explore truths that are integral to the reconciliation process. Guided by experienced facilitators from Santele’s Healing Circles\, participants are actively involved on a journey through the historic and contemporary relationship between Indigenous and non-Indigenous peoples. The journey spans centuries\, from pre-European contact to treaty-making\, colonization\, resistance\, and perseverance. This event is for everyone ages 18+. \nTo register\, email info@cehpubliclibrary.ca
URL:https://www.lovemylibrary.ca/event/indigenous-blanket-exercise-learning-circle-workshop/
LOCATION:Truro Library\, 754 Prince St\, Truro\, Nova Scotia\, Canada
CATEGORIES:Events For Adults,Location: Truro
ATTACH;FMTTYPE=image/png:https://www.lovemylibrary.ca/wp-content/uploads/2023/08/Untitled-design-2023-08-22T125431.080.png
END:VEVENT
END:VCALENDAR