BEGIN:VCALENDAR
VERSION:2.0
PRODID:-//Colchester East Hants Public Library - ECPv6.15.20//NONSGML v1.0//EN
CALSCALE:GREGORIAN
METHOD:PUBLISH
X-WR-CALNAME:Colchester East Hants Public Library
X-ORIGINAL-URL:https://www.lovemylibrary.ca
X-WR-CALDESC:Events for Colchester East Hants Public Library
REFRESH-INTERVAL;VALUE=DURATION:PT1H
X-Robots-Tag:noindex
X-PUBLISHED-TTL:PT1H
BEGIN:VTIMEZONE
TZID:America/Halifax
BEGIN:DAYLIGHT
TZOFFSETFROM:-0400
TZOFFSETTO:-0300
TZNAME:ADT
DTSTART:20220313T060000
END:DAYLIGHT
BEGIN:STANDARD
TZOFFSETFROM:-0300
TZOFFSETTO:-0400
TZNAME:AST
DTSTART:20221106T050000
END:STANDARD
BEGIN:DAYLIGHT
TZOFFSETFROM:-0400
TZOFFSETTO:-0300
TZNAME:ADT
DTSTART:20230312T060000
END:DAYLIGHT
BEGIN:STANDARD
TZOFFSETFROM:-0300
TZOFFSETTO:-0400
TZNAME:AST
DTSTART:20231105T050000
END:STANDARD
BEGIN:DAYLIGHT
TZOFFSETFROM:-0400
TZOFFSETTO:-0300
TZNAME:ADT
DTSTART:20240310T060000
END:DAYLIGHT
BEGIN:STANDARD
TZOFFSETFROM:-0300
TZOFFSETTO:-0400
TZNAME:AST
DTSTART:20241103T050000
END:STANDARD
END:VTIMEZONE
BEGIN:VEVENT
DTSTART;VALUE=DATE:20230901
DTEND;VALUE=DATE:20240101
DTSTAMP:20260419T121920
CREATED:20230825T180640Z
LAST-MODIFIED:20230825T180640Z
UID:10004816-1693526400-1704067199@www.lovemylibrary.ca
SUMMARY:Mount Uniacke Book Challenge 2023.
DESCRIPTION:Read or listen to something new each month and earn a ballot for a monthly\, quarterly\, and yearly prize. Each month is a new genre to try. All ages are welcome to participate. \nThis is a drop in program. No registration is required.
URL:https://www.lovemylibrary.ca/event/mount-uniacke-book-challenge-2023/
LOCATION:Mount Uniacke Library\, 555\, Highway 1\, Mount Uniacke\, Nova Scotia\, Canada
CATEGORIES:Location: Mount Uniacke
ATTACH;FMTTYPE=image/jpeg:https://www.lovemylibrary.ca/wp-content/uploads/2023/08/pexels-pixabay-159711-scaled.jpg
END:VEVENT
BEGIN:VEVENT
DTSTART;VALUE=DATE:20230918
DTEND;VALUE=DATE:20230924
DTSTAMP:20260419T121920
CREATED:20230823T162634Z
LAST-MODIFIED:20230823T162634Z
UID:10004764-1694995200-1695513599@www.lovemylibrary.ca
SUMMARY:Science Literacy Week Take Home Craft
DESCRIPTION:Celebrate Science Literacy Week (Sept 18-24)! Pick up a kit to make our science-themed\, family-oriented take home craft.
URL:https://www.lovemylibrary.ca/event/science-literacy-week-take-home-craft/
LOCATION:Truro Library\, 754 Prince St\, Truro\, Nova Scotia\, Canada
CATEGORIES:Events For Adults,Events For Kids,Location: Truro
ATTACH;FMTTYPE=image/png:https://www.lovemylibrary.ca/wp-content/uploads/2023/08/Untitled-design-2023-08-23T133241.219.png
END:VEVENT
BEGIN:VEVENT
DTSTART;VALUE=DATE:20230918
DTEND;VALUE=DATE:20230924
DTSTAMP:20260419T121920
CREATED:20230905T221228Z
LAST-MODIFIED:20230905T221228Z
UID:10005349-1694995200-1695513599@www.lovemylibrary.ca
SUMMARY:Science Literacy Week Take-Home Craft
DESCRIPTION:Celebrate Science Literacy Week! Pick up a kit to make our science-themed\, family-oriented take home craft. Kits are available starting Sept. 18  All ages are welcome to participate.
URL:https://www.lovemylibrary.ca/event/science-literacy-week-take-home-craft-2/
LOCATION:Truro Library\, 754 Prince St\, Truro\, Nova Scotia\, Canada
CATEGORIES:Events For Kids,Location: Truro,STEAM
ATTACH;FMTTYPE=image/png:https://www.lovemylibrary.ca/wp-content/uploads/2023/08/Untitled-design-2023-08-23T133241.219.png
END:VEVENT
BEGIN:VEVENT
DTSTART;TZID=America/Halifax:20230918T100000
DTEND;TZID=America/Halifax:20230918T150000
DTSTAMP:20260419T121920
CREATED:20220921T173420Z
LAST-MODIFIED:20230905T221354Z
UID:10001369-1695031200-1695049200@www.lovemylibrary.ca
SUMMARY:Giant Board Games
DESCRIPTION:What’s more fun than board games?  GIANT board games!  Check out our life-sized games . All ages are welcome to play. \nThis is a drop-in program. No registration is required.
URL:https://www.lovemylibrary.ca/event/giant-board-games/
LOCATION:Truro Library\, 754 Prince St\, Truro\, Nova Scotia\, Canada
CATEGORIES:Events For Kids,Location: Truro
ATTACH;FMTTYPE=application/pdf:https://www.lovemylibrary.ca/wp-content/uploads/2022/09/Untitled-design-4-1.pdf
END:VEVENT
BEGIN:VEVENT
DTSTART;TZID=America/Halifax:20230918T133000
DTEND;TZID=America/Halifax:20230918T163000
DTSTAMP:20260419T121920
CREATED:20221026T175545Z
LAST-MODIFIED:20230919T182903Z
UID:10004771-1695043800-1695054600@www.lovemylibrary.ca
SUMMARY:Scrabble Group
DESCRIPTION:What spells F-U-N? Playing Scrabble with friends! \nThis is a drop-in program.  No registration is required.
URL:https://www.lovemylibrary.ca/event/scrabble-group-3-2/2023-09-18/
LOCATION:Truro Library\, 754 Prince St\, Truro\, Nova Scotia\, Canada
CATEGORIES:Events For Adults,Events For Seniors,Location: Truro
ATTACH;FMTTYPE=image/png:https://www.lovemylibrary.ca/wp-content/uploads/2022/05/Add-a-subheading-700-×-500-px-3.png
END:VEVENT
END:VCALENDAR