BEGIN:VCALENDAR
VERSION:2.0
PRODID:-//Colchester East Hants Public Library - ECPv6.15.20//NONSGML v1.0//EN
CALSCALE:GREGORIAN
METHOD:PUBLISH
X-WR-CALNAME:Colchester East Hants Public Library
X-ORIGINAL-URL:https://www.lovemylibrary.ca
X-WR-CALDESC:Events for Colchester East Hants Public Library
REFRESH-INTERVAL;VALUE=DURATION:PT1H
X-Robots-Tag:noindex
X-PUBLISHED-TTL:PT1H
BEGIN:VTIMEZONE
TZID:America/Halifax
BEGIN:DAYLIGHT
TZOFFSETFROM:-0400
TZOFFSETTO:-0300
TZNAME:ADT
DTSTART:20220313T060000
END:DAYLIGHT
BEGIN:STANDARD
TZOFFSETFROM:-0300
TZOFFSETTO:-0400
TZNAME:AST
DTSTART:20221106T050000
END:STANDARD
BEGIN:DAYLIGHT
TZOFFSETFROM:-0400
TZOFFSETTO:-0300
TZNAME:ADT
DTSTART:20230312T060000
END:DAYLIGHT
BEGIN:STANDARD
TZOFFSETFROM:-0300
TZOFFSETTO:-0400
TZNAME:AST
DTSTART:20231105T050000
END:STANDARD
BEGIN:DAYLIGHT
TZOFFSETFROM:-0400
TZOFFSETTO:-0300
TZNAME:ADT
DTSTART:20240310T060000
END:DAYLIGHT
BEGIN:STANDARD
TZOFFSETFROM:-0300
TZOFFSETTO:-0400
TZNAME:AST
DTSTART:20241103T050000
END:STANDARD
END:VTIMEZONE
BEGIN:VEVENT
DTSTART;VALUE=DATE:20230901
DTEND;VALUE=DATE:20240101
DTSTAMP:20260419T212346
CREATED:20230825T180640Z
LAST-MODIFIED:20230825T180640Z
UID:10004816-1693526400-1704067199@www.lovemylibrary.ca
SUMMARY:Mount Uniacke Book Challenge 2023.
DESCRIPTION:Read or listen to something new each month and earn a ballot for a monthly\, quarterly\, and yearly prize. Each month is a new genre to try. All ages are welcome to participate. \nThis is a drop in program. No registration is required.
URL:https://www.lovemylibrary.ca/event/mount-uniacke-book-challenge-2023/
LOCATION:Mount Uniacke Library\, 555\, Highway 1\, Mount Uniacke\, Nova Scotia\, Canada
CATEGORIES:Location: Mount Uniacke
ATTACH;FMTTYPE=image/jpeg:https://www.lovemylibrary.ca/wp-content/uploads/2023/08/pexels-pixabay-159711-scaled.jpg
END:VEVENT
BEGIN:VEVENT
DTSTART;VALUE=DATE:20231002
DTEND;VALUE=DATE:20231201
DTSTAMP:20260419T212346
CREATED:20230919T153914Z
LAST-MODIFIED:20230919T153914Z
UID:10005393-1696204800-1701388799@www.lovemylibrary.ca
SUMMARY:“Gratitude” Rug Hooking Art exhibit by Ursula Ryle-Gulliver
DESCRIPTION:A rug hooking art exhibit that expresses gratitude from Ursula Ryle-Gulliver will be running through October and November at the Truro Library. Be sure to sign the guest book at the Second Floor information desk. Ursula will be on site to talk with you about her art and the inspiration behind the exhibit on Saturday\, Oct. 7 @2-3pm.  All ages are welcome. \n 
URL:https://www.lovemylibrary.ca/event/gratitude-rug-hooking-art-exhibit-by-ursula-ryle-gulliver/
LOCATION:Truro Library\, 754 Prince St\, Truro\, Nova Scotia\, Canada
CATEGORIES:Events For Adults,Events For Kids,Events For Seniors,Location: Truro
ATTACH;FMTTYPE=image/png:https://www.lovemylibrary.ca/wp-content/uploads/2023/09/Untitled-design-2023-09-19T123837.163.png
END:VEVENT
BEGIN:VEVENT
DTSTART;TZID=America/Halifax:20231010T100000
DTEND;TZID=America/Halifax:20231010T104500
DTSTAMP:20260419T212346
CREATED:20230918T180904Z
LAST-MODIFIED:20230918T181016Z
UID:10005369-1696932000-1696934700@www.lovemylibrary.ca
SUMMARY:Baby\, Me\, & Mother Goose
DESCRIPTION:Learn rhymes\, songs and have fun with your baby. For all parents with babies 3-18 months. The session will take place at Maggie’s Place. \nTo register\, please call 902-895-0200
URL:https://www.lovemylibrary.ca/event/baby-me-mother-goose-2-2/2023-10-10/
LOCATION:Maggie’s Place\, 1027 Prince Street\, Truro\, Nova Scotia\, B2N 1H7\, Canada
CATEGORIES:Events For Kids,Location: Truro
ATTACH;FMTTYPE=image/png:https://www.lovemylibrary.ca/wp-content/uploads/2022/03/Untitled-design-75.png
END:VEVENT
BEGIN:VEVENT
DTSTART;TZID=America/Halifax:20231010T110000
DTEND;TZID=America/Halifax:20231010T120000
DTSTAMP:20260419T212346
CREATED:20230823T161102Z
LAST-MODIFIED:20231211T181524Z
UID:10005396-1696935600-1696939200@www.lovemylibrary.ca
SUMMARY:Conversational English
DESCRIPTION:Is English your 2nd language? Or maybe your 4th? Our Conversational English program is for those who would like to practice their English in a fun and friendly environment. In partnership with YREACH. \nThis is a drop-in program.  No registration is required.
URL:https://www.lovemylibrary.ca/event/conversational-english-2-2-2-2-2/2023-10-10/
LOCATION:Truro Library\, 754 Prince St\, Truro\, Nova Scotia\, Canada
CATEGORIES:Events For Adults,Events For Seniors,Location: Truro
ATTACH;FMTTYPE=image/jpeg:https://www.lovemylibrary.ca/wp-content/uploads/2021/08/13.jpg
END:VEVENT
BEGIN:VEVENT
DTSTART;TZID=America/Halifax:20231010T133000
DTEND;TZID=America/Halifax:20231010T143000
DTSTAMP:20260419T212346
CREATED:20230905T221526Z
LAST-MODIFIED:20230905T222025Z
UID:10005352-1696944600-1696948200@www.lovemylibrary.ca
SUMMARY:Homeschoolers Haven
DESCRIPTION:Homeschoolers Haven is a place for Homeschool families to meet and share resources. There will be  activities for the children.   For ages 5+ \nThis is a drop-in program. No registration is required.
URL:https://www.lovemylibrary.ca/event/homeschoolers-haven-2-2/2023-10-10/
LOCATION:Truro Library\, 754 Prince St\, Truro\, Nova Scotia\, Canada
CATEGORIES:Events For Kids,Events For Teens,Location: Truro
ATTACH;FMTTYPE=image/png:https://www.lovemylibrary.ca/wp-content/uploads/2022/07/Untitled-design-9.png
END:VEVENT
BEGIN:VEVENT
DTSTART;TZID=America/Halifax:20231010T140000
DTEND;TZID=America/Halifax:20231010T170000
DTSTAMP:20260419T212346
CREATED:20230825T174138Z
LAST-MODIFIED:20230926T210755Z
UID:10005506-1696946400-1696957200@www.lovemylibrary.ca
SUMMARY:Afterschool Survival
DESCRIPTION:Time to unwind\, get your homework done\, play on the computer\, or just hang out with your friends. For ages 8-15 \nThis is a drop in program. No registration is required.
URL:https://www.lovemylibrary.ca/event/afterschool-survival/2023-10-10/
LOCATION:Mount Uniacke Library\, 555\, Highway 1\, Mount Uniacke\, Nova Scotia\, Canada
CATEGORIES:Events For Kids,Events For Teens,Location: Mount Uniacke
ATTACH;FMTTYPE=image/png:https://www.lovemylibrary.ca/wp-content/uploads/2023/08/Untitled-design-99.png
END:VEVENT
BEGIN:VEVENT
DTSTART;TZID=America/Halifax:20231010T150000
DTEND;TZID=America/Halifax:20231010T163000
DTSTAMP:20260419T212346
CREATED:20230918T182106Z
LAST-MODIFIED:20240326T211453Z
UID:10005382-1696950000-1696955400@www.lovemylibrary.ca
SUMMARY:Teen Room Drop In
DESCRIPTION:Come hang out\, grab a snack\, play some Mario Kart on our new Nintendo Switch\, or make art. \nAges 13-18 \nThis is a drop-in program. No registration is required.
URL:https://www.lovemylibrary.ca/event/teen-room-drop-in-3/2023-10-10/
LOCATION:Truro Library\, 754 Prince St\, Truro\, Nova Scotia\, Canada
ATTACH;FMTTYPE=image/png:https://www.lovemylibrary.ca/wp-content/uploads/2022/10/Untitled-design-53.png
END:VEVENT
BEGIN:VEVENT
DTSTART;TZID=America/Halifax:20231010T173000
DTEND;TZID=America/Halifax:20231010T200000
DTSTAMP:20260419T212346
CREATED:20221116T204822Z
LAST-MODIFIED:20230919T183845Z
UID:10005425-1696959000-1696968000@www.lovemylibrary.ca
SUMMARY:Heroes & Adventurers
DESCRIPTION:Role-playing game nights with extraordinary people! We provide the supplies\, you provide the imagination. No experience needed. All ages welcome! \nRegister to play by emailing: HAATruro@gmail.com Sorry\, no drop-in players at this time.
URL:https://www.lovemylibrary.ca/event/heroes-adventurers-3/2023-10-10/
LOCATION:Truro Library\, 754 Prince St\, Truro\, Nova Scotia\, Canada
CATEGORIES:Location: Truro
ATTACH;FMTTYPE=image/png:https://www.lovemylibrary.ca/wp-content/uploads/2022/06/D-and-D.png
END:VEVENT
BEGIN:VEVENT
DTSTART;TZID=America/Halifax:20231010T180000
DTEND;TZID=America/Halifax:20231010T200000
DTSTAMP:20260419T212346
CREATED:20230822T155533Z
LAST-MODIFIED:20230901T181903Z
UID:10004759-1696960800-1696968000@www.lovemylibrary.ca
SUMMARY:Indigenous Virtual Blanket Exercise
DESCRIPTION:This online workshop brings people together to explore truths that are integral to the reconciliation process. Guided by experienced vIBE facilitators from Santele’s Healing Circles\, participants are actively involved on a journey through the historic and contemporary relationship between Indigenous and non-Indigenous peoples. The journey spans centuries\, from pre-European contact to treaty-making\, colonization\, resistance\, and perseverance.\nThis event is for everyone ages 18+. It takes place via Zoom and requires access to a desktop computer or laptop. \n\nTo register\, email info@cehpubliclibrary.ca
URL:https://www.lovemylibrary.ca/event/indigenous-virtual-blanket-exercise/
LOCATION:Virtual
CATEGORIES:Events For Adults,Location: Virtual
ATTACH;FMTTYPE=image/png:https://www.lovemylibrary.ca/wp-content/uploads/2023/08/Untitled-design-2023-08-22T125431.080-1.png
END:VEVENT
BEGIN:VEVENT
DTSTART;TZID=America/Halifax:20231010T183000
DTEND;TZID=America/Halifax:20231010T200000
DTSTAMP:20260419T212346
CREATED:20221020T193052Z
LAST-MODIFIED:20230926T211554Z
UID:10005517-1696962600-1696968000@www.lovemylibrary.ca
SUMMARY:Ewe-niacke Yarn Club
DESCRIPTION:Fiber art for all ages and abilities. Learn to knit or crochet\, bring a project you are working on\, or just come hang out with the club for some social time. All ages welcome. \nDrop in\, no registration required.
URL:https://www.lovemylibrary.ca/event/ewe-niacke-yarn-club-3/2023-10-10/
LOCATION:Mount Uniacke Library\, 555\, Highway 1\, Mount Uniacke\, Nova Scotia\, Canada
CATEGORIES:Crafting,Events For Adults,Events For Kids,Events For Seniors,Location: Mount Uniacke
ATTACH;FMTTYPE=image/png:https://www.lovemylibrary.ca/wp-content/uploads/2022/03/Untitled-design-89.png
END:VEVENT
BEGIN:VEVENT
DTSTART;TZID=America/Halifax:20231010T184500
DTEND;TZID=America/Halifax:20231010T194500
DTSTAMP:20260419T212346
CREATED:20230920T190431Z
LAST-MODIFIED:20231025T163346Z
UID:10005479-1696963500-1696967100@www.lovemylibrary.ca
SUMMARY:Fiber Art Tuesdays
DESCRIPTION:Bring your current project and meet with other fiber artists. This is a great opportunity to share and ask questions. All ages are welcome. \nThis is a drop in program. No registration is required.
URL:https://www.lovemylibrary.ca/event/fiber-art-tuesdays/2023-10-10/
LOCATION:Stewiacke Library\, 295 George Street\, Stewiacke\, Nova Scotia\, Canada
CATEGORIES:Events For Adults,Events For Kids,Events For Seniors,Events For Teens,Location: Stewiacke
ATTACH;FMTTYPE=image/png:https://www.lovemylibrary.ca/wp-content/uploads/2023/09/Untitled-design-2023-09-20T160357.765.png
END:VEVENT
END:VCALENDAR