BEGIN:VCALENDAR
VERSION:2.0
PRODID:-//Colchester East Hants Public Library - ECPv6.15.20//NONSGML v1.0//EN
CALSCALE:GREGORIAN
METHOD:PUBLISH
X-WR-CALNAME:Colchester East Hants Public Library
X-ORIGINAL-URL:https://www.lovemylibrary.ca
X-WR-CALDESC:Events for Colchester East Hants Public Library
REFRESH-INTERVAL;VALUE=DURATION:PT1H
X-Robots-Tag:noindex
X-PUBLISHED-TTL:PT1H
BEGIN:VTIMEZONE
TZID:America/Halifax
BEGIN:DAYLIGHT
TZOFFSETFROM:-0400
TZOFFSETTO:-0300
TZNAME:ADT
DTSTART:20220313T060000
END:DAYLIGHT
BEGIN:STANDARD
TZOFFSETFROM:-0300
TZOFFSETTO:-0400
TZNAME:AST
DTSTART:20221106T050000
END:STANDARD
BEGIN:DAYLIGHT
TZOFFSETFROM:-0400
TZOFFSETTO:-0300
TZNAME:ADT
DTSTART:20230312T060000
END:DAYLIGHT
BEGIN:STANDARD
TZOFFSETFROM:-0300
TZOFFSETTO:-0400
TZNAME:AST
DTSTART:20231105T050000
END:STANDARD
BEGIN:DAYLIGHT
TZOFFSETFROM:-0400
TZOFFSETTO:-0300
TZNAME:ADT
DTSTART:20240310T060000
END:DAYLIGHT
BEGIN:STANDARD
TZOFFSETFROM:-0300
TZOFFSETTO:-0400
TZNAME:AST
DTSTART:20241103T050000
END:STANDARD
END:VTIMEZONE
BEGIN:VEVENT
DTSTART;VALUE=DATE:20230901
DTEND;VALUE=DATE:20240101
DTSTAMP:20260425T184220
CREATED:20230825T180640Z
LAST-MODIFIED:20230825T180640Z
UID:10004816-1693526400-1704067199@www.lovemylibrary.ca
SUMMARY:Mount Uniacke Book Challenge 2023.
DESCRIPTION:Read or listen to something new each month and earn a ballot for a monthly\, quarterly\, and yearly prize. Each month is a new genre to try. All ages are welcome to participate. \nThis is a drop in program. No registration is required.
URL:https://www.lovemylibrary.ca/event/mount-uniacke-book-challenge-2023/
LOCATION:Mount Uniacke Library\, 555\, Highway 1\, Mount Uniacke\, Nova Scotia\, Canada
CATEGORIES:Location: Mount Uniacke
ATTACH;FMTTYPE=image/jpeg:https://www.lovemylibrary.ca/wp-content/uploads/2023/08/pexels-pixabay-159711-scaled.jpg
END:VEVENT
BEGIN:VEVENT
DTSTART;VALUE=DATE:20231002
DTEND;VALUE=DATE:20231201
DTSTAMP:20260425T184220
CREATED:20230919T153914Z
LAST-MODIFIED:20230919T153914Z
UID:10005393-1696204800-1701388799@www.lovemylibrary.ca
SUMMARY:“Gratitude” Rug Hooking Art exhibit by Ursula Ryle-Gulliver
DESCRIPTION:A rug hooking art exhibit that expresses gratitude from Ursula Ryle-Gulliver will be running through October and November at the Truro Library. Be sure to sign the guest book at the Second Floor information desk. Ursula will be on site to talk with you about her art and the inspiration behind the exhibit on Saturday\, Oct. 7 @2-3pm.  All ages are welcome. \n 
URL:https://www.lovemylibrary.ca/event/gratitude-rug-hooking-art-exhibit-by-ursula-ryle-gulliver/
LOCATION:Truro Library\, 754 Prince St\, Truro\, Nova Scotia\, Canada
CATEGORIES:Events For Adults,Events For Kids,Events For Seniors,Location: Truro
ATTACH;FMTTYPE=image/png:https://www.lovemylibrary.ca/wp-content/uploads/2023/09/Untitled-design-2023-09-19T123837.163.png
END:VEVENT
BEGIN:VEVENT
DTSTART;VALUE=DATE:20231114
DTEND;VALUE=DATE:20231203
DTSTAMP:20260425T184220
CREATED:20221018T184116Z
LAST-MODIFIED:20231025T164449Z
UID:10001832-1699920000-1701561599@www.lovemylibrary.ca
SUMMARY:3rd Annual Pajama Drive
DESCRIPTION:Donate a pair of NEW PAJAMAS and help keep someone warm this winter. · All sizes welcome. · All donations will be distributed by the Shumilacke Foodbank. · Donations accepted at the Stewiacke Library until Saturday\, December 2.
URL:https://www.lovemylibrary.ca/event/2nd-annual-pajama-drive/
LOCATION:Stewiacke Library\, 295 George Street\, Stewiacke\, Nova Scotia\, Canada
CATEGORIES:Events For Adults,Location: Stewiacke
ATTACH;FMTTYPE=image/png:https://www.lovemylibrary.ca/wp-content/uploads/2022/10/Untitled-design-48.png
END:VEVENT
BEGIN:VEVENT
DTSTART;TZID=America/Halifax:20231123T100000
DTEND;TZID=America/Halifax:20231123T110000
DTSTAMP:20260425T184220
CREATED:20231031T184356Z
LAST-MODIFIED:20231102T174446Z
UID:10005751-1700733600-1700737200@www.lovemylibrary.ca
SUMMARY:Author Reading with Eric Walters
DESCRIPTION:Eric Walters is an award-winning author of more than 100 books for children and teens. He’s received countless awards and honours and his books have been translated into more than a dozen languages. Join us on Zoom for a presentation that blends drama\, storytelling\, audience participation and interaction! Suitable for ages 10 and up. \nTo register\, email info@cehpubliclibrary.ca
URL:https://www.lovemylibrary.ca/event/author-reading-with-eric-walters/
LOCATION:Virtual
CATEGORIES:Events For Kids,Location: Virtual
ATTACH;FMTTYPE=image/png:https://www.lovemylibrary.ca/wp-content/uploads/2023/10/Untitled-design-2023-10-31T154344.411.png
END:VEVENT
BEGIN:VEVENT
DTSTART;TZID=America/Halifax:20231123T103000
DTEND;TZID=America/Halifax:20231123T110000
DTSTAMP:20260425T184220
CREATED:20231024T183913Z
LAST-MODIFIED:20231024T183913Z
UID:10005571-1700735400-1700737200@www.lovemylibrary.ca
SUMMARY:Baby Rhyme Time
DESCRIPTION:Discover the joy of songs\, finger plays\, bouncing rhymes and simple books. Infant-2 years old with a caregiver \nThis is a drop in program. No registration is required.
URL:https://www.lovemylibrary.ca/event/baby-rhyme-time-7/2023-11-23/
LOCATION:Stewiacke Library\, 295 George Street\, Stewiacke\, Nova Scotia\, Canada
CATEGORIES:Events For Kids,Location: Stewiacke
ATTACH;FMTTYPE=image/png:https://www.lovemylibrary.ca/wp-content/uploads/2022/03/Untitled-design-75.png
END:VEVENT
BEGIN:VEVENT
DTSTART;TZID=America/Halifax:20231123T110000
DTEND;TZID=America/Halifax:20231123T112000
DTSTAMP:20260425T184220
CREATED:20230905T220254Z
LAST-MODIFIED:20231117T203537Z
UID:10005582-1700737200-1700738400@www.lovemylibrary.ca
SUMMARY:Tales for Tots
DESCRIPTION:Join us Thursday mornings for stories\, songs\, and activities that are just right for terrific toddlers! \n18 months-4 years with a parent/caregiver. \nDrop-in\, no registration required.
URL:https://www.lovemylibrary.ca/event/tales-for-tots-2/2023-11-23/
LOCATION:Truro Library\, 754 Prince St\, Truro\, Nova Scotia\, Canada
CATEGORIES:Events For Kids,Location: Truro
ATTACH;FMTTYPE=image/png:https://www.lovemylibrary.ca/wp-content/uploads/2022/03/Untitled-design-81.png
END:VEVENT
BEGIN:VEVENT
DTSTART;TZID=America/Halifax:20231123T130000
DTEND;TZID=America/Halifax:20231123T140000
DTSTAMP:20260425T184220
CREATED:20230816T145033Z
LAST-MODIFIED:20231025T190529Z
UID:10005648-1700744400-1700748000@www.lovemylibrary.ca
SUMMARY:Creative Storytime
DESCRIPTION:Come along and enjoy an hour of fun filled story time and craft. For children ages 2-5 \nRegistration required – Please call at 902-883-9838 or email us at elmsdale@cehpubliclibrary.ca for more details
URL:https://www.lovemylibrary.ca/event/creative-storytime/2023-11-23/
LOCATION:Elmsdale Library\, 15 Commerce Ct\, Elmsdale\, Nova Scotia\, Canada
CATEGORIES:Events For Kids
ATTACH;FMTTYPE=image/png:https://www.lovemylibrary.ca/wp-content/uploads/2023/08/Untitled-design-2023-08-16T115649.114.png
END:VEVENT
BEGIN:VEVENT
DTSTART;TZID=America/Halifax:20231123T130000
DTEND;TZID=America/Halifax:20231123T140000
DTSTAMP:20260425T184220
CREATED:20230929T165653Z
LAST-MODIFIED:20231123T190517Z
UID:10005687-1700744400-1700748000@www.lovemylibrary.ca
SUMMARY:Pre-school Story time
DESCRIPTION:Come and enjoy story and a craft. For children ages 4-7 \nThis is a drop in program. No registration is required.
URL:https://www.lovemylibrary.ca/event/pre-school-story-time/2023-11-23/
LOCATION:Tatamagouche Library\, 170 Main Street\, Tatamagouche\, Nova Scotia\, Canada
CATEGORIES:Events For Kids,Location: Tatamagouche
ATTACH;FMTTYPE=image/png:https://www.lovemylibrary.ca/wp-content/uploads/2022/09/Untitled-design-38.png
END:VEVENT
BEGIN:VEVENT
DTSTART;TZID=America/Halifax:20231123T150000
DTEND;TZID=America/Halifax:20231123T163000
DTSTAMP:20260425T184220
CREATED:20230918T182106Z
LAST-MODIFIED:20240326T211453Z
UID:10005591-1700751600-1700757000@www.lovemylibrary.ca
SUMMARY:Teen Room Drop In
DESCRIPTION:Come hang out\, grab a snack\, play some Mario Kart on our new Nintendo Switch\, or make art. \nAges 13-18 \nThis is a drop-in program. No registration is required.
URL:https://www.lovemylibrary.ca/event/teen-room-drop-in-3/2023-11-23/
LOCATION:Truro Library\, 754 Prince St\, Truro\, Nova Scotia\, Canada
ATTACH;FMTTYPE=image/png:https://www.lovemylibrary.ca/wp-content/uploads/2022/10/Untitled-design-53.png
END:VEVENT
BEGIN:VEVENT
DTSTART;TZID=America/Halifax:20231123T160000
DTEND;TZID=America/Halifax:20231123T170000
DTSTAMP:20260425T184220
CREATED:20230919T204524Z
LAST-MODIFIED:20231108T202558Z
UID:10005770-1700755200-1700758800@www.lovemylibrary.ca
SUMMARY:Brilliant Labs at the Library
DESCRIPTION:Join Brilliant Labs at the Truro Library to learn all about the world of coding with microcontrollers used in robotics\, modern technology\, and more! Register today for five weeks of awesome! Suitable for ages 8+ \nEmail info@cehpubliclibrary.ca or call 902-895-4183 to register. Limited space available.
URL:https://www.lovemylibrary.ca/event/brilliant-labs-at-the-library/2023-11-23/
LOCATION:Truro Library\, 754 Prince St\, Truro\, Nova Scotia\, Canada
CATEGORIES:Events For Kids,Location: Truro,STEAM
ATTACH;FMTTYPE=image/png:https://www.lovemylibrary.ca/wp-content/uploads/2023/09/Untitled-design-2023-11-01T102240.252.png
END:VEVENT
BEGIN:VEVENT
DTSTART;TZID=America/Halifax:20231123T180000
DTEND;TZID=America/Halifax:20231123T190000
DTSTAMP:20260425T184220
CREATED:20231030T174433Z
LAST-MODIFIED:20231030T174638Z
UID:10005734-1700762400-1700766000@www.lovemylibrary.ca
SUMMARY:Only Murders in our Library
DESCRIPTION:Introverts and extroverts unite. Extroverts come early to socialize and introverts can join us at 6pm. We are spending an hour listening to a true crime podcast and doing some adult coloring. For ages 15-99 (or older) \nThis is a drop in event\, No registration required\n  \n 
URL:https://www.lovemylibrary.ca/event/only-murders-in-our-library-2/
LOCATION:Mount Uniacke Library\, 555\, Highway 1\, Mount Uniacke\, Nova Scotia\, Canada
CATEGORIES:Events For Adults,Events For Seniors,Events For Teens,Location: Mount Uniacke
ATTACH;FMTTYPE=image/png:https://www.lovemylibrary.ca/wp-content/uploads/2023/08/Untitled-design-2023-08-25T151940.865.png
END:VEVENT
BEGIN:VEVENT
DTSTART;TZID=America/Halifax:20231123T180000
DTEND;TZID=America/Halifax:20231123T193000
DTSTAMP:20260425T184220
CREATED:20230531T163638Z
LAST-MODIFIED:20231121T231959Z
UID:10005655-1700762400-1700767800@www.lovemylibrary.ca
SUMMARY:Mindfulness Meditation
DESCRIPTION:We invite you to explore the practice of mindfulness and enjoy a time of meditation. Learn about how mindfulness can enhance your everyday living. Ages 14+ \nPlease call us at 902-883-9838 or email us at elmsdale@cehpubliclibrary.ca to register
URL:https://www.lovemylibrary.ca/event/mindfulness-meditation-2/2023-11-23/
LOCATION:Elmsdale Library\, 15 Commerce Ct\, Elmsdale\, Nova Scotia\, Canada
CATEGORIES:Events For Adults,Events For Teens,Location: Elmsdale
ATTACH;FMTTYPE=image/png:https://www.lovemylibrary.ca/wp-content/uploads/2023/03/Untitled-design-51.png
END:VEVENT
BEGIN:VEVENT
DTSTART;TZID=America/Halifax:20231123T183000
DTEND;TZID=America/Halifax:20231123T193000
DTSTAMP:20260425T184220
CREATED:20231104T191412Z
LAST-MODIFIED:20231201T180107Z
UID:10005766-1700764200-1700767800@www.lovemylibrary.ca
SUMMARY:Music Night
DESCRIPTION:Bring your own musical instrument and singing voice. This is an adult program. \nDrop in no registration required.
URL:https://www.lovemylibrary.ca/event/music-night-2-2/2023-11-23/
LOCATION:Tatamagouche Library\, 170 Main Street\, Tatamagouche\, Nova Scotia\, Canada
CATEGORIES:Events For Adults,Location: Tatamagouche
ATTACH;FMTTYPE=image/png:https://www.lovemylibrary.ca/wp-content/uploads/2023/08/Untitled-design-2023-08-23T141817.891.png
END:VEVENT
END:VCALENDAR