BEGIN:VCALENDAR
VERSION:2.0
PRODID:-//Colchester East Hants Public Library - ECPv6.15.20//NONSGML v1.0//EN
CALSCALE:GREGORIAN
METHOD:PUBLISH
X-WR-CALNAME:Colchester East Hants Public Library
X-ORIGINAL-URL:https://www.lovemylibrary.ca
X-WR-CALDESC:Events for Colchester East Hants Public Library
REFRESH-INTERVAL;VALUE=DURATION:PT1H
X-Robots-Tag:noindex
X-PUBLISHED-TTL:PT1H
BEGIN:VTIMEZONE
TZID:America/Halifax
BEGIN:DAYLIGHT
TZOFFSETFROM:-0400
TZOFFSETTO:-0300
TZNAME:ADT
DTSTART:20220313T060000
END:DAYLIGHT
BEGIN:STANDARD
TZOFFSETFROM:-0300
TZOFFSETTO:-0400
TZNAME:AST
DTSTART:20221106T050000
END:STANDARD
BEGIN:DAYLIGHT
TZOFFSETFROM:-0400
TZOFFSETTO:-0300
TZNAME:ADT
DTSTART:20230312T060000
END:DAYLIGHT
BEGIN:STANDARD
TZOFFSETFROM:-0300
TZOFFSETTO:-0400
TZNAME:AST
DTSTART:20231105T050000
END:STANDARD
BEGIN:DAYLIGHT
TZOFFSETFROM:-0400
TZOFFSETTO:-0300
TZNAME:ADT
DTSTART:20240310T060000
END:DAYLIGHT
BEGIN:STANDARD
TZOFFSETFROM:-0300
TZOFFSETTO:-0400
TZNAME:AST
DTSTART:20241103T050000
END:STANDARD
END:VTIMEZONE
BEGIN:VEVENT
DTSTART;VALUE=DATE:20230901
DTEND;VALUE=DATE:20240101
DTSTAMP:20260419T204129
CREATED:20230825T180640Z
LAST-MODIFIED:20230825T180640Z
UID:10004816-1693526400-1704067199@www.lovemylibrary.ca
SUMMARY:Mount Uniacke Book Challenge 2023.
DESCRIPTION:Read or listen to something new each month and earn a ballot for a monthly\, quarterly\, and yearly prize. Each month is a new genre to try. All ages are welcome to participate. \nThis is a drop in program. No registration is required.
URL:https://www.lovemylibrary.ca/event/mount-uniacke-book-challenge-2023/
LOCATION:Mount Uniacke Library\, 555\, Highway 1\, Mount Uniacke\, Nova Scotia\, Canada
CATEGORIES:Location: Mount Uniacke
ATTACH;FMTTYPE=image/jpeg:https://www.lovemylibrary.ca/wp-content/uploads/2023/08/pexels-pixabay-159711-scaled.jpg
END:VEVENT
BEGIN:VEVENT
DTSTART;VALUE=DATE:20231201
DTEND;VALUE=DATE:20231231
DTSTAMP:20260419T204129
CREATED:20231127T145414Z
LAST-MODIFIED:20251023T194935Z
UID:10006042-1701388800-1703980799@www.lovemylibrary.ca
SUMMARY:No School Day- Scavenger Hunt
DESCRIPTION:It’s Dinovember and no school so we are having a scavenger hunt. Pop by the library and find all the dinosaurs All ages are welcome \nThis is a drop-in program. No registration is required.
URL:https://www.lovemylibrary.ca/event/lets-count-scavenger-hunt/
LOCATION:Mount Uniacke Library\, 555\, Highway 1\, Mount Uniacke\, Nova Scotia\, Canada
CATEGORIES:Events For Kids,Location: Mount Uniacke
ATTACH;FMTTYPE=image/png:https://www.lovemylibrary.ca/wp-content/uploads/2021/08/Untitled-design-23.png
END:VEVENT
BEGIN:VEVENT
DTSTART;VALUE=DATE:20231226
DTEND;VALUE=DATE:20231227
DTSTAMP:20260419T204129
CREATED:20231216T173424Z
LAST-MODIFIED:20240113T185156Z
UID:10006888-1703548800-1703635199@www.lovemylibrary.ca
SUMMARY:Celebrating African Nova Scotia Educators
DESCRIPTION:An exciting art exhibit from the Nova Scotia Women’s History Society honouring four African-Nova Scotian women who led change in education.  The panels created by African Nova Scotia artist\, Letitia Fraser of North Preston\, will form the basis for an installation to be installed in 2024 in the Truro community of “The Marsh”. \nDrop-in. No registration is required.
URL:https://www.lovemylibrary.ca/event/celebrating-african-nova-scotia-educators/2023-12-26/
LOCATION:Truro Library\, 754 Prince St\, Truro\, Nova Scotia\, Canada
CATEGORIES:Events For Adults,Events For Seniors,Events For Teens,Location: Truro
ATTACH;FMTTYPE=image/png:https://www.lovemylibrary.ca/wp-content/uploads/2023/12/Untitled-design-1-1.png
END:VEVENT
BEGIN:VEVENT
DTSTART;TZID=America/Halifax:20231226T133000
DTEND;TZID=America/Halifax:20231226T150000
DTSTAMP:20260419T204129
CREATED:20231120T203025Z
LAST-MODIFIED:20240326T211358Z
UID:10006992-1703597400-1703602800@www.lovemylibrary.ca
SUMMARY:Homeschoolers Haven
DESCRIPTION:Homeschoolers Haven is a place for Homeschool families to meet and share resources. There will be  activities for the children.   For ages 5+ \nThis is a drop-in program. No registration is required.
URL:https://www.lovemylibrary.ca/event/homeschoolers-haven-2-2-2/2023-12-26/
LOCATION:Truro Library\, 754 Prince St\, Truro\, Nova Scotia\, Canada
CATEGORIES:Events For Kids,Events For Teens,Location: Truro
ATTACH;FMTTYPE=image/png:https://www.lovemylibrary.ca/wp-content/uploads/2022/07/Untitled-design-9.png
END:VEVENT
BEGIN:VEVENT
DTSTART;TZID=America/Halifax:20231226T150000
DTEND;TZID=America/Halifax:20231226T163000
DTSTAMP:20260419T204130
CREATED:20230918T182106Z
LAST-MODIFIED:20240326T211453Z
UID:10006999-1703602800-1703608200@www.lovemylibrary.ca
SUMMARY:Teen Room Drop In
DESCRIPTION:Come hang out\, grab a snack\, play some Mario Kart on our new Nintendo Switch\, or make art. \nAges 13-18 \nThis is a drop-in program. No registration is required.
URL:https://www.lovemylibrary.ca/event/teen-room-drop-in-3/2023-12-26/
LOCATION:Truro Library\, 754 Prince St\, Truro\, Nova Scotia\, Canada
ATTACH;FMTTYPE=image/png:https://www.lovemylibrary.ca/wp-content/uploads/2022/10/Untitled-design-53.png
END:VEVENT
END:VCALENDAR