BEGIN:VCALENDAR
VERSION:2.0
PRODID:-//Colchester East Hants Public Library - ECPv6.15.20//NONSGML v1.0//EN
CALSCALE:GREGORIAN
METHOD:PUBLISH
X-ORIGINAL-URL:https://www.lovemylibrary.ca
X-WR-CALDESC:Events for Colchester East Hants Public Library
REFRESH-INTERVAL;VALUE=DURATION:PT1H
X-Robots-Tag:noindex
X-PUBLISHED-TTL:PT1H
BEGIN:VTIMEZONE
TZID:America/Halifax
BEGIN:DAYLIGHT
TZOFFSETFROM:-0400
TZOFFSETTO:-0300
TZNAME:ADT
DTSTART:20230312T060000
END:DAYLIGHT
BEGIN:STANDARD
TZOFFSETFROM:-0300
TZOFFSETTO:-0400
TZNAME:AST
DTSTART:20231105T050000
END:STANDARD
BEGIN:DAYLIGHT
TZOFFSETFROM:-0400
TZOFFSETTO:-0300
TZNAME:ADT
DTSTART:20240310T060000
END:DAYLIGHT
BEGIN:STANDARD
TZOFFSETFROM:-0300
TZOFFSETTO:-0400
TZNAME:AST
DTSTART:20241103T050000
END:STANDARD
BEGIN:DAYLIGHT
TZOFFSETFROM:-0400
TZOFFSETTO:-0300
TZNAME:ADT
DTSTART:20250309T060000
END:DAYLIGHT
BEGIN:STANDARD
TZOFFSETFROM:-0300
TZOFFSETTO:-0400
TZNAME:AST
DTSTART:20251102T050000
END:STANDARD
END:VTIMEZONE
BEGIN:VEVENT
DTSTART;TZID=America/Halifax:20240220T170000
DTEND;TZID=America/Halifax:20240319T180000
DTSTAMP:20260419T235117
CREATED:20230911T181215Z
LAST-MODIFIED:20241213T193251Z
UID:10010636-1708448400-1710871200@www.lovemylibrary.ca
SUMMARY:Paws to Read ®
DESCRIPTION:The Paws to Read program offers kids a safe environment to practice reading aloud to an attentive and adorable audience. Children build confidence and reading skills in one-on-one sessions with therapy dogs. Participants attend 5 weekly half-hour sessions with a trained therapy dog volunteer and a certified handler. For children in grades 1-5 \nIn-Person. Registration is required. For details\, please call us at (902) 883-9838 or email us at elmsdale@cehpubliclibrary.ca
URL:https://www.lovemylibrary.ca/event/paws-to-read/2024-02-20/
LOCATION:Elmsdale Library\, 15 Commerce Ct\, Elmsdale\, Nova Scotia\, Canada
CATEGORIES:Events For Kids,Location: Elmsdale
ATTACH;FMTTYPE=image/png:https://www.lovemylibrary.ca/wp-content/uploads/2023/09/Untitled-design-2023-09-11T151119.554.png
END:VEVENT
BEGIN:VEVENT
DTSTART;TZID=America/Halifax:20240227T170000
DTEND;TZID=America/Halifax:20240326T180000
DTSTAMP:20260419T235117
CREATED:20230911T181215Z
LAST-MODIFIED:20241213T193251Z
UID:10010637-1709053200-1711476000@www.lovemylibrary.ca
SUMMARY:Paws to Read ®
DESCRIPTION:The Paws to Read program offers kids a safe environment to practice reading aloud to an attentive and adorable audience. Children build confidence and reading skills in one-on-one sessions with therapy dogs. Participants attend 5 weekly half-hour sessions with a trained therapy dog volunteer and a certified handler. For children in grades 1-5 \nIn-Person. Registration is required. For details\, please call us at (902) 883-9838 or email us at elmsdale@cehpubliclibrary.ca
URL:https://www.lovemylibrary.ca/event/paws-to-read/2024-02-27/
LOCATION:Elmsdale Library\, 15 Commerce Ct\, Elmsdale\, Nova Scotia\, Canada
CATEGORIES:Events For Kids,Location: Elmsdale
ATTACH;FMTTYPE=image/png:https://www.lovemylibrary.ca/wp-content/uploads/2023/09/Untitled-design-2023-09-11T151119.554.png
END:VEVENT
BEGIN:VEVENT
DTSTART;TZID=America/Halifax:20240305T170000
DTEND;TZID=America/Halifax:20240402T180000
DTSTAMP:20260419T235117
CREATED:20230911T181215Z
LAST-MODIFIED:20241213T193251Z
UID:10010638-1709658000-1712080800@www.lovemylibrary.ca
SUMMARY:Paws to Read ®
DESCRIPTION:The Paws to Read program offers kids a safe environment to practice reading aloud to an attentive and adorable audience. Children build confidence and reading skills in one-on-one sessions with therapy dogs. Participants attend 5 weekly half-hour sessions with a trained therapy dog volunteer and a certified handler. For children in grades 1-5 \nIn-Person. Registration is required. For details\, please call us at (902) 883-9838 or email us at elmsdale@cehpubliclibrary.ca
URL:https://www.lovemylibrary.ca/event/paws-to-read/2024-03-05/
LOCATION:Elmsdale Library\, 15 Commerce Ct\, Elmsdale\, Nova Scotia\, Canada
CATEGORIES:Events For Kids,Location: Elmsdale
ATTACH;FMTTYPE=image/png:https://www.lovemylibrary.ca/wp-content/uploads/2023/09/Untitled-design-2023-09-11T151119.554.png
END:VEVENT
BEGIN:VEVENT
DTSTART;VALUE=DATE:20240312
DTEND;VALUE=DATE:20240317
DTSTAMP:20260419T235117
CREATED:20240216T174058Z
LAST-MODIFIED:20240216T174058Z
UID:10007242-1710201600-1710633599@www.lovemylibrary.ca
SUMMARY:March Break Craft Kits
DESCRIPTION:Keep everyone entertained for the week! Each kit will contain a science\, technology\, art\, movement and snack activity. A total of 24 March Break Kits will be available. Suitable for Elementary school children. \nThis is a drop in program.
URL:https://www.lovemylibrary.ca/event/march-break-craft-kits/
LOCATION:Stewiacke Library\, 295 George Street\, Stewiacke\, Nova Scotia\, Canada
CATEGORIES:Events For Kids,Location: Stewiacke
ATTACH;FMTTYPE=image/png:https://www.lovemylibrary.ca/wp-content/uploads/2024/02/Untitled-design-2024-02-16T134048.346.png
END:VEVENT
BEGIN:VEVENT
DTSTART;TZID=America/Halifax:20240312T170000
DTEND;TZID=America/Halifax:20240409T180000
DTSTAMP:20260419T235117
CREATED:20230911T181215Z
LAST-MODIFIED:20241213T193251Z
UID:10010639-1710262800-1712685600@www.lovemylibrary.ca
SUMMARY:Paws to Read ®
DESCRIPTION:The Paws to Read program offers kids a safe environment to practice reading aloud to an attentive and adorable audience. Children build confidence and reading skills in one-on-one sessions with therapy dogs. Participants attend 5 weekly half-hour sessions with a trained therapy dog volunteer and a certified handler. For children in grades 1-5 \nIn-Person. Registration is required. For details\, please call us at (902) 883-9838 or email us at elmsdale@cehpubliclibrary.ca
URL:https://www.lovemylibrary.ca/event/paws-to-read/2024-03-12/
LOCATION:Elmsdale Library\, 15 Commerce Ct\, Elmsdale\, Nova Scotia\, Canada
CATEGORIES:Events For Kids,Location: Elmsdale
ATTACH;FMTTYPE=image/png:https://www.lovemylibrary.ca/wp-content/uploads/2023/09/Untitled-design-2023-09-11T151119.554.png
END:VEVENT
BEGIN:VEVENT
DTSTART;TZID=America/Halifax:20240315T100000
DTEND;TZID=America/Halifax:20240315T120000
DTSTAMP:20260419T235117
CREATED:20240214T221027Z
LAST-MODIFIED:20240214T221027Z
UID:10007170-1710496800-1710504000@www.lovemylibrary.ca
SUMMARY:One on One Tech Help
DESCRIPTION:Issues with your phone? Laptop?  Social Media? Meet in-person with our digital literacy trainer to get your tech questions answered. \nPlease call 902-883-9838 or email at elmsdale@cehpubliclibrary.ca to book an appointment.
URL:https://www.lovemylibrary.ca/event/one-on-one-tech-help-10/2024-03-15/
LOCATION:Elmsdale Library\, 15 Commerce Ct\, Elmsdale\, Nova Scotia\, Canada
CATEGORIES:Events For Adults,Location: Elmsdale
ATTACH;FMTTYPE=image/png:https://www.lovemylibrary.ca/wp-content/uploads/2023/04/Untitled-design-65.png
END:VEVENT
BEGIN:VEVENT
DTSTART;TZID=America/Halifax:20240315T103000
DTEND;TZID=America/Halifax:20240315T110000
DTSTAMP:20260419T235117
CREATED:20240215T203953Z
LAST-MODIFIED:20240215T204043Z
UID:10007202-1710498600-1710500400@www.lovemylibrary.ca
SUMMARY:Picture Book Junction
DESCRIPTION:Fun and Interactive! Share the magic of stories\, songs and crafts. 3-5 years old with a caregiver. \nDrop In: No registration necessary
URL:https://www.lovemylibrary.ca/event/picture-book-junction-7-2-2/2024-03-15/
LOCATION:Stewiacke Library\, 295 George Street\, Stewiacke\, Nova Scotia\, Canada
CATEGORIES:Events For Kids,Location: Stewiacke
ATTACH;FMTTYPE=image/png:https://www.lovemylibrary.ca/wp-content/uploads/2022/03/Untitled-design-81.png
END:VEVENT
BEGIN:VEVENT
DTSTART;TZID=America/Halifax:20240315T103000
DTEND;TZID=America/Halifax:20240315T120000
DTSTAMP:20260419T235117
CREATED:20240217T195050Z
LAST-MODIFIED:20240220T213725Z
UID:10007286-1710498600-1710504000@www.lovemylibrary.ca
SUMMARY:Spy School
DESCRIPTION:Secret codes\, deadly lasers\, arch rivals… there’s a lot to look out for when you’re a spy! Your mission\, should you choose to accept it\, is to sign up for spy school and spend the morning learning how to be the best spy ever. Ages 7-12 \nSpace is limited. To register\, please email info@cehpubliclibrary.ca
URL:https://www.lovemylibrary.ca/event/spy-school/
LOCATION:Truro Library\, 754 Prince St\, Truro\, Nova Scotia\, Canada
CATEGORIES:Events For Kids,March Break
ATTACH;FMTTYPE=image/png:https://www.lovemylibrary.ca/wp-content/uploads/2024/02/Untitled-design-2024-02-20T173820.938.png
END:VEVENT
BEGIN:VEVENT
DTSTART;TZID=America/Halifax:20240315T130000
DTEND;TZID=America/Halifax:20240315T143000
DTSTAMP:20260419T235117
CREATED:20240215T204215Z
LAST-MODIFIED:20240215T204300Z
UID:10007206-1710507600-1710513000@www.lovemylibrary.ca
SUMMARY:Scrabble Squad
DESCRIPTION:What spells F-U-N? Playing Scrabble with friends. All adults welcome. \nThis is a drop-in program. No registration is required.
URL:https://www.lovemylibrary.ca/event/scrabble-squad-2-2-2/2024-03-15/
LOCATION:Stewiacke Library\, 295 George Street\, Stewiacke\, Nova Scotia\, Canada
CATEGORIES:Events For Adults,Events For Seniors,Location: Stewiacke
ATTACH;FMTTYPE=image/png:https://www.lovemylibrary.ca/wp-content/uploads/2022/05/Add-a-subheading-700-×-500-px-3.png
END:VEVENT
BEGIN:VEVENT
DTSTART;TZID=America/Halifax:20240315T143000
DTEND;TZID=America/Halifax:20240315T150000
DTSTAMP:20260419T235117
CREATED:20240216T175021Z
LAST-MODIFIED:20240216T175021Z
UID:10007245-1710513000-1710514800@www.lovemylibrary.ca
SUMMARY:Robert Munch’s The Mud Puddle
DESCRIPTION:Enjoy a live performance of The Mud Puddle. Performed by Stewiacke’s own library staff. All ages are welcome \nNo registration required.
URL:https://www.lovemylibrary.ca/event/robert-munchs-the-mud-puddle/
LOCATION:Stewiacke Community Centre\, Canada
CATEGORIES:Events For Kids,Location: Stewiacke,March Break
ATTACH;FMTTYPE=image/png:https://www.lovemylibrary.ca/wp-content/uploads/2024/02/Untitled-design-2024-02-16T135105.503.png
END:VEVENT
BEGIN:VEVENT
DTSTART;TZID=America/Halifax:20240315T143000
DTEND;TZID=America/Halifax:20240315T160000
DTSTAMP:20260419T235117
CREATED:20240217T200247Z
LAST-MODIFIED:20240217T200247Z
UID:10007287-1710513000-1710518400@www.lovemylibrary.ca
SUMMARY:Super Mario Lego
DESCRIPTION:Lego meets Super Mario. Learn to build a Super Mario figure out of Lego with step-by-step instructions. There will also be free play Lego available to build your own creation! For ages 4-12 \nThis is a drop in program. No registration is required.
URL:https://www.lovemylibrary.ca/event/super-mario-lego/
LOCATION:Truro Library\, 754 Prince St\, Truro\, Nova Scotia\, Canada
CATEGORIES:Events For Kids,Location: Truro,March Break
ATTACH;FMTTYPE=image/png:https://www.lovemylibrary.ca/wp-content/uploads/2024/02/Untitled-design-2024-02-17T160317.053.png
END:VEVENT
BEGIN:VEVENT
DTSTART;TZID=America/Halifax:20240315T150000
DTEND;TZID=America/Halifax:20240315T160000
DTSTAMP:20260419T235117
CREATED:20240221T203039Z
LAST-MODIFIED:20240228T192248Z
UID:10007353-1710514800-1710518400@www.lovemylibrary.ca
SUMMARY:Swifties Unite
DESCRIPTION:It’s all about Taylor Swift. Join us for some music\, crafts\, food\, and fun.  For ages 4-15 \nRegister in branch or by email mtuniack@cehpubliclibrary.ca
URL:https://www.lovemylibrary.ca/event/swifties-unite/
LOCATION:Mount Uniacke Library\, 555\, Highway 1\, Mount Uniacke\, Nova Scotia\, Canada
CATEGORIES:Events For Kids,Events For Teens,Location: Mount Uniacke,March Break
ATTACH;FMTTYPE=image/png:https://www.lovemylibrary.ca/wp-content/uploads/2024/02/Untitled-design-2024-02-21T114216.633.png
END:VEVENT
END:VCALENDAR