BEGIN:VCALENDAR
VERSION:2.0
PRODID:-//Colchester East Hants Public Library - ECPv6.15.20//NONSGML v1.0//EN
CALSCALE:GREGORIAN
METHOD:PUBLISH
X-ORIGINAL-URL:https://www.lovemylibrary.ca
X-WR-CALDESC:Events for Colchester East Hants Public Library
REFRESH-INTERVAL;VALUE=DURATION:PT1H
X-Robots-Tag:noindex
X-PUBLISHED-TTL:PT1H
BEGIN:VTIMEZONE
TZID:America/Halifax
BEGIN:DAYLIGHT
TZOFFSETFROM:-0400
TZOFFSETTO:-0300
TZNAME:ADT
DTSTART:20230312T060000
END:DAYLIGHT
BEGIN:STANDARD
TZOFFSETFROM:-0300
TZOFFSETTO:-0400
TZNAME:AST
DTSTART:20231105T050000
END:STANDARD
BEGIN:DAYLIGHT
TZOFFSETFROM:-0400
TZOFFSETTO:-0300
TZNAME:ADT
DTSTART:20240310T060000
END:DAYLIGHT
BEGIN:STANDARD
TZOFFSETFROM:-0300
TZOFFSETTO:-0400
TZNAME:AST
DTSTART:20241103T050000
END:STANDARD
BEGIN:DAYLIGHT
TZOFFSETFROM:-0400
TZOFFSETTO:-0300
TZNAME:ADT
DTSTART:20250309T060000
END:DAYLIGHT
BEGIN:STANDARD
TZOFFSETFROM:-0300
TZOFFSETTO:-0400
TZNAME:AST
DTSTART:20251102T050000
END:STANDARD
END:VTIMEZONE
BEGIN:VEVENT
DTSTART;TZID=America/Halifax:20240319T170000
DTEND;TZID=America/Halifax:20240416T180000
DTSTAMP:20260421T063118
CREATED:20230911T181215Z
LAST-MODIFIED:20241213T193251Z
UID:10010640-1710867600-1713290400@www.lovemylibrary.ca
SUMMARY:Paws to Read ®
DESCRIPTION:The Paws to Read program offers kids a safe environment to practice reading aloud to an attentive and adorable audience. Children build confidence and reading skills in one-on-one sessions with therapy dogs. Participants attend 5 weekly half-hour sessions with a trained therapy dog volunteer and a certified handler. For children in grades 1-5 \nIn-Person. Registration is required. For details\, please call us at (902) 883-9838 or email us at elmsdale@cehpubliclibrary.ca
URL:https://www.lovemylibrary.ca/event/paws-to-read/2024-03-19/
LOCATION:Elmsdale Library\, 15 Commerce Ct\, Elmsdale\, Nova Scotia\, Canada
CATEGORIES:Events For Kids,Location: Elmsdale
ATTACH;FMTTYPE=image/png:https://www.lovemylibrary.ca/wp-content/uploads/2023/09/Untitled-design-2023-09-11T151119.554.png
END:VEVENT
BEGIN:VEVENT
DTSTART;TZID=America/Halifax:20240326T170000
DTEND;TZID=America/Halifax:20240423T180000
DTSTAMP:20260421T063118
CREATED:20230911T181215Z
LAST-MODIFIED:20241213T193251Z
UID:10010641-1711472400-1713895200@www.lovemylibrary.ca
SUMMARY:Paws to Read ®
DESCRIPTION:The Paws to Read program offers kids a safe environment to practice reading aloud to an attentive and adorable audience. Children build confidence and reading skills in one-on-one sessions with therapy dogs. Participants attend 5 weekly half-hour sessions with a trained therapy dog volunteer and a certified handler. For children in grades 1-5 \nIn-Person. Registration is required. For details\, please call us at (902) 883-9838 or email us at elmsdale@cehpubliclibrary.ca
URL:https://www.lovemylibrary.ca/event/paws-to-read/2024-03-26/
LOCATION:Elmsdale Library\, 15 Commerce Ct\, Elmsdale\, Nova Scotia\, Canada
CATEGORIES:Events For Kids,Location: Elmsdale
ATTACH;FMTTYPE=image/png:https://www.lovemylibrary.ca/wp-content/uploads/2023/09/Untitled-design-2023-09-11T151119.554.png
END:VEVENT
BEGIN:VEVENT
DTSTART;VALUE=DATE:20240401
DTEND;VALUE=DATE:20240501
DTSTAMP:20260421T063118
CREATED:20240320T162145Z
LAST-MODIFIED:20240320T162145Z
UID:10007419-1711929600-1714521599@www.lovemylibrary.ca
SUMMARY:Haiku Contest!
DESCRIPTION:Some folks say that poetry is the art of saying a lot with a few words. So\, what better way to celebrate National Poetry Month than with a haiku writing contest! A haiku is a Japanese style poem that has three lines\, with five syllables in the first line\, seven in the second\, and five in the third. Every haiku you write is one entry into the contest to win a book of Haiku published by Everyman’s Library Pocket Poets! Afterwards the haikus will be put into a mini-zine for patrons of the library.  All ages are welcome to participate. \nSubmit poems in person or by email at elmsdale@cehpubliclibrary.ca. Please call us at 902-883-9838 or email us at elmsdale@cehpubliclibrary.ca for more details
URL:https://www.lovemylibrary.ca/event/haiku-contest/
LOCATION:Elmsdale Library\, 15 Commerce Ct\, Elmsdale\, Nova Scotia\, Canada
CATEGORIES:Events For Adults,Events For Kids,Location: Elmsdale
ATTACH;FMTTYPE=image/png:https://www.lovemylibrary.ca/wp-content/uploads/2024/03/Untitled-design-2024-03-20T132323.312.png
END:VEVENT
BEGIN:VEVENT
DTSTART;TZID=America/Halifax:20240402T170000
DTEND;TZID=America/Halifax:20240430T180000
DTSTAMP:20260421T063118
CREATED:20230911T181215Z
LAST-MODIFIED:20241213T193251Z
UID:10010642-1712077200-1714500000@www.lovemylibrary.ca
SUMMARY:Paws to Read ®
DESCRIPTION:The Paws to Read program offers kids a safe environment to practice reading aloud to an attentive and adorable audience. Children build confidence and reading skills in one-on-one sessions with therapy dogs. Participants attend 5 weekly half-hour sessions with a trained therapy dog volunteer and a certified handler. For children in grades 1-5 \nIn-Person. Registration is required. For details\, please call us at (902) 883-9838 or email us at elmsdale@cehpubliclibrary.ca
URL:https://www.lovemylibrary.ca/event/paws-to-read/2024-04-02/
LOCATION:Elmsdale Library\, 15 Commerce Ct\, Elmsdale\, Nova Scotia\, Canada
CATEGORIES:Events For Kids,Location: Elmsdale
ATTACH;FMTTYPE=image/png:https://www.lovemylibrary.ca/wp-content/uploads/2023/09/Untitled-design-2023-09-11T151119.554.png
END:VEVENT
BEGIN:VEVENT
DTSTART;TZID=America/Halifax:20240409T170000
DTEND;TZID=America/Halifax:20240507T180000
DTSTAMP:20260421T063118
CREATED:20230911T181215Z
LAST-MODIFIED:20241213T193251Z
UID:10010643-1712682000-1715104800@www.lovemylibrary.ca
SUMMARY:Paws to Read ®
DESCRIPTION:The Paws to Read program offers kids a safe environment to practice reading aloud to an attentive and adorable audience. Children build confidence and reading skills in one-on-one sessions with therapy dogs. Participants attend 5 weekly half-hour sessions with a trained therapy dog volunteer and a certified handler. For children in grades 1-5 \nIn-Person. Registration is required. For details\, please call us at (902) 883-9838 or email us at elmsdale@cehpubliclibrary.ca
URL:https://www.lovemylibrary.ca/event/paws-to-read/2024-04-09/
LOCATION:Elmsdale Library\, 15 Commerce Ct\, Elmsdale\, Nova Scotia\, Canada
CATEGORIES:Events For Kids,Location: Elmsdale
ATTACH;FMTTYPE=image/png:https://www.lovemylibrary.ca/wp-content/uploads/2023/09/Untitled-design-2023-09-11T151119.554.png
END:VEVENT
BEGIN:VEVENT
DTSTART;TZID=America/Halifax:20240413T100000
DTEND;TZID=America/Halifax:20240413T120000
DTSTAMP:20260421T063118
CREATED:20231221T204503Z
LAST-MODIFIED:20240326T212035Z
UID:10007623-1713002400-1713009600@www.lovemylibrary.ca
SUMMARY:Maker Lab Fun Time
DESCRIPTION:Curious about the Maker Lab? Come on in and explore. Program robots\, create circuits\, build with magnetic tiles\, and more! All ages are welcome. \nThis is a drop-in and no registration is required.
URL:https://www.lovemylibrary.ca/event/maker-lab-fun-time/2024-04-13/
LOCATION:Truro Library\, 754 Prince St\, Truro\, Nova Scotia\, Canada
CATEGORIES:Events For Kids,Location: Truro,STEAM
ATTACH;FMTTYPE=image/png:https://www.lovemylibrary.ca/wp-content/uploads/2023/09/Untitled-design-2023-09-29T143321.527.png
END:VEVENT
BEGIN:VEVENT
DTSTART;TZID=America/Halifax:20240413T103000
DTEND;TZID=America/Halifax:20240413T110000
DTSTAMP:20260421T063118
CREATED:20231229T135634Z
LAST-MODIFIED:20240416T203006Z
UID:10007440-1713004200-1713006000@www.lovemylibrary.ca
SUMMARY:Storytime
DESCRIPTION:Enjoy a picture book read by Karri or Bernie and then participate in an activity. For pre schoolers and home schoolers. \nThis is a drop-in program. No registration is required.
URL:https://www.lovemylibrary.ca/event/storytime-4-2-2-2/2024-04-13/
LOCATION:Mount Uniacke Library\, 555\, Highway 1\, Mount Uniacke\, Nova Scotia\, Canada
CATEGORIES:Events For Kids,Location: Mount Uniacke
ATTACH;FMTTYPE=image/png:https://www.lovemylibrary.ca/wp-content/uploads/2022/05/Untitled-design-2.png
END:VEVENT
BEGIN:VEVENT
DTSTART;TZID=America/Halifax:20240413T110000
DTEND;TZID=America/Halifax:20240413T120000
DTSTAMP:20260421T063118
CREATED:20240221T230517Z
LAST-MODIFIED:20240405T140618Z
UID:10007389-1713006000-1713009600@www.lovemylibrary.ca
SUMMARY:Voices for Change:   Mitji – Let’s Eat! Mi’kmaq Recipes from Sikniktuk with Margaret Augustine
DESCRIPTION:Margaret Augustine is an author\, educator and community member of Elsipogtog First Nation.  Join us as  Augustine shares recipes from her newly published book\, Mitji – Let’s Eat! Mi’kmaq Recipes from Sikniktuk and speaks about intergenerational wisdom and knowledge that combined to make both a cultural history of Mi’kmaw cuisine and a practical cookbook. \nDrop-in. No registration\, but spaces are limited.
URL:https://www.lovemylibrary.ca/event/voices-for-change-a-virtual-author-reading-with-dr-margaret-augustine/
LOCATION:Truro Library\, 754 Prince St\, Truro\, Nova Scotia\, Canada
CATEGORIES:Events For Adults,Events For Seniors,Location: Truro
ATTACH;FMTTYPE=image/png:https://www.lovemylibrary.ca/wp-content/uploads/2024/02/Untitled-design-3-1.png
END:VEVENT
BEGIN:VEVENT
DTSTART;TZID=America/Halifax:20240413T113000
DTEND;TZID=America/Halifax:20240413T123000
DTSTAMP:20260421T063118
CREATED:20230825T182102Z
LAST-MODIFIED:20240320T182412Z
UID:10007481-1713007800-1713011400@www.lovemylibrary.ca
SUMMARY:Overbooked Social Hour
DESCRIPTION:Feeling lonely? Want to meet some new people? Want to hangout and socialize with others? Bring a snack or lunch and join us for some casual mingling. All adults are welcome. \nThis is a drop in program. No registration is required.
URL:https://www.lovemylibrary.ca/event/overbooked-social-hour/2024-04-13/
LOCATION:Mount Uniacke Library\, 555\, Highway 1\, Mount Uniacke\, Nova Scotia\, Canada
CATEGORIES:Events For Adults,Location: Mount Uniacke
ATTACH;FMTTYPE=image/png:https://www.lovemylibrary.ca/wp-content/uploads/2023/06/Untitled-design-2023-06-19T111314.785.png
END:VEVENT
BEGIN:VEVENT
DTSTART;TZID=America/Halifax:20240413T140000
DTEND;TZID=America/Halifax:20240413T150000
DTSTAMP:20260421T063118
CREATED:20240321T140156Z
LAST-MODIFIED:20240321T174513Z
UID:10007502-1713016800-1713020400@www.lovemylibrary.ca
SUMMARY:Lego Club
DESCRIPTION:Activate your creativity and imagination! We will proudly display what you build in our children’s area. Ages 5 – 99+ \nThis is a drop-in program. No registration is required.
URL:https://www.lovemylibrary.ca/event/lego-club-8/2024-04-13/
LOCATION:Stewiacke Library\, 295 George Street\, Stewiacke\, Nova Scotia\, Canada
CATEGORIES:Events For Adults,Events For Kids,Events For Seniors,Location: Stewiacke
ATTACH;FMTTYPE=image/png:https://www.lovemylibrary.ca/wp-content/uploads/2022/06/Untitled-design-20.png
END:VEVENT
END:VCALENDAR