BEGIN:VCALENDAR
VERSION:2.0
PRODID:-//Colchester East Hants Public Library - ECPv6.15.20//NONSGML v1.0//EN
CALSCALE:GREGORIAN
METHOD:PUBLISH
X-ORIGINAL-URL:https://www.lovemylibrary.ca
X-WR-CALDESC:Events for Colchester East Hants Public Library
REFRESH-INTERVAL;VALUE=DURATION:PT1H
X-Robots-Tag:noindex
X-PUBLISHED-TTL:PT1H
BEGIN:VTIMEZONE
TZID:America/Halifax
BEGIN:DAYLIGHT
TZOFFSETFROM:-0400
TZOFFSETTO:-0300
TZNAME:ADT
DTSTART:20230312T060000
END:DAYLIGHT
BEGIN:STANDARD
TZOFFSETFROM:-0300
TZOFFSETTO:-0400
TZNAME:AST
DTSTART:20231105T050000
END:STANDARD
BEGIN:DAYLIGHT
TZOFFSETFROM:-0400
TZOFFSETTO:-0300
TZNAME:ADT
DTSTART:20240310T060000
END:DAYLIGHT
BEGIN:STANDARD
TZOFFSETFROM:-0300
TZOFFSETTO:-0400
TZNAME:AST
DTSTART:20241103T050000
END:STANDARD
BEGIN:DAYLIGHT
TZOFFSETFROM:-0400
TZOFFSETTO:-0300
TZNAME:ADT
DTSTART:20250309T060000
END:DAYLIGHT
BEGIN:STANDARD
TZOFFSETFROM:-0300
TZOFFSETTO:-0400
TZNAME:AST
DTSTART:20251102T050000
END:STANDARD
END:VTIMEZONE
BEGIN:VEVENT
DTSTART;TZID=America/Halifax:20240409T170000
DTEND;TZID=America/Halifax:20240507T180000
DTSTAMP:20260421T175151
CREATED:20230911T181215Z
LAST-MODIFIED:20241213T193251Z
UID:10010643-1712682000-1715104800@www.lovemylibrary.ca
SUMMARY:Paws to Read ®
DESCRIPTION:The Paws to Read program offers kids a safe environment to practice reading aloud to an attentive and adorable audience. Children build confidence and reading skills in one-on-one sessions with therapy dogs. Participants attend 5 weekly half-hour sessions with a trained therapy dog volunteer and a certified handler. For children in grades 1-5 \nIn-Person. Registration is required. For details\, please call us at (902) 883-9838 or email us at elmsdale@cehpubliclibrary.ca
URL:https://www.lovemylibrary.ca/event/paws-to-read/2024-04-09/
LOCATION:Elmsdale Library\, 15 Commerce Ct\, Elmsdale\, Nova Scotia\, Canada
CATEGORIES:Events For Kids,Location: Elmsdale
ATTACH;FMTTYPE=image/png:https://www.lovemylibrary.ca/wp-content/uploads/2023/09/Untitled-design-2023-09-11T151119.554.png
END:VEVENT
BEGIN:VEVENT
DTSTART;TZID=America/Halifax:20240416T170000
DTEND;TZID=America/Halifax:20240514T180000
DTSTAMP:20260421T175151
CREATED:20230911T181215Z
LAST-MODIFIED:20241213T193251Z
UID:10010644-1713286800-1715709600@www.lovemylibrary.ca
SUMMARY:Paws to Read ®
DESCRIPTION:The Paws to Read program offers kids a safe environment to practice reading aloud to an attentive and adorable audience. Children build confidence and reading skills in one-on-one sessions with therapy dogs. Participants attend 5 weekly half-hour sessions with a trained therapy dog volunteer and a certified handler. For children in grades 1-5 \nIn-Person. Registration is required. For details\, please call us at (902) 883-9838 or email us at elmsdale@cehpubliclibrary.ca
URL:https://www.lovemylibrary.ca/event/paws-to-read/2024-04-16/
LOCATION:Elmsdale Library\, 15 Commerce Ct\, Elmsdale\, Nova Scotia\, Canada
CATEGORIES:Events For Kids,Location: Elmsdale
ATTACH;FMTTYPE=image/png:https://www.lovemylibrary.ca/wp-content/uploads/2023/09/Untitled-design-2023-09-11T151119.554.png
END:VEVENT
BEGIN:VEVENT
DTSTART;TZID=America/Halifax:20240423T170000
DTEND;TZID=America/Halifax:20240521T180000
DTSTAMP:20260421T175151
CREATED:20230911T181215Z
LAST-MODIFIED:20241213T193251Z
UID:10010645-1713891600-1716314400@www.lovemylibrary.ca
SUMMARY:Paws to Read ®
DESCRIPTION:The Paws to Read program offers kids a safe environment to practice reading aloud to an attentive and adorable audience. Children build confidence and reading skills in one-on-one sessions with therapy dogs. Participants attend 5 weekly half-hour sessions with a trained therapy dog volunteer and a certified handler. For children in grades 1-5 \nIn-Person. Registration is required. For details\, please call us at (902) 883-9838 or email us at elmsdale@cehpubliclibrary.ca
URL:https://www.lovemylibrary.ca/event/paws-to-read/2024-04-23/
LOCATION:Elmsdale Library\, 15 Commerce Ct\, Elmsdale\, Nova Scotia\, Canada
CATEGORIES:Events For Kids,Location: Elmsdale
ATTACH;FMTTYPE=image/png:https://www.lovemylibrary.ca/wp-content/uploads/2023/09/Untitled-design-2023-09-11T151119.554.png
END:VEVENT
BEGIN:VEVENT
DTSTART;TZID=America/Halifax:20240430T170000
DTEND;TZID=America/Halifax:20240528T180000
DTSTAMP:20260421T175151
CREATED:20230911T181215Z
LAST-MODIFIED:20241213T193251Z
UID:10010646-1714496400-1716919200@www.lovemylibrary.ca
SUMMARY:Paws to Read ®
DESCRIPTION:The Paws to Read program offers kids a safe environment to practice reading aloud to an attentive and adorable audience. Children build confidence and reading skills in one-on-one sessions with therapy dogs. Participants attend 5 weekly half-hour sessions with a trained therapy dog volunteer and a certified handler. For children in grades 1-5 \nIn-Person. Registration is required. For details\, please call us at (902) 883-9838 or email us at elmsdale@cehpubliclibrary.ca
URL:https://www.lovemylibrary.ca/event/paws-to-read/2024-04-30/
LOCATION:Elmsdale Library\, 15 Commerce Ct\, Elmsdale\, Nova Scotia\, Canada
CATEGORIES:Events For Kids,Location: Elmsdale
ATTACH;FMTTYPE=image/png:https://www.lovemylibrary.ca/wp-content/uploads/2023/09/Untitled-design-2023-09-11T151119.554.png
END:VEVENT
BEGIN:VEVENT
DTSTART;VALUE=DATE:20240502
DTEND;VALUE=DATE:20240503
DTSTAMP:20260421T175151
CREATED:20240423T175925Z
LAST-MODIFIED:20240518T165102Z
UID:10007909-1714608000-1714694399@www.lovemylibrary.ca
SUMMARY:Shelf Care Bingo
DESCRIPTION:Give yourself some shelf care! Pick up your Shelf Care Bingo Sheet at a service desk and combine reading with self-care. All ages. \nComplete the challenge by getting five in a row and be entered into a draw for a $25 Indigo Card!
URL:https://www.lovemylibrary.ca/event/shelf-care-bingo-3/2024-05-02/
LOCATION:Truro Library\, 754 Prince St\, Truro\, Nova Scotia\, Canada
CATEGORIES:Events For Adults,Events For Kids,Events For Seniors,Events For Teens,Location: Truro
ATTACH;FMTTYPE=image/png:https://www.lovemylibrary.ca/wp-content/uploads/2023/04/Untitled-design-32.png
END:VEVENT
BEGIN:VEVENT
DTSTART;TZID=America/Halifax:20240502T100000
DTEND;TZID=America/Halifax:20240502T113000
DTSTAMP:20260421T175151
CREATED:20240423T131119Z
LAST-MODIFIED:20240423T131119Z
UID:10007903-1714644000-1714649400@www.lovemylibrary.ca
SUMMARY:Tech Help
DESCRIPTION:Drop by the Maker Lab on Thursday Mornings for one-on-one tech help on a first-come-first-served bases. Happy to help out with your simple tech needs! All ages. \nDrop-in event. No registration is required.
URL:https://www.lovemylibrary.ca/event/tech-help-8/2024-05-02/
LOCATION:Truro Library\, 754 Prince St\, Truro\, Nova Scotia\, Canada
CATEGORIES:Events For Adults,Events For Seniors,Events For Teens,Location: Truro
ATTACH;FMTTYPE=image/png:https://www.lovemylibrary.ca/wp-content/uploads/2022/03/Untitled-design-94.png
END:VEVENT
BEGIN:VEVENT
DTSTART;TZID=America/Halifax:20240502T103000
DTEND;TZID=America/Halifax:20240502T110000
DTSTAMP:20260421T175152
CREATED:20240321T133631Z
LAST-MODIFIED:20240321T173903Z
UID:10007529-1714645800-1714647600@www.lovemylibrary.ca
SUMMARY:Baby Rhyme Time
DESCRIPTION:Discover the joy of songs\, finger plays\, bouncing rhymes and simple books. Infant-2 years old with a caregiver. \nThis is a drop in program. No registration is required.
URL:https://www.lovemylibrary.ca/event/baby-rhyme-time-8-2-2/2024-05-02/
LOCATION:Stewiacke Library\, 295 George Street\, Stewiacke\, Nova Scotia\, Canada
CATEGORIES:Events For Kids,Location: Stewiacke
ATTACH;FMTTYPE=image/png:https://www.lovemylibrary.ca/wp-content/uploads/2022/03/Untitled-design-75.png
END:VEVENT
BEGIN:VEVENT
DTSTART;TZID=America/Halifax:20240502T110000
DTEND;TZID=America/Halifax:20240502T112000
DTSTAMP:20260421T175152
CREATED:20231221T204932Z
LAST-MODIFIED:20240326T212313Z
UID:10007634-1714647600-1714648800@www.lovemylibrary.ca
SUMMARY:Tales for Tots
DESCRIPTION:Join us Thursday mornings in the Big Brothers Big Sisters Room for stories\, songs\, and activities that are just right for terrific toddlers! \n18 months-4 years with a parent/caregiver. \nDrop-in\, no registration required.
URL:https://www.lovemylibrary.ca/event/tales-for-tots-2-2/2024-05-02/
LOCATION:Truro Library\, 754 Prince St\, Truro\, Nova Scotia\, Canada
CATEGORIES:Events For Kids,Location: Truro
ATTACH;FMTTYPE=image/png:https://www.lovemylibrary.ca/wp-content/uploads/2022/03/Untitled-design-81.png
END:VEVENT
BEGIN:VEVENT
DTSTART;TZID=America/Halifax:20240502T130000
DTEND;TZID=America/Halifax:20240502T140000
DTSTAMP:20260421T175152
CREATED:20231222T184645Z
LAST-MODIFIED:20240521T212918Z
UID:10007880-1714654800-1714658400@www.lovemylibrary.ca
SUMMARY:Pre-school Story time
DESCRIPTION:May flowers and things. For children ages 4-7 \nThis is a drop in program. No registration is required.
URL:https://www.lovemylibrary.ca/event/pre-school-story-time-2/2024-05-02/
LOCATION:Tatamagouche Library\, 170 Main Street\, Tatamagouche\, Nova Scotia\, Canada
CATEGORIES:Events For Kids,Location: Tatamagouche
ATTACH;FMTTYPE=image/png:https://www.lovemylibrary.ca/wp-content/uploads/2022/09/Untitled-design-38.png
END:VEVENT
BEGIN:VEVENT
DTSTART;TZID=America/Halifax:20240502T143000
DTEND;TZID=America/Halifax:20240502T170000
DTSTAMP:20260421T175152
CREATED:20240221T182238Z
LAST-MODIFIED:20240521T210710Z
UID:10007869-1714660200-1714669200@www.lovemylibrary.ca
SUMMARY:Afterschool Chill Zone
DESCRIPTION:Relax and have fun after school with computers\, books\, and games in the chill zone. For ages 8-14 \nThis is a drop-in program. No registration is required.
URL:https://www.lovemylibrary.ca/event/after-school-chill-zone-with-games-and-craft-2/2024-05-02/
LOCATION:Tatamagouche Library\, 170 Main Street\, Tatamagouche\, Nova Scotia\, Canada
CATEGORIES:Events For Kids,Location: Tatamagouche
ATTACH;FMTTYPE=image/jpeg:https://www.lovemylibrary.ca/wp-content/uploads/2023/02/pexels-artem-podrez-8087869-scaled.jpg
END:VEVENT
BEGIN:VEVENT
DTSTART;TZID=America/Halifax:20240502T150000
DTEND;TZID=America/Halifax:20240502T163000
DTSTAMP:20260421T175152
CREATED:20230918T182106Z
LAST-MODIFIED:20240326T211453Z
UID:10007585-1714662000-1714667400@www.lovemylibrary.ca
SUMMARY:Teen Room Drop In
DESCRIPTION:Come hang out\, grab a snack\, play some Mario Kart on our new Nintendo Switch\, or make art. \nAges 13-18 \nThis is a drop-in program. No registration is required.
URL:https://www.lovemylibrary.ca/event/teen-room-drop-in-3/2024-05-02/
LOCATION:Truro Library\, 754 Prince St\, Truro\, Nova Scotia\, Canada
ATTACH;FMTTYPE=image/png:https://www.lovemylibrary.ca/wp-content/uploads/2022/10/Untitled-design-53.png
END:VEVENT
BEGIN:VEVENT
DTSTART;TZID=America/Halifax:20240502T150000
DTEND;TZID=America/Halifax:20240502T170000
DTSTAMP:20260421T175152
CREATED:20231117T191601Z
LAST-MODIFIED:20240326T211917Z
UID:10007608-1714662000-1714669200@www.lovemylibrary.ca
SUMMARY:Maker Lab Fun Time
DESCRIPTION:Curious about the Maker Lab? Come on in and explore. Program robots\, create circuits\, build with magnetic tiles\, and more! All ages are welcome. \nThis is a drop in program. No registration is required.
URL:https://www.lovemylibrary.ca/event/maker-lab-fun-time-3/2024-05-02/
LOCATION:Truro Library\, 754 Prince St\, Truro\, Nova Scotia\, Canada
CATEGORIES:Events For Kids,Location: Truro,STEAM Programs
ATTACH;FMTTYPE=image/png:https://www.lovemylibrary.ca/wp-content/uploads/2023/09/Untitled-design-2023-09-29T143321.527.png
END:VEVENT
BEGIN:VEVENT
DTSTART;TZID=America/Halifax:20240502T150000
DTEND;TZID=America/Halifax:20240502T170000
DTSTAMP:20260421T175152
CREATED:20240214T233838Z
LAST-MODIFIED:20240415T175303Z
UID:10007730-1714662000-1714669200@www.lovemylibrary.ca
SUMMARY:Afterschool Kids Club
DESCRIPTION:Bring your friends and hang out at the library after school!   We will have a variety of fun activities. Ages 5-14 \nDrop in – Please call 902-883-9838 or email us at elmsdale@cehpubliclibrary.ca for more details
URL:https://www.lovemylibrary.ca/event/afterschool-kids-club-2/2024-05-02/
LOCATION:Elmsdale Library\, 15 Commerce Ct\, Elmsdale\, Nova Scotia\, Canada
CATEGORIES:Events For Kids,Location: Elmsdale
ATTACH;FMTTYPE=image/png:https://www.lovemylibrary.ca/wp-content/uploads/2023/08/Untitled-design-99.png
END:VEVENT
BEGIN:VEVENT
DTSTART;TZID=America/Halifax:20240502T180000
DTEND;TZID=America/Halifax:20240502T190000
DTSTAMP:20260421T175152
CREATED:20240313T130113Z
LAST-MODIFIED:20240521T215413Z
UID:10007888-1714672800-1714676400@www.lovemylibrary.ca
SUMMARY:Knitters Social
DESCRIPTION:Bring your current project and share your passion for yarns\, needles\, hooks\, and patterns in a relaxed and environment. All ages are welcome. \nThis is a drop in program. No registration is required.
URL:https://www.lovemylibrary.ca/event/knitters-social-3/2024-05-02/
LOCATION:Tatamagouche Library\, 170 Main Street\, Tatamagouche\, Nova Scotia\, Canada
CATEGORIES:Crafting,Events For Adults,Events For Kids,Location: Tatamagouche
ATTACH;FMTTYPE=image/png:https://www.lovemylibrary.ca/wp-content/uploads/2024/03/Untitled-design-2024-03-13T100214.323.png
END:VEVENT
BEGIN:VEVENT
DTSTART;TZID=America/Halifax:20240502T183000
DTEND;TZID=America/Halifax:20240502T193000
DTSTAMP:20260421T175152
CREATED:20240415T192441Z
LAST-MODIFIED:20240415T192441Z
UID:10007798-1714674600-1714678200@www.lovemylibrary.ca
SUMMARY:Worm Farming
DESCRIPTION:Come find out why worms and composting go hand in hand. Robert Graham will be here to share his knowledge and answer questions. \nDrop In: No registration necessary
URL:https://www.lovemylibrary.ca/event/worm-farming/
LOCATION:Stewiacke Library\, 295 George Street\, Stewiacke\, Nova Scotia\, Canada
CATEGORIES:Events For Adults,Events For Kids,Events For Seniors,Events For Teens,Location: Stewiacke
ATTACH;FMTTYPE=image/png:https://www.lovemylibrary.ca/wp-content/uploads/2024/04/Untitled-design-3.png
END:VEVENT
END:VCALENDAR