BEGIN:VCALENDAR
VERSION:2.0
PRODID:-//Colchester East Hants Public Library - ECPv6.15.20//NONSGML v1.0//EN
CALSCALE:GREGORIAN
METHOD:PUBLISH
X-WR-CALNAME:Colchester East Hants Public Library
X-ORIGINAL-URL:https://www.lovemylibrary.ca
X-WR-CALDESC:Events for Colchester East Hants Public Library
REFRESH-INTERVAL;VALUE=DURATION:PT1H
X-Robots-Tag:noindex
X-PUBLISHED-TTL:PT1H
BEGIN:VTIMEZONE
TZID:America/Halifax
BEGIN:DAYLIGHT
TZOFFSETFROM:-0400
TZOFFSETTO:-0300
TZNAME:ADT
DTSTART:20230312T060000
END:DAYLIGHT
BEGIN:STANDARD
TZOFFSETFROM:-0300
TZOFFSETTO:-0400
TZNAME:AST
DTSTART:20231105T050000
END:STANDARD
BEGIN:DAYLIGHT
TZOFFSETFROM:-0400
TZOFFSETTO:-0300
TZNAME:ADT
DTSTART:20240310T060000
END:DAYLIGHT
BEGIN:STANDARD
TZOFFSETFROM:-0300
TZOFFSETTO:-0400
TZNAME:AST
DTSTART:20241103T050000
END:STANDARD
BEGIN:DAYLIGHT
TZOFFSETFROM:-0400
TZOFFSETTO:-0300
TZNAME:ADT
DTSTART:20250309T060000
END:DAYLIGHT
BEGIN:STANDARD
TZOFFSETFROM:-0300
TZOFFSETTO:-0400
TZNAME:AST
DTSTART:20251102T050000
END:STANDARD
END:VTIMEZONE
BEGIN:VEVENT
DTSTART;TZID=America/Halifax:20240430T170000
DTEND;TZID=America/Halifax:20240528T180000
DTSTAMP:20260422T045741
CREATED:20230911T181215Z
LAST-MODIFIED:20241213T193251Z
UID:10010646-1714496400-1716919200@www.lovemylibrary.ca
SUMMARY:Paws to Read ®
DESCRIPTION:The Paws to Read program offers kids a safe environment to practice reading aloud to an attentive and adorable audience. Children build confidence and reading skills in one-on-one sessions with therapy dogs. Participants attend 5 weekly half-hour sessions with a trained therapy dog volunteer and a certified handler. For children in grades 1-5 \nIn-Person. Registration is required. For details\, please call us at (902) 883-9838 or email us at elmsdale@cehpubliclibrary.ca
URL:https://www.lovemylibrary.ca/event/paws-to-read/2024-04-30/
LOCATION:Elmsdale Library\, 15 Commerce Ct\, Elmsdale\, Nova Scotia\, Canada
CATEGORIES:Events For Kids,Location: Elmsdale
ATTACH;FMTTYPE=image/png:https://www.lovemylibrary.ca/wp-content/uploads/2023/09/Untitled-design-2023-09-11T151119.554.png
END:VEVENT
BEGIN:VEVENT
DTSTART;TZID=America/Halifax:20240507T170000
DTEND;TZID=America/Halifax:20240604T180000
DTSTAMP:20260422T045741
CREATED:20230911T181215Z
LAST-MODIFIED:20241213T193251Z
UID:10010647-1715101200-1717524000@www.lovemylibrary.ca
SUMMARY:Paws to Read ®
DESCRIPTION:The Paws to Read program offers kids a safe environment to practice reading aloud to an attentive and adorable audience. Children build confidence and reading skills in one-on-one sessions with therapy dogs. Participants attend 5 weekly half-hour sessions with a trained therapy dog volunteer and a certified handler. For children in grades 1-5 \nIn-Person. Registration is required. For details\, please call us at (902) 883-9838 or email us at elmsdale@cehpubliclibrary.ca
URL:https://www.lovemylibrary.ca/event/paws-to-read/2024-05-07/
LOCATION:Elmsdale Library\, 15 Commerce Ct\, Elmsdale\, Nova Scotia\, Canada
CATEGORIES:Events For Kids,Location: Elmsdale
ATTACH;FMTTYPE=image/png:https://www.lovemylibrary.ca/wp-content/uploads/2023/09/Untitled-design-2023-09-11T151119.554.png
END:VEVENT
BEGIN:VEVENT
DTSTART;TZID=America/Halifax:20240514T170000
DTEND;TZID=America/Halifax:20240611T180000
DTSTAMP:20260422T045741
CREATED:20230911T181215Z
LAST-MODIFIED:20241213T193251Z
UID:10010648-1715706000-1718128800@www.lovemylibrary.ca
SUMMARY:Paws to Read ®
DESCRIPTION:The Paws to Read program offers kids a safe environment to practice reading aloud to an attentive and adorable audience. Children build confidence and reading skills in one-on-one sessions with therapy dogs. Participants attend 5 weekly half-hour sessions with a trained therapy dog volunteer and a certified handler. For children in grades 1-5 \nIn-Person. Registration is required. For details\, please call us at (902) 883-9838 or email us at elmsdale@cehpubliclibrary.ca
URL:https://www.lovemylibrary.ca/event/paws-to-read/2024-05-14/
LOCATION:Elmsdale Library\, 15 Commerce Ct\, Elmsdale\, Nova Scotia\, Canada
CATEGORIES:Events For Kids,Location: Elmsdale
ATTACH;FMTTYPE=image/png:https://www.lovemylibrary.ca/wp-content/uploads/2023/09/Untitled-design-2023-09-11T151119.554.png
END:VEVENT
BEGIN:VEVENT
DTSTART;TZID=America/Halifax:20240521T170000
DTEND;TZID=America/Halifax:20240618T180000
DTSTAMP:20260422T045741
CREATED:20230911T181215Z
LAST-MODIFIED:20241213T193251Z
UID:10010649-1716310800-1718733600@www.lovemylibrary.ca
SUMMARY:Paws to Read ®
DESCRIPTION:The Paws to Read program offers kids a safe environment to practice reading aloud to an attentive and adorable audience. Children build confidence and reading skills in one-on-one sessions with therapy dogs. Participants attend 5 weekly half-hour sessions with a trained therapy dog volunteer and a certified handler. For children in grades 1-5 \nIn-Person. Registration is required. For details\, please call us at (902) 883-9838 or email us at elmsdale@cehpubliclibrary.ca
URL:https://www.lovemylibrary.ca/event/paws-to-read/2024-05-21/
LOCATION:Elmsdale Library\, 15 Commerce Ct\, Elmsdale\, Nova Scotia\, Canada
CATEGORIES:Events For Kids,Location: Elmsdale
ATTACH;FMTTYPE=image/png:https://www.lovemylibrary.ca/wp-content/uploads/2023/09/Untitled-design-2023-09-11T151119.554.png
END:VEVENT
BEGIN:VEVENT
DTSTART;VALUE=DATE:20240523
DTEND;VALUE=DATE:20240524
DTSTAMP:20260422T045741
CREATED:20240423T175925Z
LAST-MODIFIED:20240518T165102Z
UID:10007927-1716422400-1716508799@www.lovemylibrary.ca
SUMMARY:Shelf Care Bingo
DESCRIPTION:Give yourself some shelf care! Pick up your Shelf Care Bingo Sheet at a service desk and combine reading with self-care. All ages. \nComplete the challenge by getting five in a row and be entered into a draw for a $25 Indigo Card!
URL:https://www.lovemylibrary.ca/event/shelf-care-bingo-3/2024-05-23/
LOCATION:Truro Library\, 754 Prince St\, Truro\, Nova Scotia\, Canada
CATEGORIES:Events For Adults,Events For Kids,Events For Seniors,Events For Teens,Location: Truro
ATTACH;FMTTYPE=image/png:https://www.lovemylibrary.ca/wp-content/uploads/2023/04/Untitled-design-32.png
END:VEVENT
BEGIN:VEVENT
DTSTART;TZID=America/Halifax:20240523T100000
DTEND;TZID=America/Halifax:20240523T110000
DTSTAMP:20260422T045741
CREATED:20230627T185401Z
LAST-MODIFIED:20240416T222253Z
UID:10004616-1716458400-1716462000@www.lovemylibrary.ca
SUMMARY:Virtual Author Visit: Jack Wong
DESCRIPTION:Jack Wong is an author and illustrator who was born in Hong Kong\, raised in Vancouver\, and now lives in Halifax. He will join us on Zoom to read his most recent picture book\, All That Grows\, and chat about how he became a successful author. Suitable for ages 4 and up. \nTo register\, email info@cehpubliclibrary.ca
URL:https://www.lovemylibrary.ca/event/author-visit-with-jack-wong/
LOCATION:Virtual
CATEGORIES:Events For Kids,Location: Virtual
ATTACH;FMTTYPE=image/png:https://www.lovemylibrary.ca/wp-content/uploads/2023/06/Your-paragraph-text-20.png
END:VEVENT
BEGIN:VEVENT
DTSTART;TZID=America/Halifax:20240523T100000
DTEND;TZID=America/Halifax:20240523T113000
DTSTAMP:20260422T045741
CREATED:20240423T131119Z
LAST-MODIFIED:20240423T131119Z
UID:10007906-1716458400-1716463800@www.lovemylibrary.ca
SUMMARY:Tech Help
DESCRIPTION:Drop by the Maker Lab on Thursday Mornings for one-on-one tech help on a first-come-first-served bases. Happy to help out with your simple tech needs! All ages. \nDrop-in event. No registration is required.
URL:https://www.lovemylibrary.ca/event/tech-help-8/2024-05-23/
LOCATION:Truro Library\, 754 Prince St\, Truro\, Nova Scotia\, Canada
CATEGORIES:Events For Adults,Events For Seniors,Events For Teens,Location: Truro
ATTACH;FMTTYPE=image/png:https://www.lovemylibrary.ca/wp-content/uploads/2022/03/Untitled-design-94.png
END:VEVENT
BEGIN:VEVENT
DTSTART;TZID=America/Halifax:20240523T100000
DTEND;TZID=America/Halifax:20240523T170000
DTSTAMP:20260422T045741
CREATED:20240517T190645Z
LAST-MODIFIED:20240517T191453Z
UID:10008278-1716458400-1716483600@www.lovemylibrary.ca
SUMMARY:Archetypes: Art Exhibit by Catalina Dudka
DESCRIPTION:The art exhibit “Archetypes” is comprised of mixed media paintings. These pieces are full of whimsy and an inner symbolism that Dudka hopes speaks to the viewer. Drop in and take a moment to dwell on each work and the layers of detail and snippets of stories that Dudka has filled them with. \nDrop in. No registration is required.
URL:https://www.lovemylibrary.ca/event/archetypes-art-exhibit-by-catalina-dudka/2024-05-23/
LOCATION:Truro Library\, 754 Prince St\, Truro\, Nova Scotia\, Canada
CATEGORIES:Events For Adults,Events For Seniors,Location: Truro
ATTACH;FMTTYPE=image/png:https://www.lovemylibrary.ca/wp-content/uploads/2024/05/Untitled-design-2-1.png
END:VEVENT
BEGIN:VEVENT
DTSTART;TZID=America/Halifax:20240523T103000
DTEND;TZID=America/Halifax:20240523T110000
DTSTAMP:20260422T045741
CREATED:20240321T133631Z
LAST-MODIFIED:20240321T173903Z
UID:10007532-1716460200-1716462000@www.lovemylibrary.ca
SUMMARY:Baby Rhyme Time
DESCRIPTION:Discover the joy of songs\, finger plays\, bouncing rhymes and simple books. Infant-2 years old with a caregiver. \nThis is a drop in program. No registration is required.
URL:https://www.lovemylibrary.ca/event/baby-rhyme-time-8-2-2/2024-05-23/
LOCATION:Stewiacke Library\, 295 George Street\, Stewiacke\, Nova Scotia\, Canada
CATEGORIES:Events For Kids,Location: Stewiacke
ATTACH;FMTTYPE=image/png:https://www.lovemylibrary.ca/wp-content/uploads/2022/03/Untitled-design-75.png
END:VEVENT
BEGIN:VEVENT
DTSTART;TZID=America/Halifax:20240523T110000
DTEND;TZID=America/Halifax:20240523T112000
DTSTAMP:20260422T045741
CREATED:20231221T204932Z
LAST-MODIFIED:20240326T212313Z
UID:10007637-1716462000-1716463200@www.lovemylibrary.ca
SUMMARY:Tales for Tots
DESCRIPTION:Join us Thursday mornings in the Big Brothers Big Sisters Room for stories\, songs\, and activities that are just right for terrific toddlers! \n18 months-4 years with a parent/caregiver. \nDrop-in\, no registration required.
URL:https://www.lovemylibrary.ca/event/tales-for-tots-2-2/2024-05-23/
LOCATION:Truro Library\, 754 Prince St\, Truro\, Nova Scotia\, Canada
CATEGORIES:Events For Kids,Location: Truro
ATTACH;FMTTYPE=image/png:https://www.lovemylibrary.ca/wp-content/uploads/2022/03/Untitled-design-81.png
END:VEVENT
BEGIN:VEVENT
DTSTART;TZID=America/Halifax:20240523T143000
DTEND;TZID=America/Halifax:20240523T170000
DTSTAMP:20260422T045741
CREATED:20240221T182238Z
LAST-MODIFIED:20240521T210710Z
UID:10007875-1716474600-1716483600@www.lovemylibrary.ca
SUMMARY:Afterschool Chill Zone
DESCRIPTION:Relax and have fun after school with computers\, books\, and games in the chill zone. For ages 8-14 \nThis is a drop-in program. No registration is required.
URL:https://www.lovemylibrary.ca/event/after-school-chill-zone-with-games-and-craft-2/2024-05-23/
LOCATION:Tatamagouche Library\, 170 Main Street\, Tatamagouche\, Nova Scotia\, Canada
CATEGORIES:Events For Kids,Location: Tatamagouche
ATTACH;FMTTYPE=image/jpeg:https://www.lovemylibrary.ca/wp-content/uploads/2023/02/pexels-artem-podrez-8087869-scaled.jpg
END:VEVENT
BEGIN:VEVENT
DTSTART;TZID=America/Halifax:20240523T150000
DTEND;TZID=America/Halifax:20240523T160000
DTSTAMP:20260422T045741
CREATED:20240420T190022Z
LAST-MODIFIED:20240420T190022Z
UID:10007896-1716476400-1716480000@www.lovemylibrary.ca
SUMMARY:Ugly art!
DESCRIPTION:Teens\, it’s time to embrace the beauty of imperfection! Join us for a workshop where creativity knows no bounds. Let’s turn quirks into masterpieces together! For ages 10-16 \nPlease call 902-657-3064 or email: tatamago@cehpubliclibrary.ca for more details
URL:https://www.lovemylibrary.ca/event/ugly-art/
LOCATION:Tatamagouche Library\, 170 Main Street\, Tatamagouche\, Nova Scotia\, Canada
CATEGORIES:Events For Teens,Location: Tatamagouche
ATTACH;FMTTYPE=image/png:https://www.lovemylibrary.ca/wp-content/uploads/2024/04/Untitled-design-2024-04-20T160216.988.png
END:VEVENT
BEGIN:VEVENT
DTSTART;TZID=America/Halifax:20240523T150000
DTEND;TZID=America/Halifax:20240523T163000
DTSTAMP:20260422T045741
CREATED:20230918T182106Z
LAST-MODIFIED:20240326T211453Z
UID:10007591-1716476400-1716481800@www.lovemylibrary.ca
SUMMARY:Teen Room Drop In
DESCRIPTION:Come hang out\, grab a snack\, play some Mario Kart on our new Nintendo Switch\, or make art. \nAges 13-18 \nThis is a drop-in program. No registration is required.
URL:https://www.lovemylibrary.ca/event/teen-room-drop-in-3/2024-05-23/
LOCATION:Truro Library\, 754 Prince St\, Truro\, Nova Scotia\, Canada
ATTACH;FMTTYPE=image/png:https://www.lovemylibrary.ca/wp-content/uploads/2022/10/Untitled-design-53.png
END:VEVENT
BEGIN:VEVENT
DTSTART;TZID=America/Halifax:20240523T150000
DTEND;TZID=America/Halifax:20240523T170000
DTSTAMP:20260422T045741
CREATED:20231117T191601Z
LAST-MODIFIED:20240326T211917Z
UID:10007617-1716476400-1716483600@www.lovemylibrary.ca
SUMMARY:Maker Lab Fun Time
DESCRIPTION:Curious about the Maker Lab? Come on in and explore. Program robots\, create circuits\, build with magnetic tiles\, and more! All ages are welcome. \nThis is a drop in program. No registration is required.
URL:https://www.lovemylibrary.ca/event/maker-lab-fun-time-3/2024-05-23/
LOCATION:Truro Library\, 754 Prince St\, Truro\, Nova Scotia\, Canada
CATEGORIES:Events For Kids,Location: Truro,STEAM Programs
ATTACH;FMTTYPE=image/png:https://www.lovemylibrary.ca/wp-content/uploads/2023/09/Untitled-design-2023-09-29T143321.527.png
END:VEVENT
BEGIN:VEVENT
DTSTART;TZID=America/Halifax:20240523T160000
DTEND;TZID=America/Halifax:20240523T180000
DTSTAMP:20260422T045741
CREATED:20240510T122237Z
LAST-MODIFIED:20240510T122237Z
UID:10007936-1716480000-1716487200@www.lovemylibrary.ca
SUMMARY:Mental Health Awareness Program
DESCRIPTION:Join us at the Elmsdale library to learn more about mental health. A mental health professional will be available for information\, advice and resources. Stop in for crafts\, colouring\, games\, or simply come in and relax with a book. All ages are welcome. \nThis is a drop in program. For details\, please call us at 902-883-9838 or email us at elmsdale@cehpubliclibrary.ca
URL:https://www.lovemylibrary.ca/event/mental-health-awareness-program/
LOCATION:Elmsdale Library\, 15 Commerce Ct\, Elmsdale\, Nova Scotia\, Canada
CATEGORIES:Events For Adults,Events For Kids,Location: Elmsdale
ATTACH;FMTTYPE=image/png:https://www.lovemylibrary.ca/wp-content/uploads/2024/05/Untitled-design-2024-05-10T092417.705.png
END:VEVENT
BEGIN:VEVENT
DTSTART;TZID=America/Halifax:20240523T180000
DTEND;TZID=America/Halifax:20240523T183000
DTSTAMP:20260422T045741
CREATED:20231229T142925Z
LAST-MODIFIED:20240416T210848Z
UID:10005522-1716487200-1716489000@www.lovemylibrary.ca
SUMMARY:Teen Book Club
DESCRIPTION:Join us to discuss the great books you are reading. Let us know what books we should recommend\, what we should read\, and the ones that weren’t so good. For ages 13-18 \nThis is a drop in program. No registration is required.
URL:https://www.lovemylibrary.ca/event/teen-book-club-4/
LOCATION:Mount Uniacke Library\, 555\, Highway 1\, Mount Uniacke\, Nova Scotia\, Canada
CATEGORIES:Events For Teens,Location: Mount Uniacke
ATTACH;FMTTYPE=image/png:https://www.lovemylibrary.ca/wp-content/uploads/2022/10/Untitled-design-52.png
END:VEVENT
BEGIN:VEVENT
DTSTART;TZID=America/Halifax:20240523T180000
DTEND;TZID=America/Halifax:20240523T190000
DTSTAMP:20260422T045741
CREATED:20240313T130113Z
LAST-MODIFIED:20240521T215413Z
UID:10007891-1716487200-1716490800@www.lovemylibrary.ca
SUMMARY:Knitters Social
DESCRIPTION:Bring your current project and share your passion for yarns\, needles\, hooks\, and patterns in a relaxed and environment. All ages are welcome. \nThis is a drop in program. No registration is required.
URL:https://www.lovemylibrary.ca/event/knitters-social-3/2024-05-23/
LOCATION:Tatamagouche Library\, 170 Main Street\, Tatamagouche\, Nova Scotia\, Canada
CATEGORIES:Crafting,Events For Adults,Events For Kids,Location: Tatamagouche
ATTACH;FMTTYPE=image/png:https://www.lovemylibrary.ca/wp-content/uploads/2024/03/Untitled-design-2024-03-13T100214.323.png
END:VEVENT
BEGIN:VEVENT
DTSTART;TZID=America/Halifax:20240523T183000
DTEND;TZID=America/Halifax:20240523T193000
DTSTAMP:20260422T045741
CREATED:20240416T213645Z
LAST-MODIFIED:20240523T140155Z
UID:10007828-1716489000-1716492600@www.lovemylibrary.ca
SUMMARY:Survivor Night (CANCELLED)
DESCRIPTION:Outwit\, outlast and outplay. Solve a series of challenges and hope you are not the one to whom “the tribe has spoken”. \nAges 12-99+ \nRegister at stewiacke@cehpubliclibrary.ca
URL:https://www.lovemylibrary.ca/event/survivor-night/
LOCATION:Stewiacke Library\, 295 George Street\, Stewiacke\, Nova Scotia\, Canada
CATEGORIES:Events For Adults,Events For Kids,Events For Seniors,Events For Teens,Location: Stewiacke
ATTACH;FMTTYPE=image/png:https://www.lovemylibrary.ca/wp-content/uploads/2024/04/Untitled-design.png
END:VEVENT
END:VCALENDAR