BEGIN:VCALENDAR
VERSION:2.0
PRODID:-//Colchester East Hants Public Library - ECPv6.15.20//NONSGML v1.0//EN
CALSCALE:GREGORIAN
METHOD:PUBLISH
X-ORIGINAL-URL:https://www.lovemylibrary.ca
X-WR-CALDESC:Events for Colchester East Hants Public Library
REFRESH-INTERVAL;VALUE=DURATION:PT1H
X-Robots-Tag:noindex
X-PUBLISHED-TTL:PT1H
BEGIN:VTIMEZONE
TZID:America/Halifax
BEGIN:DAYLIGHT
TZOFFSETFROM:-0400
TZOFFSETTO:-0300
TZNAME:ADT
DTSTART:20230312T060000
END:DAYLIGHT
BEGIN:STANDARD
TZOFFSETFROM:-0300
TZOFFSETTO:-0400
TZNAME:AST
DTSTART:20231105T050000
END:STANDARD
BEGIN:DAYLIGHT
TZOFFSETFROM:-0400
TZOFFSETTO:-0300
TZNAME:ADT
DTSTART:20240310T060000
END:DAYLIGHT
BEGIN:STANDARD
TZOFFSETFROM:-0300
TZOFFSETTO:-0400
TZNAME:AST
DTSTART:20241103T050000
END:STANDARD
BEGIN:DAYLIGHT
TZOFFSETFROM:-0400
TZOFFSETTO:-0300
TZNAME:ADT
DTSTART:20250309T060000
END:DAYLIGHT
BEGIN:STANDARD
TZOFFSETFROM:-0300
TZOFFSETTO:-0400
TZNAME:AST
DTSTART:20251102T050000
END:STANDARD
END:VTIMEZONE
BEGIN:VEVENT
DTSTART;TZID=America/Halifax:20240521T170000
DTEND;TZID=America/Halifax:20240618T180000
DTSTAMP:20260422T110048
CREATED:20230911T181215Z
LAST-MODIFIED:20241213T193251Z
UID:10010649-1716310800-1718733600@www.lovemylibrary.ca
SUMMARY:Paws to Read ®
DESCRIPTION:The Paws to Read program offers kids a safe environment to practice reading aloud to an attentive and adorable audience. Children build confidence and reading skills in one-on-one sessions with therapy dogs. Participants attend 5 weekly half-hour sessions with a trained therapy dog volunteer and a certified handler. For children in grades 1-5 \nIn-Person. Registration is required. For details\, please call us at (902) 883-9838 or email us at elmsdale@cehpubliclibrary.ca
URL:https://www.lovemylibrary.ca/event/paws-to-read/2024-05-21/
LOCATION:Elmsdale Library\, 15 Commerce Ct\, Elmsdale\, Nova Scotia\, Canada
CATEGORIES:Events For Kids,Location: Elmsdale
ATTACH;FMTTYPE=image/png:https://www.lovemylibrary.ca/wp-content/uploads/2023/09/Untitled-design-2023-09-11T151119.554.png
END:VEVENT
BEGIN:VEVENT
DTSTART;TZID=America/Halifax:20240528T170000
DTEND;TZID=America/Halifax:20240625T180000
DTSTAMP:20260422T110048
CREATED:20230911T181215Z
LAST-MODIFIED:20241213T193251Z
UID:10010650-1716915600-1719338400@www.lovemylibrary.ca
SUMMARY:Paws to Read ®
DESCRIPTION:The Paws to Read program offers kids a safe environment to practice reading aloud to an attentive and adorable audience. Children build confidence and reading skills in one-on-one sessions with therapy dogs. Participants attend 5 weekly half-hour sessions with a trained therapy dog volunteer and a certified handler. For children in grades 1-5 \nIn-Person. Registration is required. For details\, please call us at (902) 883-9838 or email us at elmsdale@cehpubliclibrary.ca
URL:https://www.lovemylibrary.ca/event/paws-to-read/2024-05-28/
LOCATION:Elmsdale Library\, 15 Commerce Ct\, Elmsdale\, Nova Scotia\, Canada
CATEGORIES:Events For Kids,Location: Elmsdale
ATTACH;FMTTYPE=image/png:https://www.lovemylibrary.ca/wp-content/uploads/2023/09/Untitled-design-2023-09-11T151119.554.png
END:VEVENT
BEGIN:VEVENT
DTSTART;TZID=America/Halifax:20240604T170000
DTEND;TZID=America/Halifax:20240702T180000
DTSTAMP:20260422T110048
CREATED:20230911T181215Z
LAST-MODIFIED:20241213T193251Z
UID:10010651-1717520400-1719943200@www.lovemylibrary.ca
SUMMARY:Paws to Read ®
DESCRIPTION:The Paws to Read program offers kids a safe environment to practice reading aloud to an attentive and adorable audience. Children build confidence and reading skills in one-on-one sessions with therapy dogs. Participants attend 5 weekly half-hour sessions with a trained therapy dog volunteer and a certified handler. For children in grades 1-5 \nIn-Person. Registration is required. For details\, please call us at (902) 883-9838 or email us at elmsdale@cehpubliclibrary.ca
URL:https://www.lovemylibrary.ca/event/paws-to-read/2024-06-04/
LOCATION:Elmsdale Library\, 15 Commerce Ct\, Elmsdale\, Nova Scotia\, Canada
CATEGORIES:Events For Kids,Location: Elmsdale
ATTACH;FMTTYPE=image/png:https://www.lovemylibrary.ca/wp-content/uploads/2023/09/Untitled-design-2023-09-11T151119.554.png
END:VEVENT
BEGIN:VEVENT
DTSTART;TZID=America/Halifax:20240607T100000
DTEND;TZID=America/Halifax:20240712T120000
DTSTAMP:20260422T110048
CREATED:20240513T152733Z
LAST-MODIFIED:20250417T173941Z
UID:10007430-1717754400-1720785600@www.lovemylibrary.ca
SUMMARY:One on One Tech Help
DESCRIPTION:Issues with your phone? Laptop? Social Media? Meet in-person with our digital literacy trainer to get your tech questions answered. \nDrop in – please call (902) 883-9838 or email us at elmsdale@cehpubliclibrary.ca for more details.
URL:https://www.lovemylibrary.ca/event/one-on-one-tech-help-7-2-2-2/2024-06-07/
LOCATION:Elmsdale Library\, 15 Commerce Ct\, Elmsdale\, Nova Scotia\, Canada
CATEGORIES:Events For Adults,Location: Elmsdale
ATTACH;FMTTYPE=image/png:https://www.lovemylibrary.ca/wp-content/uploads/2022/03/Untitled-design-80.png
END:VEVENT
BEGIN:VEVENT
DTSTART;TZID=America/Halifax:20240611T170000
DTEND;TZID=America/Halifax:20240709T180000
DTSTAMP:20260422T110048
CREATED:20230911T181215Z
LAST-MODIFIED:20241213T193251Z
UID:10010652-1718125200-1720548000@www.lovemylibrary.ca
SUMMARY:Paws to Read ®
DESCRIPTION:The Paws to Read program offers kids a safe environment to practice reading aloud to an attentive and adorable audience. Children build confidence and reading skills in one-on-one sessions with therapy dogs. Participants attend 5 weekly half-hour sessions with a trained therapy dog volunteer and a certified handler. For children in grades 1-5 \nIn-Person. Registration is required. For details\, please call us at (902) 883-9838 or email us at elmsdale@cehpubliclibrary.ca
URL:https://www.lovemylibrary.ca/event/paws-to-read/2024-06-11/
LOCATION:Elmsdale Library\, 15 Commerce Ct\, Elmsdale\, Nova Scotia\, Canada
CATEGORIES:Events For Kids,Location: Elmsdale
ATTACH;FMTTYPE=image/png:https://www.lovemylibrary.ca/wp-content/uploads/2023/09/Untitled-design-2023-09-11T151119.554.png
END:VEVENT
BEGIN:VEVENT
DTSTART;TZID=America/Halifax:20240613T100000
DTEND;TZID=America/Halifax:20240613T170000
DTSTAMP:20260422T110048
CREATED:20240517T190645Z
LAST-MODIFIED:20240517T191453Z
UID:10008294-1718272800-1718298000@www.lovemylibrary.ca
SUMMARY:Archetypes: Art Exhibit by Catalina Dudka
DESCRIPTION:The art exhibit “Archetypes” is comprised of mixed media paintings. These pieces are full of whimsy and an inner symbolism that Dudka hopes speaks to the viewer. Drop in and take a moment to dwell on each work and the layers of detail and snippets of stories that Dudka has filled them with. \nDrop in. No registration is required.
URL:https://www.lovemylibrary.ca/event/archetypes-art-exhibit-by-catalina-dudka/2024-06-13/
LOCATION:Truro Library\, 754 Prince St\, Truro\, Nova Scotia\, Canada
CATEGORIES:Events For Adults,Events For Seniors,Location: Truro
ATTACH;FMTTYPE=image/png:https://www.lovemylibrary.ca/wp-content/uploads/2024/05/Untitled-design-2-1.png
END:VEVENT
BEGIN:VEVENT
DTSTART;TZID=America/Halifax:20240613T103000
DTEND;TZID=America/Halifax:20240613T110000
DTSTAMP:20260422T110048
CREATED:20240321T133631Z
LAST-MODIFIED:20240321T173903Z
UID:10007535-1718274600-1718276400@www.lovemylibrary.ca
SUMMARY:Baby Rhyme Time
DESCRIPTION:Discover the joy of songs\, finger plays\, bouncing rhymes and simple books. Infant-2 years old with a caregiver. \nThis is a drop in program. No registration is required.
URL:https://www.lovemylibrary.ca/event/baby-rhyme-time-8-2-2/2024-06-13/
LOCATION:Stewiacke Library\, 295 George Street\, Stewiacke\, Nova Scotia\, Canada
CATEGORIES:Events For Kids,Location: Stewiacke
ATTACH;FMTTYPE=image/png:https://www.lovemylibrary.ca/wp-content/uploads/2022/03/Untitled-design-75.png
END:VEVENT
BEGIN:VEVENT
DTSTART;TZID=America/Halifax:20240613T103000
DTEND;TZID=America/Halifax:20240613T110000
DTSTAMP:20260422T110048
CREATED:20240516T174027Z
LAST-MODIFIED:20240516T174027Z
UID:10008083-1718274600-1718276400@www.lovemylibrary.ca
SUMMARY:Summer Reading Club Virtual Information Sessions
DESCRIPTION:Our 2024 Summer Reading Club theme is READ FOR THE STARS and we can’t wait to tell you all about it. If you are an educator\, caregiver\, or parent of children ages 3-12\, we invite you and your kids to join us on Zoom for a fun-filled information session about how SRC works… including all the fabulous prizes and programs we have to offer! All ages. \nEmail info@cehpubliclibrary.ca or call (902) 895-4183 to register and specify the date you’d like to attend. You will receive a follow up email with the Zoom session link.
URL:https://www.lovemylibrary.ca/event/summer-reading-club-virtual-information-sessions-2/2024-06-13/
LOCATION:Virtual
CATEGORIES:Events For Kids,Location: Virtual
ATTACH;FMTTYPE=image/png:https://www.lovemylibrary.ca/wp-content/uploads/2024/05/Untitled-design-1.png
END:VEVENT
BEGIN:VEVENT
DTSTART;TZID=America/Halifax:20240613T130000
DTEND;TZID=America/Halifax:20240613T140000
DTSTAMP:20260422T110048
CREATED:20231222T184645Z
LAST-MODIFIED:20240521T212918Z
UID:10008324-1718283600-1718287200@www.lovemylibrary.ca
SUMMARY:Pre-school Story time
DESCRIPTION:May flowers and things. For children ages 4-7 \nThis is a drop in program. No registration is required.
URL:https://www.lovemylibrary.ca/event/pre-school-story-time-2/2024-06-13/
LOCATION:Tatamagouche Library\, 170 Main Street\, Tatamagouche\, Nova Scotia\, Canada
CATEGORIES:Events For Kids,Location: Tatamagouche
ATTACH;FMTTYPE=image/png:https://www.lovemylibrary.ca/wp-content/uploads/2022/09/Untitled-design-38.png
END:VEVENT
BEGIN:VEVENT
DTSTART;TZID=America/Halifax:20240613T143000
DTEND;TZID=America/Halifax:20240613T170000
DTSTAMP:20260422T110048
CREATED:20240221T182238Z
LAST-MODIFIED:20240521T210710Z
UID:10008319-1718289000-1718298000@www.lovemylibrary.ca
SUMMARY:Afterschool Chill Zone
DESCRIPTION:Relax and have fun after school with computers\, books\, and games in the chill zone. For ages 8-14 \nThis is a drop-in program. No registration is required.
URL:https://www.lovemylibrary.ca/event/after-school-chill-zone-with-games-and-craft-2/2024-06-13/
LOCATION:Tatamagouche Library\, 170 Main Street\, Tatamagouche\, Nova Scotia\, Canada
CATEGORIES:Events For Kids,Location: Tatamagouche
ATTACH;FMTTYPE=image/jpeg:https://www.lovemylibrary.ca/wp-content/uploads/2023/02/pexels-artem-podrez-8087869-scaled.jpg
END:VEVENT
BEGIN:VEVENT
DTSTART;TZID=America/Halifax:20240613T150000
DTEND;TZID=America/Halifax:20240613T163000
DTSTAMP:20260422T110048
CREATED:20240516T172149Z
LAST-MODIFIED:20240516T172149Z
UID:10008073-1718290800-1718296200@www.lovemylibrary.ca
SUMMARY:Teen Room Cram Cafe
DESCRIPTION:Drop by the Truro Library teen room for a peaceful place to study for your exams. Snacks\, fidgets\, and basic school supplies provided. Ages 13-18 \nDrop in. No registration is required.
URL:https://www.lovemylibrary.ca/event/teen-room-cram-cafe/2024-06-13/
LOCATION:Truro Library\, 754 Prince St\, Truro\, Nova Scotia\, Canada
CATEGORIES:Events For Teens,Location: Truro
ATTACH;FMTTYPE=image/png:https://www.lovemylibrary.ca/wp-content/uploads/2024/05/Untitled-design.png
END:VEVENT
BEGIN:VEVENT
DTSTART;TZID=America/Halifax:20240613T150000
DTEND;TZID=America/Halifax:20240613T170000
DTSTAMP:20260422T110048
CREATED:20240516T162824Z
LAST-MODIFIED:20240516T163013Z
UID:10008052-1718290800-1718298000@www.lovemylibrary.ca
SUMMARY:Maker Lab Fun Time
DESCRIPTION:Curious about the Maker Lab? Come on in and explore. Program robots\, create circuits\, build with magnetic tiles\, and more! All ages are welcome. \nThis is a drop-in and no registration is required.
URL:https://www.lovemylibrary.ca/event/maker-lab-fun-time-4/2024-06-13/
LOCATION:Truro Library\, 754 Prince St\, Truro\, Nova Scotia\, Canada
CATEGORIES:Events For Kids,Location: Truro,STEAM
ATTACH;FMTTYPE=image/png:https://www.lovemylibrary.ca/wp-content/uploads/2023/09/Untitled-design-2023-09-29T143321.527.png
END:VEVENT
BEGIN:VEVENT
DTSTART;TZID=America/Halifax:20240613T173000
DTEND;TZID=America/Halifax:20240613T193000
DTSTAMP:20260422T110048
CREATED:20240420T182148Z
LAST-MODIFIED:20240521T220729Z
UID:10008335-1718299800-1718307000@www.lovemylibrary.ca
SUMMARY:Colonial Charm: Stenciling Workshop
DESCRIPTION:Colonial Stenciling: Craft your own historical elegance! Join us for a workshop where you’ll learn the timeless art of colonial stenciling and bring a touch of vintage charm to your décor. This is a program for adults \nTo register: Please call 902-657-3064 or email: tatamago@cehpubliclibrary.ca for more details
URL:https://www.lovemylibrary.ca/event/colonial-charm-stenciling-workshop/2024-06-13/
LOCATION:Tatamagouche Library\, 170 Main Street\, Tatamagouche\, Nova Scotia\, Canada
CATEGORIES:Events For Seniors,Location: Tatamagouche
ATTACH;FMTTYPE=image/png:https://www.lovemylibrary.ca/wp-content/uploads/2024/04/Untitled-design-2024-04-20T152330.956.png
END:VEVENT
BEGIN:VEVENT
DTSTART;TZID=America/Halifax:20240613T180000
DTEND;TZID=America/Halifax:20240613T190000
DTSTAMP:20260422T110048
CREATED:20240313T130113Z
LAST-MODIFIED:20240521T215413Z
UID:10008331-1718301600-1718305200@www.lovemylibrary.ca
SUMMARY:Knitters Social
DESCRIPTION:Bring your current project and share your passion for yarns\, needles\, hooks\, and patterns in a relaxed and environment. All ages are welcome. \nThis is a drop in program. No registration is required.
URL:https://www.lovemylibrary.ca/event/knitters-social-3/2024-06-13/
LOCATION:Tatamagouche Library\, 170 Main Street\, Tatamagouche\, Nova Scotia\, Canada
CATEGORIES:Crafting,Events For Adults,Events For Kids,Location: Tatamagouche
ATTACH;FMTTYPE=image/png:https://www.lovemylibrary.ca/wp-content/uploads/2024/03/Untitled-design-2024-03-13T100214.323.png
END:VEVENT
BEGIN:VEVENT
DTSTART;TZID=America/Halifax:20240613T180000
DTEND;TZID=America/Halifax:20240613T190000
DTSTAMP:20260422T110048
CREATED:20240516T194605Z
LAST-MODIFIED:20240516T194605Z
UID:10008241-1718301600-1718305200@www.lovemylibrary.ca
SUMMARY:Only Murders in our Library
DESCRIPTION:Introverts and extroverts unite. Extroverts come early to socialize and introverts can join us at 6pm. We are spending an hour listening to a true crime podcast and doing some adult coloring. For ages 15-99 (or older) \nThis is a drop in event\, No registration required\n  \n 
URL:https://www.lovemylibrary.ca/event/only-murders-in-our-library-4/
LOCATION:Mount Uniacke Library\, 555\, Highway 1\, Mount Uniacke\, Nova Scotia\, Canada
CATEGORIES:Events For Adults,Events For Seniors,Events For Teens,Location: Mount Uniacke
ATTACH;FMTTYPE=image/png:https://www.lovemylibrary.ca/wp-content/uploads/2023/08/Untitled-design-2023-08-25T151940.865.png
END:VEVENT
END:VCALENDAR