BEGIN:VCALENDAR
VERSION:2.0
PRODID:-//Colchester East Hants Public Library - ECPv6.15.20//NONSGML v1.0//EN
CALSCALE:GREGORIAN
METHOD:PUBLISH
X-WR-CALNAME:Colchester East Hants Public Library
X-ORIGINAL-URL:https://www.lovemylibrary.ca
X-WR-CALDESC:Events for Colchester East Hants Public Library
REFRESH-INTERVAL;VALUE=DURATION:PT1H
X-Robots-Tag:noindex
X-PUBLISHED-TTL:PT1H
BEGIN:VTIMEZONE
TZID:America/Halifax
BEGIN:DAYLIGHT
TZOFFSETFROM:-0400
TZOFFSETTO:-0300
TZNAME:ADT
DTSTART:20230312T060000
END:DAYLIGHT
BEGIN:STANDARD
TZOFFSETFROM:-0300
TZOFFSETTO:-0400
TZNAME:AST
DTSTART:20231105T050000
END:STANDARD
BEGIN:DAYLIGHT
TZOFFSETFROM:-0400
TZOFFSETTO:-0300
TZNAME:ADT
DTSTART:20240310T060000
END:DAYLIGHT
BEGIN:STANDARD
TZOFFSETFROM:-0300
TZOFFSETTO:-0400
TZNAME:AST
DTSTART:20241103T050000
END:STANDARD
BEGIN:DAYLIGHT
TZOFFSETFROM:-0400
TZOFFSETTO:-0300
TZNAME:ADT
DTSTART:20250309T060000
END:DAYLIGHT
BEGIN:STANDARD
TZOFFSETFROM:-0300
TZOFFSETTO:-0400
TZNAME:AST
DTSTART:20251102T050000
END:STANDARD
END:VTIMEZONE
BEGIN:VEVENT
DTSTART;TZID=America/Halifax:20240607T100000
DTEND;TZID=America/Halifax:20240712T120000
DTSTAMP:20260422T192737
CREATED:20240513T152733Z
LAST-MODIFIED:20250417T173941Z
UID:10007430-1717754400-1720785600@www.lovemylibrary.ca
SUMMARY:One on One Tech Help
DESCRIPTION:Issues with your phone? Laptop? Social Media? Meet in-person with our digital literacy trainer to get your tech questions answered. \nDrop in – please call (902) 883-9838 or email us at elmsdale@cehpubliclibrary.ca for more details.
URL:https://www.lovemylibrary.ca/event/one-on-one-tech-help-7-2-2-2/2024-06-07/
LOCATION:Elmsdale Library\, 15 Commerce Ct\, Elmsdale\, Nova Scotia\, Canada
CATEGORIES:Events For Adults,Location: Elmsdale
ATTACH;FMTTYPE=image/png:https://www.lovemylibrary.ca/wp-content/uploads/2022/03/Untitled-design-80.png
END:VEVENT
BEGIN:VEVENT
DTSTART;TZID=America/Halifax:20240611T170000
DTEND;TZID=America/Halifax:20240709T180000
DTSTAMP:20260422T192737
CREATED:20230911T181215Z
LAST-MODIFIED:20241213T193251Z
UID:10010652-1718125200-1720548000@www.lovemylibrary.ca
SUMMARY:Paws to Read ®
DESCRIPTION:The Paws to Read program offers kids a safe environment to practice reading aloud to an attentive and adorable audience. Children build confidence and reading skills in one-on-one sessions with therapy dogs. Participants attend 5 weekly half-hour sessions with a trained therapy dog volunteer and a certified handler. For children in grades 1-5 \nIn-Person. Registration is required. For details\, please call us at (902) 883-9838 or email us at elmsdale@cehpubliclibrary.ca
URL:https://www.lovemylibrary.ca/event/paws-to-read/2024-06-11/
LOCATION:Elmsdale Library\, 15 Commerce Ct\, Elmsdale\, Nova Scotia\, Canada
CATEGORIES:Events For Kids,Location: Elmsdale
ATTACH;FMTTYPE=image/png:https://www.lovemylibrary.ca/wp-content/uploads/2023/09/Untitled-design-2023-09-11T151119.554.png
END:VEVENT
BEGIN:VEVENT
DTSTART;TZID=America/Halifax:20240614T100000
DTEND;TZID=America/Halifax:20240719T120000
DTSTAMP:20260422T192737
CREATED:20240513T152733Z
LAST-MODIFIED:20250417T173941Z
UID:10007945-1718359200-1721390400@www.lovemylibrary.ca
SUMMARY:One on One Tech Help
DESCRIPTION:Issues with your phone? Laptop? Social Media? Meet in-person with our digital literacy trainer to get your tech questions answered. \nDrop in – please call (902) 883-9838 or email us at elmsdale@cehpubliclibrary.ca for more details.
URL:https://www.lovemylibrary.ca/event/one-on-one-tech-help-7-2-2-2/2024-06-14/
LOCATION:Elmsdale Library\, 15 Commerce Ct\, Elmsdale\, Nova Scotia\, Canada
CATEGORIES:Events For Adults,Location: Elmsdale
ATTACH;FMTTYPE=image/png:https://www.lovemylibrary.ca/wp-content/uploads/2022/03/Untitled-design-80.png
END:VEVENT
BEGIN:VEVENT
DTSTART;VALUE=DATE:20240617
DTEND;VALUE=DATE:20240722
DTSTAMP:20260422T192737
CREATED:20240618T162804Z
LAST-MODIFIED:20240618T162804Z
UID:10008494-1718582400-1721606399@www.lovemylibrary.ca
SUMMARY:Story Walk
DESCRIPTION:Take a stroll through Kiwanis Park and enjoy our Story Walk. The picture book\, “The Darkest Dark” by Chris Hadfield will be on display to read and enjoy with your family! All ages are encouraged to participate.
URL:https://www.lovemylibrary.ca/event/story-walk-7/
LOCATION:Kiwanis Park
CATEGORIES:Events For Kids,Location: Truro
ATTACH;FMTTYPE=image/png:https://www.lovemylibrary.ca/wp-content/uploads/2024/06/Untitled-design-2024-06-18T132802.393.png
END:VEVENT
BEGIN:VEVENT
DTSTART;TZID=America/Halifax:20240618T170000
DTEND;TZID=America/Halifax:20240716T180000
DTSTAMP:20260422T192737
CREATED:20230911T181215Z
LAST-MODIFIED:20241213T193251Z
UID:10010653-1718730000-1721152800@www.lovemylibrary.ca
SUMMARY:Paws to Read ®
DESCRIPTION:The Paws to Read program offers kids a safe environment to practice reading aloud to an attentive and adorable audience. Children build confidence and reading skills in one-on-one sessions with therapy dogs. Participants attend 5 weekly half-hour sessions with a trained therapy dog volunteer and a certified handler. For children in grades 1-5 \nIn-Person. Registration is required. For details\, please call us at (902) 883-9838 or email us at elmsdale@cehpubliclibrary.ca
URL:https://www.lovemylibrary.ca/event/paws-to-read/2024-06-18/
LOCATION:Elmsdale Library\, 15 Commerce Ct\, Elmsdale\, Nova Scotia\, Canada
CATEGORIES:Events For Kids,Location: Elmsdale
ATTACH;FMTTYPE=image/png:https://www.lovemylibrary.ca/wp-content/uploads/2023/09/Untitled-design-2023-09-11T151119.554.png
END:VEVENT
BEGIN:VEVENT
DTSTART;TZID=America/Halifax:20240621T100000
DTEND;TZID=America/Halifax:20240726T120000
DTSTAMP:20260422T192737
CREATED:20240513T152733Z
LAST-MODIFIED:20250417T173941Z
UID:10007946-1718964000-1721995200@www.lovemylibrary.ca
SUMMARY:One on One Tech Help
DESCRIPTION:Issues with your phone? Laptop? Social Media? Meet in-person with our digital literacy trainer to get your tech questions answered. \nDrop in – please call (902) 883-9838 or email us at elmsdale@cehpubliclibrary.ca for more details.
URL:https://www.lovemylibrary.ca/event/one-on-one-tech-help-7-2-2-2/2024-06-21/
LOCATION:Elmsdale Library\, 15 Commerce Ct\, Elmsdale\, Nova Scotia\, Canada
CATEGORIES:Events For Adults,Location: Elmsdale
ATTACH;FMTTYPE=image/png:https://www.lovemylibrary.ca/wp-content/uploads/2022/03/Untitled-design-80.png
END:VEVENT
BEGIN:VEVENT
DTSTART;TZID=America/Halifax:20240625T170000
DTEND;TZID=America/Halifax:20240723T180000
DTSTAMP:20260422T192737
CREATED:20230911T181215Z
LAST-MODIFIED:20241213T193251Z
UID:10010654-1719334800-1721757600@www.lovemylibrary.ca
SUMMARY:Paws to Read ®
DESCRIPTION:The Paws to Read program offers kids a safe environment to practice reading aloud to an attentive and adorable audience. Children build confidence and reading skills in one-on-one sessions with therapy dogs. Participants attend 5 weekly half-hour sessions with a trained therapy dog volunteer and a certified handler. For children in grades 1-5 \nIn-Person. Registration is required. For details\, please call us at (902) 883-9838 or email us at elmsdale@cehpubliclibrary.ca
URL:https://www.lovemylibrary.ca/event/paws-to-read/2024-06-25/
LOCATION:Elmsdale Library\, 15 Commerce Ct\, Elmsdale\, Nova Scotia\, Canada
CATEGORIES:Events For Kids,Location: Elmsdale
ATTACH;FMTTYPE=image/png:https://www.lovemylibrary.ca/wp-content/uploads/2023/09/Untitled-design-2023-09-11T151119.554.png
END:VEVENT
BEGIN:VEVENT
DTSTART;TZID=America/Halifax:20240628T100000
DTEND;TZID=America/Halifax:20240802T120000
DTSTAMP:20260422T192737
CREATED:20240513T152733Z
LAST-MODIFIED:20250417T173941Z
UID:10007947-1719568800-1722600000@www.lovemylibrary.ca
SUMMARY:One on One Tech Help
DESCRIPTION:Issues with your phone? Laptop? Social Media? Meet in-person with our digital literacy trainer to get your tech questions answered. \nDrop in – please call (902) 883-9838 or email us at elmsdale@cehpubliclibrary.ca for more details.
URL:https://www.lovemylibrary.ca/event/one-on-one-tech-help-7-2-2-2/2024-06-28/
LOCATION:Elmsdale Library\, 15 Commerce Ct\, Elmsdale\, Nova Scotia\, Canada
CATEGORIES:Events For Adults,Location: Elmsdale
ATTACH;FMTTYPE=image/png:https://www.lovemylibrary.ca/wp-content/uploads/2022/03/Untitled-design-80.png
END:VEVENT
BEGIN:VEVENT
DTSTART;TZID=America/Halifax:20240702T170000
DTEND;TZID=America/Halifax:20240730T180000
DTSTAMP:20260422T192737
CREATED:20230911T181215Z
LAST-MODIFIED:20241213T193251Z
UID:10010655-1719939600-1722362400@www.lovemylibrary.ca
SUMMARY:Paws to Read ®
DESCRIPTION:The Paws to Read program offers kids a safe environment to practice reading aloud to an attentive and adorable audience. Children build confidence and reading skills in one-on-one sessions with therapy dogs. Participants attend 5 weekly half-hour sessions with a trained therapy dog volunteer and a certified handler. For children in grades 1-5 \nIn-Person. Registration is required. For details\, please call us at (902) 883-9838 or email us at elmsdale@cehpubliclibrary.ca
URL:https://www.lovemylibrary.ca/event/paws-to-read/2024-07-02/
LOCATION:Elmsdale Library\, 15 Commerce Ct\, Elmsdale\, Nova Scotia\, Canada
CATEGORIES:Events For Kids,Location: Elmsdale
ATTACH;FMTTYPE=image/png:https://www.lovemylibrary.ca/wp-content/uploads/2023/09/Untitled-design-2023-09-11T151119.554.png
END:VEVENT
BEGIN:VEVENT
DTSTART;VALUE=DATE:20240704
DTEND;VALUE=DATE:20240705
DTSTAMP:20260422T192737
CREATED:20240625T174938Z
LAST-MODIFIED:20240806T133936Z
UID:10008579-1720051200-1720137599@www.lovemylibrary.ca
SUMMARY:A Glimpse of Today’s Rug Hooking: Art Exhibit by the Friday Friends
DESCRIPTION:July 4th – August 29th \nGrandma’s rug hooking has changed. It has grown\, expanded\, moved from a utilitarian craft to a creative outlet\, and it has thrown out all the rules! The pieces on display have been created by the group Friday Friends and show a wide range of techniques. They hope you enjoy the exhibit as much as they enjoyed putting it together for you.  \nDrop in\, no registration required.\n 
URL:https://www.lovemylibrary.ca/event/a-glimpse-of-todays-rug-hooking-art-exhibit-by-the-friday-friends/2024-07-04/
LOCATION:Truro Library\, 754 Prince St\, Truro\, Nova Scotia\, Canada
CATEGORIES:Events For Adults,Location: Truro
ATTACH;FMTTYPE=image/png:https://www.lovemylibrary.ca/wp-content/uploads/2024/06/Untitled-design-6.png
END:VEVENT
BEGIN:VEVENT
DTSTART;TZID=America/Halifax:20240704T103000
DTEND;TZID=America/Halifax:20240704T110000
DTSTAMP:20260422T192737
CREATED:20240617T194633Z
LAST-MODIFIED:20240621T172400Z
UID:10008488-1720089000-1720090800@www.lovemylibrary.ca
SUMMARY:Chefs in Training: Power Up Your Morning
DESCRIPTION:Power up your morning with a tasty\, easy\, no bake treat! We provide all the ingredients\, and tools\, just bring your appetite. Using oats\, honey\, and some different nut butters\, as well as lots of sweet add ins like dried fruits and chocolates\, this program will show you how to put together a quick breakfast or snack while explaining the importance of providing our bodies with the power they need! For ages 4-7 and 8-12. \nSpaces are limited. To register\, please email info@cehpubliclibrary.ca\n 
URL:https://www.lovemylibrary.ca/event/kids-in-the-kitchen-power-up-your-morning/2024-07-04/1/
LOCATION:Truro Library\, 754 Prince St\, Truro\, Nova Scotia\, Canada
CATEGORIES:Events For Kids,Location: Truro
ATTACH;FMTTYPE=image/png:https://www.lovemylibrary.ca/wp-content/uploads/2024/06/Untitled-design-2024-06-17T164902.545.png
END:VEVENT
BEGIN:VEVENT
DTSTART;TZID=America/Halifax:20240704T133000
DTEND;TZID=America/Halifax:20240704T140000
DTSTAMP:20260422T192737
CREATED:20240612T171648Z
LAST-MODIFIED:20240620T170725Z
UID:10008385-1720099800-1720101600@www.lovemylibrary.ca
SUMMARY:Outer Space Storytime
DESCRIPTION:Ready for blast off? July’s Storytime is all about rockets\, stars\, and little green guys! Join us for a taste of science fiction. For kids \nPlease call at 902-883-9838 or email us at elmsdale@cehpubliclibrary.ca for more details.
URL:https://www.lovemylibrary.ca/event/outer-space-storytime/
LOCATION:Elmsdale Library\, 15 Commerce Ct\, Elmsdale\, Nova Scotia\, Canada
CATEGORIES:Events For Kids,Location: Elmsdale
ATTACH;FMTTYPE=image/png:https://www.lovemylibrary.ca/wp-content/uploads/2024/06/Untitled-design-2024-06-12T141903.248.png
END:VEVENT
BEGIN:VEVENT
DTSTART;TZID=America/Halifax:20240704T140000
DTEND;TZID=America/Halifax:20240704T160000
DTSTAMP:20260422T192737
CREATED:20230929T170147Z
LAST-MODIFIED:20240717T172239Z
UID:10005543-1720101600-1720108800@www.lovemylibrary.ca
SUMMARY:Epic X-box Kinect games
DESCRIPTION:Jump\, dance\, and play! Kids will enjoy active\, motion-sensing games that get them moving and laughing. Perfect for all skill levels. Get ready for epic fun! For ages 8-14 \nThis is a drop in program. No registration is required.
URL:https://www.lovemylibrary.ca/event/after-school-kinect-x-box-games/2024-07-04/
LOCATION:Tatamagouche Library\, 170 Main Street\, Tatamagouche\, Nova Scotia\, Canada
CATEGORIES:Events For Kids,Events For Teens,Location: Tatamagouche,March Break
ATTACH;FMTTYPE=image/png:https://www.lovemylibrary.ca/wp-content/uploads/2023/02/Untitled-design-70.png
END:VEVENT
BEGIN:VEVENT
DTSTART;TZID=America/Halifax:20240704T143000
DTEND;TZID=America/Halifax:20240704T150000
DTSTAMP:20260422T192737
CREATED:20240617T194633Z
LAST-MODIFIED:20240621T172400Z
UID:10008489-1720103400-1720105200@www.lovemylibrary.ca
SUMMARY:Chefs in Training: Power Up Your Morning
DESCRIPTION:Power up your morning with a tasty\, easy\, no bake treat! We provide all the ingredients\, and tools\, just bring your appetite. Using oats\, honey\, and some different nut butters\, as well as lots of sweet add ins like dried fruits and chocolates\, this program will show you how to put together a quick breakfast or snack while explaining the importance of providing our bodies with the power they need! For ages 4-7 and 8-12. \nSpaces are limited. To register\, please email info@cehpubliclibrary.ca\n 
URL:https://www.lovemylibrary.ca/event/kids-in-the-kitchen-power-up-your-morning/2024-07-04/2/
LOCATION:Truro Library\, 754 Prince St\, Truro\, Nova Scotia\, Canada
CATEGORIES:Events For Kids,Location: Truro
ATTACH;FMTTYPE=image/png:https://www.lovemylibrary.ca/wp-content/uploads/2024/06/Untitled-design-2024-06-17T164902.545.png
END:VEVENT
BEGIN:VEVENT
DTSTART;TZID=America/Halifax:20240704T183000
DTEND;TZID=America/Halifax:20240704T193000
DTSTAMP:20260422T192737
CREATED:20240615T133050Z
LAST-MODIFIED:20240615T133050Z
UID:10008407-1720117800-1720121400@www.lovemylibrary.ca
SUMMARY:Fluff Ball Keychains
DESCRIPTION:No animals will be harmed in the making of this craft. Add your own special touch to a faux fur keychain. For ages 13-18 \nThis is a drop in program. No registration is required.
URL:https://www.lovemylibrary.ca/event/fluff-ball-keychains/
LOCATION:Stewiacke Library\, 295 George Street\, Stewiacke\, Nova Scotia\, Canada
CATEGORIES:Crafting,Events For Teens,Location: Stewiacke
ATTACH;FMTTYPE=image/png:https://www.lovemylibrary.ca/wp-content/uploads/2024/06/Untitled-design-2024-06-15T103302.843.png
END:VEVENT
END:VCALENDAR