BEGIN:VCALENDAR
VERSION:2.0
PRODID:-//Colchester East Hants Public Library - ECPv6.15.20//NONSGML v1.0//EN
CALSCALE:GREGORIAN
METHOD:PUBLISH
X-WR-CALNAME:Colchester East Hants Public Library
X-ORIGINAL-URL:https://www.lovemylibrary.ca
X-WR-CALDESC:Events for Colchester East Hants Public Library
REFRESH-INTERVAL;VALUE=DURATION:PT1H
X-Robots-Tag:noindex
X-PUBLISHED-TTL:PT1H
BEGIN:VTIMEZONE
TZID:America/Halifax
BEGIN:DAYLIGHT
TZOFFSETFROM:-0400
TZOFFSETTO:-0300
TZNAME:ADT
DTSTART:20230312T060000
END:DAYLIGHT
BEGIN:STANDARD
TZOFFSETFROM:-0300
TZOFFSETTO:-0400
TZNAME:AST
DTSTART:20231105T050000
END:STANDARD
BEGIN:DAYLIGHT
TZOFFSETFROM:-0400
TZOFFSETTO:-0300
TZNAME:ADT
DTSTART:20240310T060000
END:DAYLIGHT
BEGIN:STANDARD
TZOFFSETFROM:-0300
TZOFFSETTO:-0400
TZNAME:AST
DTSTART:20241103T050000
END:STANDARD
BEGIN:DAYLIGHT
TZOFFSETFROM:-0400
TZOFFSETTO:-0300
TZNAME:ADT
DTSTART:20250309T060000
END:DAYLIGHT
BEGIN:STANDARD
TZOFFSETFROM:-0300
TZOFFSETTO:-0400
TZNAME:AST
DTSTART:20251102T050000
END:STANDARD
END:VTIMEZONE
BEGIN:VEVENT
DTSTART;TZID=America/Halifax:20240816T100000
DTEND;TZID=America/Halifax:20240920T120000
DTSTAMP:20260424T053338
CREATED:20240513T152733Z
LAST-MODIFIED:20250417T173941Z
UID:10009064-1723802400-1726833600@www.lovemylibrary.ca
SUMMARY:One on One Tech Help
DESCRIPTION:Issues with your phone? Laptop? Social Media? Meet in-person with our digital literacy trainer to get your tech questions answered. \nDrop in – please call (902) 883-9838 or email us at elmsdale@cehpubliclibrary.ca for more details.
URL:https://www.lovemylibrary.ca/event/one-on-one-tech-help-7-2-2-2/2024-08-16/
LOCATION:Elmsdale Library\, 15 Commerce Ct\, Elmsdale\, Nova Scotia\, Canada
CATEGORIES:Events For Adults,Location: Elmsdale
ATTACH;FMTTYPE=image/png:https://www.lovemylibrary.ca/wp-content/uploads/2022/03/Untitled-design-80.png
END:VEVENT
BEGIN:VEVENT
DTSTART;TZID=America/Halifax:20240823T100000
DTEND;TZID=America/Halifax:20240927T120000
DTSTAMP:20260424T053338
CREATED:20240513T152733Z
LAST-MODIFIED:20250417T173941Z
UID:10009065-1724407200-1727438400@www.lovemylibrary.ca
SUMMARY:One on One Tech Help
DESCRIPTION:Issues with your phone? Laptop? Social Media? Meet in-person with our digital literacy trainer to get your tech questions answered. \nDrop in – please call (902) 883-9838 or email us at elmsdale@cehpubliclibrary.ca for more details.
URL:https://www.lovemylibrary.ca/event/one-on-one-tech-help-7-2-2-2/2024-08-23/
LOCATION:Elmsdale Library\, 15 Commerce Ct\, Elmsdale\, Nova Scotia\, Canada
CATEGORIES:Events For Adults,Location: Elmsdale
ATTACH;FMTTYPE=image/png:https://www.lovemylibrary.ca/wp-content/uploads/2022/03/Untitled-design-80.png
END:VEVENT
BEGIN:VEVENT
DTSTART;TZID=America/Halifax:20240827T170000
DTEND;TZID=America/Halifax:20240924T180000
DTSTAMP:20260424T053338
CREATED:20230911T181215Z
LAST-MODIFIED:20241213T193251Z
UID:10010663-1724778000-1727200800@www.lovemylibrary.ca
SUMMARY:Paws to Read ®
DESCRIPTION:The Paws to Read program offers kids a safe environment to practice reading aloud to an attentive and adorable audience. Children build confidence and reading skills in one-on-one sessions with therapy dogs. Participants attend 5 weekly half-hour sessions with a trained therapy dog volunteer and a certified handler. For children in grades 1-5 \nIn-Person. Registration is required. For details\, please call us at (902) 883-9838 or email us at elmsdale@cehpubliclibrary.ca
URL:https://www.lovemylibrary.ca/event/paws-to-read/2024-08-27/
LOCATION:Elmsdale Library\, 15 Commerce Ct\, Elmsdale\, Nova Scotia\, Canada
CATEGORIES:Events For Kids,Location: Elmsdale
ATTACH;FMTTYPE=image/png:https://www.lovemylibrary.ca/wp-content/uploads/2023/09/Untitled-design-2023-09-11T151119.554.png
END:VEVENT
BEGIN:VEVENT
DTSTART;TZID=America/Halifax:20240830T100000
DTEND;TZID=America/Halifax:20241004T120000
DTSTAMP:20260424T053338
CREATED:20240513T152733Z
LAST-MODIFIED:20250417T173941Z
UID:10009066-1725012000-1728043200@www.lovemylibrary.ca
SUMMARY:One on One Tech Help
DESCRIPTION:Issues with your phone? Laptop? Social Media? Meet in-person with our digital literacy trainer to get your tech questions answered. \nDrop in – please call (902) 883-9838 or email us at elmsdale@cehpubliclibrary.ca for more details.
URL:https://www.lovemylibrary.ca/event/one-on-one-tech-help-7-2-2-2/2024-08-30/
LOCATION:Elmsdale Library\, 15 Commerce Ct\, Elmsdale\, Nova Scotia\, Canada
CATEGORIES:Events For Adults,Location: Elmsdale
ATTACH;FMTTYPE=image/png:https://www.lovemylibrary.ca/wp-content/uploads/2022/03/Untitled-design-80.png
END:VEVENT
BEGIN:VEVENT
DTSTART;TZID=America/Halifax:20240903T170000
DTEND;TZID=America/Halifax:20241001T180000
DTSTAMP:20260424T053338
CREATED:20230911T181215Z
LAST-MODIFIED:20241213T193251Z
UID:10010664-1725382800-1727805600@www.lovemylibrary.ca
SUMMARY:Paws to Read ®
DESCRIPTION:The Paws to Read program offers kids a safe environment to practice reading aloud to an attentive and adorable audience. Children build confidence and reading skills in one-on-one sessions with therapy dogs. Participants attend 5 weekly half-hour sessions with a trained therapy dog volunteer and a certified handler. For children in grades 1-5 \nIn-Person. Registration is required. For details\, please call us at (902) 883-9838 or email us at elmsdale@cehpubliclibrary.ca
URL:https://www.lovemylibrary.ca/event/paws-to-read/2024-09-03/
LOCATION:Elmsdale Library\, 15 Commerce Ct\, Elmsdale\, Nova Scotia\, Canada
CATEGORIES:Events For Kids,Location: Elmsdale
ATTACH;FMTTYPE=image/png:https://www.lovemylibrary.ca/wp-content/uploads/2023/09/Untitled-design-2023-09-11T151119.554.png
END:VEVENT
BEGIN:VEVENT
DTSTART;TZID=America/Halifax:20240906T100000
DTEND;TZID=America/Halifax:20241011T120000
DTSTAMP:20260424T053338
CREATED:20240513T152733Z
LAST-MODIFIED:20250417T173941Z
UID:10009271-1725616800-1728648000@www.lovemylibrary.ca
SUMMARY:One on One Tech Help
DESCRIPTION:Issues with your phone? Laptop? Social Media? Meet in-person with our digital literacy trainer to get your tech questions answered. \nDrop in – please call (902) 883-9838 or email us at elmsdale@cehpubliclibrary.ca for more details.
URL:https://www.lovemylibrary.ca/event/one-on-one-tech-help-7-2-2-2/2024-09-06/
LOCATION:Elmsdale Library\, 15 Commerce Ct\, Elmsdale\, Nova Scotia\, Canada
CATEGORIES:Events For Adults,Location: Elmsdale
ATTACH;FMTTYPE=image/png:https://www.lovemylibrary.ca/wp-content/uploads/2022/03/Untitled-design-80.png
END:VEVENT
BEGIN:VEVENT
DTSTART;TZID=America/Halifax:20240910T170000
DTEND;TZID=America/Halifax:20241008T180000
DTSTAMP:20260424T053338
CREATED:20230911T181215Z
LAST-MODIFIED:20241213T193251Z
UID:10010665-1725987600-1728410400@www.lovemylibrary.ca
SUMMARY:Paws to Read ®
DESCRIPTION:The Paws to Read program offers kids a safe environment to practice reading aloud to an attentive and adorable audience. Children build confidence and reading skills in one-on-one sessions with therapy dogs. Participants attend 5 weekly half-hour sessions with a trained therapy dog volunteer and a certified handler. For children in grades 1-5 \nIn-Person. Registration is required. For details\, please call us at (902) 883-9838 or email us at elmsdale@cehpubliclibrary.ca
URL:https://www.lovemylibrary.ca/event/paws-to-read/2024-09-10/
LOCATION:Elmsdale Library\, 15 Commerce Ct\, Elmsdale\, Nova Scotia\, Canada
CATEGORIES:Events For Kids,Location: Elmsdale
ATTACH;FMTTYPE=image/png:https://www.lovemylibrary.ca/wp-content/uploads/2023/09/Untitled-design-2023-09-11T151119.554.png
END:VEVENT
BEGIN:VEVENT
DTSTART;TZID=America/Halifax:20240913T100000
DTEND;TZID=America/Halifax:20241018T120000
DTSTAMP:20260424T053338
CREATED:20240513T152733Z
LAST-MODIFIED:20250417T173941Z
UID:10009272-1726221600-1729252800@www.lovemylibrary.ca
SUMMARY:One on One Tech Help
DESCRIPTION:Issues with your phone? Laptop? Social Media? Meet in-person with our digital literacy trainer to get your tech questions answered. \nDrop in – please call (902) 883-9838 or email us at elmsdale@cehpubliclibrary.ca for more details.
URL:https://www.lovemylibrary.ca/event/one-on-one-tech-help-7-2-2-2/2024-09-13/
LOCATION:Elmsdale Library\, 15 Commerce Ct\, Elmsdale\, Nova Scotia\, Canada
CATEGORIES:Events For Adults,Location: Elmsdale
ATTACH;FMTTYPE=image/png:https://www.lovemylibrary.ca/wp-content/uploads/2022/03/Untitled-design-80.png
END:VEVENT
BEGIN:VEVENT
DTSTART;TZID=America/Halifax:20240917T170000
DTEND;TZID=America/Halifax:20241015T180000
DTSTAMP:20260424T053338
CREATED:20230911T181215Z
LAST-MODIFIED:20241213T193251Z
UID:10010666-1726592400-1729015200@www.lovemylibrary.ca
SUMMARY:Paws to Read ®
DESCRIPTION:The Paws to Read program offers kids a safe environment to practice reading aloud to an attentive and adorable audience. Children build confidence and reading skills in one-on-one sessions with therapy dogs. Participants attend 5 weekly half-hour sessions with a trained therapy dog volunteer and a certified handler. For children in grades 1-5 \nIn-Person. Registration is required. For details\, please call us at (902) 883-9838 or email us at elmsdale@cehpubliclibrary.ca
URL:https://www.lovemylibrary.ca/event/paws-to-read/2024-09-17/
LOCATION:Elmsdale Library\, 15 Commerce Ct\, Elmsdale\, Nova Scotia\, Canada
CATEGORIES:Events For Kids,Location: Elmsdale
ATTACH;FMTTYPE=image/png:https://www.lovemylibrary.ca/wp-content/uploads/2023/09/Untitled-design-2023-09-11T151119.554.png
END:VEVENT
BEGIN:VEVENT
DTSTART;VALUE=DATE:20240919
DTEND;VALUE=DATE:20240920
DTSTAMP:20260424T053338
CREATED:20240824T141330Z
LAST-MODIFIED:20240824T141747Z
UID:10009489-1726704000-1726790399@www.lovemylibrary.ca
SUMMARY:Truro Through the Lens: Photos by J. E. Sponagle
DESCRIPTION:September 3rd – October 28th \nPhotographer J. E. Sponagle worked in Truro for over 50 years. In 2023\, his personal collection of photos was donated to the Colchester Historeum\, and they have now been digitized. This photo exhibit features information about Mr. Sponagle alongside some of his most iconic shots. \nDrop in\, no registration required
URL:https://www.lovemylibrary.ca/event/truro-through-the-lens-photos-by-j-e-sponagle/2024-09-19/
LOCATION:Truro Library\, 754 Prince St\, Truro\, Nova Scotia\, Canada
CATEGORIES:Events For Adults,Location: Truro
ATTACH;FMTTYPE=image/png:https://www.lovemylibrary.ca/wp-content/uploads/2024/08/Untitled-design-8.png
END:VEVENT
BEGIN:VEVENT
DTSTART;TZID=America/Halifax:20240919T103000
DTEND;TZID=America/Halifax:20240919T110000
DTSTAMP:20260424T053338
CREATED:20240814T182718Z
LAST-MODIFIED:20240814T182718Z
UID:10009213-1726741800-1726743600@www.lovemylibrary.ca
SUMMARY:Baby Rhyme Time
DESCRIPTION:Discover the joy of songs\, finger plays\, bouncing rhymes and simple books. Infant-2 years old with a caregiver. \nThis is a drop in program. No registration is required.
URL:https://www.lovemylibrary.ca/event/baby-rhyme-time-9/2024-09-19/
LOCATION:Stewiacke Library\, 295 George Street\, Stewiacke\, Nova Scotia\, Canada
CATEGORIES:Events For Kids,Location: Stewiacke
ATTACH;FMTTYPE=image/png:https://www.lovemylibrary.ca/wp-content/uploads/2022/03/Untitled-design-75.png
END:VEVENT
BEGIN:VEVENT
DTSTART;TZID=America/Halifax:20240919T110000
DTEND;TZID=America/Halifax:20240919T112000
DTSTAMP:20260424T053338
CREATED:20240822T191723Z
LAST-MODIFIED:20241016T175205Z
UID:10009290-1726743600-1726744800@www.lovemylibrary.ca
SUMMARY:Tales for Tots
DESCRIPTION:Join us Thursday mornings in the Big Brothers Big Sisters Room for stories\, songs\, and activities that are just right for terrific toddlers! \n18 months-4 years with a parent/caregiver. \nDrop-in\, no registration required.
URL:https://www.lovemylibrary.ca/event/tales-for-tots-2-2-2/2024-09-19/
LOCATION:Truro Library\, 754 Prince St\, Truro\, Nova Scotia\, Canada
CATEGORIES:Events For Kids,Location: Truro
ATTACH;FMTTYPE=image/png:https://www.lovemylibrary.ca/wp-content/uploads/2022/03/Untitled-design-81.png
END:VEVENT
BEGIN:VEVENT
DTSTART;TZID=America/Halifax:20240919T150000
DTEND;TZID=America/Halifax:20240919T160000
DTSTAMP:20260424T053338
CREATED:20240809T193902Z
LAST-MODIFIED:20240911T172656Z
UID:10009179-1726758000-1726761600@www.lovemylibrary.ca
SUMMARY:Mini Masters: Kids Art Studio
DESCRIPTION:Join us at Mini Masters: Kids Art Studio for a fun and imaginative art workshop! Kids will explore different techniques and create their own masterpieces.  All materials provided. Let’s get creative. For ages 5-12 \nTo register\, please call 902-657-3064 or email: tatamago@cehpubliclibrary.ca for more details
URL:https://www.lovemylibrary.ca/event/mini-masters-kids-art-studio/
LOCATION:Tatamagouche Library\, 170 Main Street\, Tatamagouche\, Nova Scotia\, Canada
CATEGORIES:Events For Kids,Location: Tatamagouche
ATTACH;FMTTYPE=image/png:https://www.lovemylibrary.ca/wp-content/uploads/2024/08/Untitled-design-2024-08-09T164145.011.png
END:VEVENT
BEGIN:VEVENT
DTSTART;TZID=America/Halifax:20240919T150000
DTEND;TZID=America/Halifax:20240919T163000
DTSTAMP:20260424T053338
CREATED:20240822T192337Z
LAST-MODIFIED:20241105T220050Z
UID:10009292-1726758000-1726763400@www.lovemylibrary.ca
SUMMARY:Teen Room Drop In
DESCRIPTION:Come hang out\, grab a snack\, play Nintendo\, or make some art! \nAges 13-18 \nThis is a drop-in program. No registration is required.
URL:https://www.lovemylibrary.ca/event/teen-room-drop-in-3-2/2024-09-19/
LOCATION:Truro Library\, 754 Prince St\, Truro\, Nova Scotia\, Canada
CATEGORIES:Events For Teens,Location: Truro
ATTACH;FMTTYPE=image/png:https://www.lovemylibrary.ca/wp-content/uploads/2022/10/Untitled-design-53.png
END:VEVENT
BEGIN:VEVENT
DTSTART;TZID=America/Halifax:20240919T150000
DTEND;TZID=America/Halifax:20240919T170000
DTSTAMP:20260424T053338
CREATED:20240814T153858Z
LAST-MODIFIED:20240814T153858Z
UID:10009190-1726758000-1726765200@www.lovemylibrary.ca
SUMMARY:Tech Help by Appointment
DESCRIPTION:Bring your own device or use one of our computers. \nThis program covers: eReaders/ebooks\, basic computer navigation\, basic app use\, basic cellphone use\, basic tablet use\, general internet instruction\, research and using library electronic resources. For all ages. \nTo register\, email stewiacke@cehpubliclibrary.ca\n  \n 
URL:https://www.lovemylibrary.ca/event/tech-help-by-appointment/2024-09-19/
LOCATION:Stewiacke Library\, 295 George Street\, Stewiacke\, Nova Scotia\, Canada
CATEGORIES:Events For Adults,Events For Kids,Events For Seniors,Events For Teens,Location: Stewiacke
ATTACH;FMTTYPE=image/png:https://www.lovemylibrary.ca/wp-content/uploads/2022/11/Untitled-design-2022-11-29T112019.106.png
END:VEVENT
BEGIN:VEVENT
DTSTART;TZID=America/Halifax:20240919T153000
DTEND;TZID=America/Halifax:20240919T160000
DTSTAMP:20260424T053338
CREATED:20240814T210903Z
LAST-MODIFIED:20240814T210903Z
UID:10009260-1726759800-1726761600@www.lovemylibrary.ca
SUMMARY:Tween Trivia – Anniversary Edition
DESCRIPTION:Mike has been hosting Tween Trivia for one year. We will be celebrating by revisiting popular themes and having treats for everyone!! Ages 8-12. This is a virtual and in person program. \nTo register\, email info@cehpubliclibrary.ca\n 
URL:https://www.lovemylibrary.ca/event/tween-trivia-anniversary-edition/
LOCATION:Stewiacke Library\, 295 George Street\, Stewiacke\, Nova Scotia\, Canada
CATEGORIES:Events For Kids,Location: Stewiacke,Location: Virtual
ATTACH;FMTTYPE=image/png:https://www.lovemylibrary.ca/wp-content/uploads/2022/08/Untitled-design-29.png
END:VEVENT
BEGIN:VEVENT
DTSTART;TZID=America/Halifax:20240919T180000
DTEND;TZID=America/Halifax:20240919T190000
DTSTAMP:20260424T053338
CREATED:20240824T153533Z
LAST-MODIFIED:20240824T153533Z
UID:10009547-1726768800-1726772400@www.lovemylibrary.ca
SUMMARY:Only Murders in our Library
DESCRIPTION:Introverts and extroverts unite. Extroverts come early to socialize and introverts can join us at 6pm. We are spending an hour listening to a true crime podcast and doing some adult coloring. Ages 15-99 (or older) \nThis is a drop in event\, No registration required\n  \n 
URL:https://www.lovemylibrary.ca/event/only-murders-in-our-library-5/
LOCATION:Mount Uniacke Library\, 555\, Highway 1\, Mount Uniacke\, Nova Scotia\, Canada
CATEGORIES:Events For Adults,Events For Seniors,Events For Teens,Location: Mount Uniacke
ATTACH;FMTTYPE=image/png:https://www.lovemylibrary.ca/wp-content/uploads/2023/08/Untitled-design-2023-08-25T151940.865.png
END:VEVENT
BEGIN:VEVENT
DTSTART;TZID=America/Halifax:20240919T180000
DTEND;TZID=America/Halifax:20240919T200000
DTSTAMP:20260424T053338
CREATED:20240809T192747Z
LAST-MODIFIED:20240809T192747Z
UID:10009177-1726768800-1726776000@www.lovemylibrary.ca
SUMMARY:Pine Needle Basket Weaving: Nature's Craft Workshop
DESCRIPTION:Join us for a hands-on Pine Needle Basket Weaving Workshop! Learn the art of creating beautiful\, functional baskets using natural pine needles. Perfect for beginners and craft enthusiasts alike. All materials provided. Come weave with us. This is an adult program. \nPre register in person or by phone 902 – 657-3064 or email: tatamago@cehpubliclibrary.ca
URL:https://www.lovemylibrary.ca/event/pine-needle-basket-weaving-natures-craft-workshop-2/
LOCATION:Tatamagouche Library\, 170 Main Street\, Tatamagouche\, Nova Scotia\, Canada
CATEGORIES:Crafting,Events For Adults,Location: Tatamagouche
ATTACH;FMTTYPE=image/png:https://www.lovemylibrary.ca/wp-content/uploads/2024/08/Untitled-design-2024-08-09T162509.183.png
END:VEVENT
END:VCALENDAR