BEGIN:VCALENDAR
VERSION:2.0
PRODID:-//Colchester East Hants Public Library - ECPv6.15.20//NONSGML v1.0//EN
CALSCALE:GREGORIAN
METHOD:PUBLISH
X-WR-CALNAME:Colchester East Hants Public Library
X-ORIGINAL-URL:https://www.lovemylibrary.ca
X-WR-CALDESC:Events for Colchester East Hants Public Library
REFRESH-INTERVAL;VALUE=DURATION:PT1H
X-Robots-Tag:noindex
X-PUBLISHED-TTL:PT1H
BEGIN:VTIMEZONE
TZID:America/Halifax
BEGIN:DAYLIGHT
TZOFFSETFROM:-0400
TZOFFSETTO:-0300
TZNAME:ADT
DTSTART:20230312T060000
END:DAYLIGHT
BEGIN:STANDARD
TZOFFSETFROM:-0300
TZOFFSETTO:-0400
TZNAME:AST
DTSTART:20231105T050000
END:STANDARD
BEGIN:DAYLIGHT
TZOFFSETFROM:-0400
TZOFFSETTO:-0300
TZNAME:ADT
DTSTART:20240310T060000
END:DAYLIGHT
BEGIN:STANDARD
TZOFFSETFROM:-0300
TZOFFSETTO:-0400
TZNAME:AST
DTSTART:20241103T050000
END:STANDARD
BEGIN:DAYLIGHT
TZOFFSETFROM:-0400
TZOFFSETTO:-0300
TZNAME:ADT
DTSTART:20250309T060000
END:DAYLIGHT
BEGIN:STANDARD
TZOFFSETFROM:-0300
TZOFFSETTO:-0400
TZNAME:AST
DTSTART:20251102T050000
END:STANDARD
END:VTIMEZONE
BEGIN:VEVENT
DTSTART;TZID=America/Halifax:20240920T100000
DTEND;TZID=America/Halifax:20241025T120000
DTSTAMP:20260423T152634
CREATED:20240513T152733Z
LAST-MODIFIED:20250417T173941Z
UID:10009273-1726826400-1729857600@www.lovemylibrary.ca
SUMMARY:One on One Tech Help
DESCRIPTION:Issues with your phone? Laptop? Social Media? Meet in-person with our digital literacy trainer to get your tech questions answered. \nDrop in – please call (902) 883-9838 or email us at elmsdale@cehpubliclibrary.ca for more details.
URL:https://www.lovemylibrary.ca/event/one-on-one-tech-help-7-2-2-2/2024-09-20/
LOCATION:Elmsdale Library\, 15 Commerce Ct\, Elmsdale\, Nova Scotia\, Canada
CATEGORIES:Events For Adults,Location: Elmsdale
ATTACH;FMTTYPE=image/png:https://www.lovemylibrary.ca/wp-content/uploads/2022/03/Untitled-design-80.png
END:VEVENT
BEGIN:VEVENT
DTSTART;TZID=America/Halifax:20240927T100000
DTEND;TZID=America/Halifax:20241101T120000
DTSTAMP:20260423T152634
CREATED:20240513T152733Z
LAST-MODIFIED:20250417T173941Z
UID:10009274-1727431200-1730462400@www.lovemylibrary.ca
SUMMARY:One on One Tech Help
DESCRIPTION:Issues with your phone? Laptop? Social Media? Meet in-person with our digital literacy trainer to get your tech questions answered. \nDrop in – please call (902) 883-9838 or email us at elmsdale@cehpubliclibrary.ca for more details.
URL:https://www.lovemylibrary.ca/event/one-on-one-tech-help-7-2-2-2/2024-09-27/
LOCATION:Elmsdale Library\, 15 Commerce Ct\, Elmsdale\, Nova Scotia\, Canada
CATEGORIES:Events For Adults,Location: Elmsdale
ATTACH;FMTTYPE=image/png:https://www.lovemylibrary.ca/wp-content/uploads/2022/03/Untitled-design-80.png
END:VEVENT
BEGIN:VEVENT
DTSTART;VALUE=DATE:20241001
DTEND;VALUE=DATE:20241025
DTSTAMP:20260423T152634
CREATED:20240916T135509Z
LAST-MODIFIED:20240916T135509Z
UID:10009632-1727740800-1729814399@www.lovemylibrary.ca
SUMMARY:Spooky Scribbles Writing Contest
DESCRIPTION:Write down your tale\, make it scary and take it to the library. Fiction\, non-fiction\, short story and poetry all accepted. All entries will be judged and winners announced on Tuesday\, October 29. All ages are welcome to participate. \nDrop off your entry to the Stewiacke Library or email stewiacke@cehpubliclibrary.ca by October 24 
URL:https://www.lovemylibrary.ca/event/spooky-scribbles-writing-contest/
LOCATION:Stewiacke Library\, 295 George Street\, Stewiacke\, Nova Scotia\, Canada
CATEGORIES:Location: Stewiacke
ATTACH;FMTTYPE=image/png:https://www.lovemylibrary.ca/wp-content/uploads/2024/09/Untitled-design-2024-09-16T105447.020.png
END:VEVENT
BEGIN:VEVENT
DTSTART;VALUE=DATE:20241001
DTEND;VALUE=DATE:20241101
DTSTAMP:20260423T152634
CREATED:20240916T134620Z
LAST-MODIFIED:20240916T134620Z
UID:10009631-1727740800-1730419199@www.lovemylibrary.ca
SUMMARY:Mi’kmaq History Month Videos
DESCRIPTION:Explore lives\, culture and history. Watch videos from the Mi’kmaq History Month website and the Mi’kmawey Debert Cultural Centre. We will have tablets set up for just this purpose. For ages 7 and up. \nThis is a drop in program. No registration is required.
URL:https://www.lovemylibrary.ca/event/mikmaq-history-month-videos/
LOCATION:Stewiacke Library\, 295 George Street\, Stewiacke\, Nova Scotia\, Canada
CATEGORIES:Events For Adults,Events For Kids,Location: Stewiacke
ATTACH;FMTTYPE=image/png:https://www.lovemylibrary.ca/wp-content/uploads/2024/09/Untitled-design-2024-09-16T104604.985.png
END:VEVENT
BEGIN:VEVENT
DTSTART;VALUE=DATE:20241001
DTEND;VALUE=DATE:20241101
DTSTAMP:20260423T152634
CREATED:20240918T173645Z
LAST-MODIFIED:20240918T173645Z
UID:10009819-1727740800-1730419199@www.lovemylibrary.ca
SUMMARY:Mi’kmaq History Month – Take-Home Activity Booklet
DESCRIPTION:Celebrate Mi’kmaq History Month by picking up an activity booklet from any of our branches or satellite locations. Enjoy coloring pages\, learn to draw\, make a craft\, and try a recipe – all while learning about Mi’kmaw language and culture. Created by author and educator Theresa Meuse of Mi’kma’ki Craft Supplies. For ages 5-12 \n  \nAvailable while supplies last.
URL:https://www.lovemylibrary.ca/event/mikmaq-history-month-take-home-activity-booklet/
LOCATION:Truro Library\, 754 Prince St\, Truro\, Nova Scotia\, Canada
CATEGORIES:Location: Elmsdale,Location: Kennetcook,Location: Middle Stewiacke,Location: Mount Uniacke,Location: Stewiacke,Location: Tatamagouche,Location: Truro
ATTACH;FMTTYPE=image/png:https://www.lovemylibrary.ca/wp-content/uploads/2024/09/Untitled-design-2024-09-18T143631.324.png
END:VEVENT
BEGIN:VEVENT
DTSTART;VALUE=DATE:20241001
DTEND;VALUE=DATE:20241229
DTSTAMP:20260423T152634
CREATED:20240916T153733Z
LAST-MODIFIED:20241121T155741Z
UID:10009695-1727740800-1735430399@www.lovemylibrary.ca
SUMMARY:Tech Help by Appointment
DESCRIPTION:Bring your own device or use one of our computers. This program covers: eReaders/ebooks\, basic computer navigation\, basic app use\, basic cellphone use\, basic tablet use\, general internet instruction\, research and using library electronic resources. All ages are welcome. \nRegister: stewiacke@cehpubliclibrary.ca
URL:https://www.lovemylibrary.ca/event/tech-help-by-appointment-2/
LOCATION:Stewiacke Library\, 295 George Street\, Stewiacke\, Nova Scotia\, Canada
CATEGORIES:Events For Adults,Events For Kids,Location: Stewiacke
ATTACH;FMTTYPE=image/jpeg:https://www.lovemylibrary.ca/wp-content/uploads/2021/08/11.jpg
END:VEVENT
BEGIN:VEVENT
DTSTART;TZID=America/Halifax:20241001T170000
DTEND;TZID=America/Halifax:20241029T180000
DTSTAMP:20260423T152634
CREATED:20230911T181215Z
LAST-MODIFIED:20241213T193251Z
UID:10010668-1727802000-1730224800@www.lovemylibrary.ca
SUMMARY:Paws to Read ®
DESCRIPTION:The Paws to Read program offers kids a safe environment to practice reading aloud to an attentive and adorable audience. Children build confidence and reading skills in one-on-one sessions with therapy dogs. Participants attend 5 weekly half-hour sessions with a trained therapy dog volunteer and a certified handler. For children in grades 1-5 \nIn-Person. Registration is required. For details\, please call us at (902) 883-9838 or email us at elmsdale@cehpubliclibrary.ca
URL:https://www.lovemylibrary.ca/event/paws-to-read/2024-10-01/
LOCATION:Elmsdale Library\, 15 Commerce Ct\, Elmsdale\, Nova Scotia\, Canada
CATEGORIES:Events For Kids,Location: Elmsdale
ATTACH;FMTTYPE=image/png:https://www.lovemylibrary.ca/wp-content/uploads/2023/09/Untitled-design-2023-09-11T151119.554.png
END:VEVENT
BEGIN:VEVENT
DTSTART;TZID=America/Halifax:20241002T130000
DTEND;TZID=America/Halifax:20241023T150000
DTSTAMP:20260423T152634
CREATED:20241018T164742Z
LAST-MODIFIED:20241125T140132Z
UID:10010082-1727874000-1729695600@www.lovemylibrary.ca
SUMMARY:Makers in the Maker Lab
DESCRIPTION:Calling all Makers! Drop by for a relaxing afternoon to hang out with fellow crafters. Bring along your ongoing projects like knitting\, crochet\, needlework\, painting or other hands on crafts. \nNo registration\, drop in.
URL:https://www.lovemylibrary.ca/event/makers-in-the-maker-lab-14/2024-10-02/
LOCATION:Truro Library\, 754 Prince St\, Truro\, Nova Scotia\, Canada
CATEGORIES:Crafting,Events For Adults,Events For Seniors,Location: Truro
ATTACH;FMTTYPE=image/png:https://www.lovemylibrary.ca/wp-content/uploads/2023/01/Untitled-design-2023-01-24T155257.327.png
END:VEVENT
BEGIN:VEVENT
DTSTART;TZID=America/Halifax:20241004T100000
DTEND;TZID=America/Halifax:20241108T110000
DTSTAMP:20260423T152634
CREATED:20240513T152733Z
LAST-MODIFIED:20250417T173941Z
UID:10009696-1728036000-1731063600@www.lovemylibrary.ca
SUMMARY:One on One Tech Help
DESCRIPTION:Issues with your phone? Laptop? Social Media? Meet in-person with our digital literacy trainer to get your tech questions answered. \nDrop in – please call (902) 883-9838 or email us at elmsdale@cehpubliclibrary.ca for more details.
URL:https://www.lovemylibrary.ca/event/one-on-one-tech-help-7-2-2-2/2024-10-04/
LOCATION:Elmsdale Library\, 15 Commerce Ct\, Elmsdale\, Nova Scotia\, Canada
CATEGORIES:Events For Adults,Location: Elmsdale
ATTACH;FMTTYPE=image/png:https://www.lovemylibrary.ca/wp-content/uploads/2022/03/Untitled-design-80.png
END:VEVENT
BEGIN:VEVENT
DTSTART;TZID=America/Halifax:20241008T170000
DTEND;TZID=America/Halifax:20241105T170000
DTSTAMP:20260423T152634
CREATED:20230911T181215Z
LAST-MODIFIED:20241213T193251Z
UID:10010669-1728406800-1730826000@www.lovemylibrary.ca
SUMMARY:Paws to Read ®
DESCRIPTION:The Paws to Read program offers kids a safe environment to practice reading aloud to an attentive and adorable audience. Children build confidence and reading skills in one-on-one sessions with therapy dogs. Participants attend 5 weekly half-hour sessions with a trained therapy dog volunteer and a certified handler. For children in grades 1-5 \nIn-Person. Registration is required. For details\, please call us at (902) 883-9838 or email us at elmsdale@cehpubliclibrary.ca
URL:https://www.lovemylibrary.ca/event/paws-to-read/2024-10-08/
LOCATION:Elmsdale Library\, 15 Commerce Ct\, Elmsdale\, Nova Scotia\, Canada
CATEGORIES:Events For Kids,Location: Elmsdale
ATTACH;FMTTYPE=image/png:https://www.lovemylibrary.ca/wp-content/uploads/2023/09/Untitled-design-2023-09-11T151119.554.png
END:VEVENT
BEGIN:VEVENT
DTSTART;TZID=America/Halifax:20241009T130000
DTEND;TZID=America/Halifax:20241030T150000
DTSTAMP:20260423T152634
CREATED:20241018T164742Z
LAST-MODIFIED:20241125T140132Z
UID:10010083-1728478800-1730300400@www.lovemylibrary.ca
SUMMARY:Makers in the Maker Lab
DESCRIPTION:Calling all Makers! Drop by for a relaxing afternoon to hang out with fellow crafters. Bring along your ongoing projects like knitting\, crochet\, needlework\, painting or other hands on crafts. \nNo registration\, drop in.
URL:https://www.lovemylibrary.ca/event/makers-in-the-maker-lab-14/2024-10-09/
LOCATION:Truro Library\, 754 Prince St\, Truro\, Nova Scotia\, Canada
CATEGORIES:Crafting,Events For Adults,Events For Seniors,Location: Truro
ATTACH;FMTTYPE=image/png:https://www.lovemylibrary.ca/wp-content/uploads/2023/01/Untitled-design-2023-01-24T155257.327.png
END:VEVENT
BEGIN:VEVENT
DTSTART;TZID=America/Halifax:20241011T100000
DTEND;TZID=America/Halifax:20241115T110000
DTSTAMP:20260423T152634
CREATED:20240513T152733Z
LAST-MODIFIED:20250417T173941Z
UID:10009697-1728640800-1731668400@www.lovemylibrary.ca
SUMMARY:One on One Tech Help
DESCRIPTION:Issues with your phone? Laptop? Social Media? Meet in-person with our digital literacy trainer to get your tech questions answered. \nDrop in – please call (902) 883-9838 or email us at elmsdale@cehpubliclibrary.ca for more details.
URL:https://www.lovemylibrary.ca/event/one-on-one-tech-help-7-2-2-2/2024-10-11/
LOCATION:Elmsdale Library\, 15 Commerce Ct\, Elmsdale\, Nova Scotia\, Canada
CATEGORIES:Events For Adults,Location: Elmsdale
ATTACH;FMTTYPE=image/png:https://www.lovemylibrary.ca/wp-content/uploads/2022/03/Untitled-design-80.png
END:VEVENT
BEGIN:VEVENT
DTSTART;TZID=America/Halifax:20241015T170000
DTEND;TZID=America/Halifax:20241112T170000
DTSTAMP:20260423T152634
CREATED:20230911T181215Z
LAST-MODIFIED:20241213T193251Z
UID:10010670-1729011600-1731430800@www.lovemylibrary.ca
SUMMARY:Paws to Read ®
DESCRIPTION:The Paws to Read program offers kids a safe environment to practice reading aloud to an attentive and adorable audience. Children build confidence and reading skills in one-on-one sessions with therapy dogs. Participants attend 5 weekly half-hour sessions with a trained therapy dog volunteer and a certified handler. For children in grades 1-5 \nIn-Person. Registration is required. For details\, please call us at (902) 883-9838 or email us at elmsdale@cehpubliclibrary.ca
URL:https://www.lovemylibrary.ca/event/paws-to-read/2024-10-15/
LOCATION:Elmsdale Library\, 15 Commerce Ct\, Elmsdale\, Nova Scotia\, Canada
CATEGORIES:Events For Kids,Location: Elmsdale
ATTACH;FMTTYPE=image/png:https://www.lovemylibrary.ca/wp-content/uploads/2023/09/Untitled-design-2023-09-11T151119.554.png
END:VEVENT
BEGIN:VEVENT
DTSTART;TZID=America/Halifax:20241016T130000
DTEND;TZID=America/Halifax:20241106T140000
DTSTAMP:20260423T152634
CREATED:20241018T164742Z
LAST-MODIFIED:20241125T140132Z
UID:10010084-1729083600-1730901600@www.lovemylibrary.ca
SUMMARY:Makers in the Maker Lab
DESCRIPTION:Calling all Makers! Drop by for a relaxing afternoon to hang out with fellow crafters. Bring along your ongoing projects like knitting\, crochet\, needlework\, painting or other hands on crafts. \nNo registration\, drop in.
URL:https://www.lovemylibrary.ca/event/makers-in-the-maker-lab-14/2024-10-16/
LOCATION:Truro Library\, 754 Prince St\, Truro\, Nova Scotia\, Canada
CATEGORIES:Crafting,Events For Adults,Events For Seniors,Location: Truro
ATTACH;FMTTYPE=image/png:https://www.lovemylibrary.ca/wp-content/uploads/2023/01/Untitled-design-2023-01-24T155257.327.png
END:VEVENT
BEGIN:VEVENT
DTSTART;TZID=America/Halifax:20241018T100000
DTEND;TZID=America/Halifax:20241122T110000
DTSTAMP:20260423T152634
CREATED:20240513T152733Z
LAST-MODIFIED:20250417T173941Z
UID:10009698-1729245600-1732273200@www.lovemylibrary.ca
SUMMARY:One on One Tech Help
DESCRIPTION:Issues with your phone? Laptop? Social Media? Meet in-person with our digital literacy trainer to get your tech questions answered. \nDrop in – please call (902) 883-9838 or email us at elmsdale@cehpubliclibrary.ca for more details.
URL:https://www.lovemylibrary.ca/event/one-on-one-tech-help-7-2-2-2/2024-10-18/
LOCATION:Elmsdale Library\, 15 Commerce Ct\, Elmsdale\, Nova Scotia\, Canada
CATEGORIES:Events For Adults,Location: Elmsdale
ATTACH;FMTTYPE=image/png:https://www.lovemylibrary.ca/wp-content/uploads/2022/03/Untitled-design-80.png
END:VEVENT
BEGIN:VEVENT
DTSTART;TZID=America/Halifax:20241022T170000
DTEND;TZID=America/Halifax:20241119T170000
DTSTAMP:20260423T152634
CREATED:20230911T181215Z
LAST-MODIFIED:20241213T193251Z
UID:10010671-1729616400-1732035600@www.lovemylibrary.ca
SUMMARY:Paws to Read ®
DESCRIPTION:The Paws to Read program offers kids a safe environment to practice reading aloud to an attentive and adorable audience. Children build confidence and reading skills in one-on-one sessions with therapy dogs. Participants attend 5 weekly half-hour sessions with a trained therapy dog volunteer and a certified handler. For children in grades 1-5 \nIn-Person. Registration is required. For details\, please call us at (902) 883-9838 or email us at elmsdale@cehpubliclibrary.ca
URL:https://www.lovemylibrary.ca/event/paws-to-read/2024-10-22/
LOCATION:Elmsdale Library\, 15 Commerce Ct\, Elmsdale\, Nova Scotia\, Canada
CATEGORIES:Events For Kids,Location: Elmsdale
ATTACH;FMTTYPE=image/png:https://www.lovemylibrary.ca/wp-content/uploads/2023/09/Untitled-design-2023-09-11T151119.554.png
END:VEVENT
BEGIN:VEVENT
DTSTART;VALUE=DATE:20241023
DTEND;VALUE=DATE:20241024
DTSTAMP:20260423T152634
CREATED:20240824T141330Z
LAST-MODIFIED:20240824T141747Z
UID:10009516-1729641600-1729727999@www.lovemylibrary.ca
SUMMARY:Truro Through the Lens: Photos by J. E. Sponagle
DESCRIPTION:September 3rd – October 28th \nPhotographer J. E. Sponagle worked in Truro for over 50 years. In 2023\, his personal collection of photos was donated to the Colchester Historeum\, and they have now been digitized. This photo exhibit features information about Mr. Sponagle alongside some of his most iconic shots. \nDrop in\, no registration required
URL:https://www.lovemylibrary.ca/event/truro-through-the-lens-photos-by-j-e-sponagle/2024-10-23/
LOCATION:Truro Library\, 754 Prince St\, Truro\, Nova Scotia\, Canada
CATEGORIES:Events For Adults,Location: Truro
ATTACH;FMTTYPE=image/png:https://www.lovemylibrary.ca/wp-content/uploads/2024/08/Untitled-design-8.png
END:VEVENT
BEGIN:VEVENT
DTSTART;TZID=America/Halifax:20241023T101500
DTEND;TZID=America/Halifax:20241023T113000
DTSTAMP:20260423T152634
CREATED:20240916T174045Z
LAST-MODIFIED:20241119T184515Z
UID:10009701-1729678500-1729683000@www.lovemylibrary.ca
SUMMARY:Infant Nutrition Support Group - Cancelled for November 20
DESCRIPTION:Are you… Preparing to welcome a baby home? Feeding an Infant? Starting solids with your baby? Trying to wean baby off nursing/bottles? Tyana Randell\, your Perinatal Pal\, will have all your answers for you! For all Infants\, parents and guardians \nDrop in\, no registration is required– Please call 902-883-9838 or email us at elmsdale@cehpubliclibrary.ca for more details
URL:https://www.lovemylibrary.ca/event/infant-nutrition-support-group/2024-10-23/
LOCATION:Elmsdale Library\, 15 Commerce Ct\, Elmsdale\, Nova Scotia\, Canada
CATEGORIES:Events For Adults,Location: Elmsdale
ATTACH;FMTTYPE=image/png:https://www.lovemylibrary.ca/wp-content/uploads/2024/09/Untitled-design-2024-09-16T143920.886.png
END:VEVENT
BEGIN:VEVENT
DTSTART;TZID=America/Halifax:20241023T103000
DTEND;TZID=America/Halifax:20241023T110000
DTSTAMP:20260423T152634
CREATED:20240918T190337Z
LAST-MODIFIED:20250520T222943Z
UID:10009832-1729679400-1729681200@www.lovemylibrary.ca
SUMMARY:Storytime
DESCRIPTION:Enjoy a picture book read by Karri or Bernie and then participate in an activity. For pre-schoolers and home schoolers. \nThis is a drop-in program. No registration is required.
URL:https://www.lovemylibrary.ca/event/storytime-9/2024-10-23/
LOCATION:Mount Uniacke Library\, 555\, Highway 1\, Mount Uniacke\, Nova Scotia\, Canada
CATEGORIES:Events For Kids,Location: Mount Uniacke
ATTACH;FMTTYPE=image/png:https://www.lovemylibrary.ca/wp-content/uploads/2022/05/Untitled-design-2.png
END:VEVENT
BEGIN:VEVENT
DTSTART;TZID=America/Halifax:20241023T103000
DTEND;TZID=America/Halifax:20241023T113000
DTSTAMP:20260423T152634
CREATED:20240220T225846Z
LAST-MODIFIED:20241121T202410Z
UID:10009922-1729679400-1729683000@www.lovemylibrary.ca
SUMMARY:Parents and Tots Story Time and Crafts
DESCRIPTION:Come along and enjoy an hour of fun filled story time and craft.  For ages 0+ \nDrop-in\, no registration required.
URL:https://www.lovemylibrary.ca/event/tots-and-moms-social-time-3-2-2-2/2024-10-23/
LOCATION:Tatamagouche Library\, 170 Main Street\, Tatamagouche\, Nova Scotia\, Canada
CATEGORIES:Events For Kids,Location: Tatamagouche
ATTACH;FMTTYPE=image/png:https://www.lovemylibrary.ca/wp-content/uploads/2022/03/Untitled-design-75.png
END:VEVENT
BEGIN:VEVENT
DTSTART;TZID=America/Halifax:20241023T113000
DTEND;TZID=America/Halifax:20241023T123000
DTSTAMP:20260423T152634
CREATED:20240416T211504Z
LAST-MODIFIED:20240919T190733Z
UID:10007824-1729683000-1729686600@www.lovemylibrary.ca
SUMMARY:The Mind Readers
DESCRIPTION:Come and pick up your copy of Under the Bridge.. We will be discussing the book in October. This is an adult program. \nThis is a drop in program. No registration is required.
URL:https://www.lovemylibrary.ca/event/the-mind-readers-4/
LOCATION:Mount Uniacke Library\, 555\, Highway 1\, Mount Uniacke\, Nova Scotia\, Canada
CATEGORIES:Events For Adults,Location: Mount Uniacke
ATTACH;FMTTYPE=image/png:https://www.lovemylibrary.ca/wp-content/uploads/2022/08/Untitled-700-×-500-px-9.png
END:VEVENT
BEGIN:VEVENT
DTSTART;TZID=America/Halifax:20241023T130000
DTEND;TZID=America/Halifax:20241023T150000
DTSTAMP:20260423T152634
CREATED:20240912T173442Z
LAST-MODIFIED:20240912T173442Z
UID:10009591-1729688400-1729695600@www.lovemylibrary.ca
SUMMARY:Makers in the Maker Lab
DESCRIPTION:Calling all Makers! Drop by for a relaxing afternoon to hang out with fellow crafters. Bring along your ongoing projects like knitting\, crochet\, needlework\, painting or other hands on crafts. \nNo registration\, drop in.
URL:https://www.lovemylibrary.ca/event/makers-in-the-maker-lab-13/2024-10-23/
LOCATION:Truro Library\, 754 Prince St\, Truro\, Nova Scotia\, Canada
CATEGORIES:Crafting,Events For Adults,Events For Seniors,Location: Truro
ATTACH;FMTTYPE=image/png:https://www.lovemylibrary.ca/wp-content/uploads/2023/01/Untitled-design-2023-01-24T155257.327.png
END:VEVENT
BEGIN:VEVENT
DTSTART;TZID=America/Halifax:20241023T130000
DTEND;TZID=America/Halifax:20241113T140000
DTSTAMP:20260423T152634
CREATED:20241018T164742Z
LAST-MODIFIED:20241125T140132Z
UID:10010085-1729688400-1731506400@www.lovemylibrary.ca
SUMMARY:Makers in the Maker Lab
DESCRIPTION:Calling all Makers! Drop by for a relaxing afternoon to hang out with fellow crafters. Bring along your ongoing projects like knitting\, crochet\, needlework\, painting or other hands on crafts. \nNo registration\, drop in.
URL:https://www.lovemylibrary.ca/event/makers-in-the-maker-lab-14/2024-10-23/
LOCATION:Truro Library\, 754 Prince St\, Truro\, Nova Scotia\, Canada
CATEGORIES:Crafting,Events For Adults,Events For Seniors,Location: Truro
ATTACH;FMTTYPE=image/png:https://www.lovemylibrary.ca/wp-content/uploads/2023/01/Untitled-design-2023-01-24T155257.327.png
END:VEVENT
BEGIN:VEVENT
DTSTART;TZID=America/Halifax:20241023T150000
DTEND;TZID=America/Halifax:20241023T163000
DTSTAMP:20260423T152634
CREATED:20240822T192337Z
LAST-MODIFIED:20241105T220050Z
UID:10009306-1729695600-1729701000@www.lovemylibrary.ca
SUMMARY:Teen Room Drop In
DESCRIPTION:Come hang out\, grab a snack\, play Nintendo\, or make some art! \nAges 13-18 \nThis is a drop-in program. No registration is required.
URL:https://www.lovemylibrary.ca/event/teen-room-drop-in-3-2/2024-10-23/
LOCATION:Truro Library\, 754 Prince St\, Truro\, Nova Scotia\, Canada
CATEGORIES:Events For Teens,Location: Truro
ATTACH;FMTTYPE=image/png:https://www.lovemylibrary.ca/wp-content/uploads/2022/10/Untitled-design-53.png
END:VEVENT
BEGIN:VEVENT
DTSTART;TZID=America/Halifax:20241023T180000
DTEND;TZID=America/Halifax:20241023T190000
DTSTAMP:20260423T152634
CREATED:20240918T171233Z
LAST-MODIFIED:20240918T171233Z
UID:10009808-1729706400-1729710000@www.lovemylibrary.ca
SUMMARY:Halloween Potion Lab
DESCRIPTION:Double\, double\, toil and trouble\, try experiments that fizz and bubble! We’re making pretend witches’ brews and looking at the real science behind what makes them work. For ages 8-14 \nThis is a drop in program. No registration is required.
URL:https://www.lovemylibrary.ca/event/halloween-potion-lab/
LOCATION:Truro Library\, 754 Prince St\, Truro\, Nova Scotia\, Canada
CATEGORIES:Events For Kids,Events For Teens,Location: Truro
ATTACH;FMTTYPE=image/png:https://www.lovemylibrary.ca/wp-content/uploads/2024/09/Untitled-design-2024-09-18T141218.213.png
END:VEVENT
END:VCALENDAR