BEGIN:VCALENDAR
VERSION:2.0
PRODID:-//Colchester East Hants Public Library - ECPv6.15.20//NONSGML v1.0//EN
CALSCALE:GREGORIAN
METHOD:PUBLISH
X-ORIGINAL-URL:https://www.lovemylibrary.ca
X-WR-CALDESC:Events for Colchester East Hants Public Library
REFRESH-INTERVAL;VALUE=DURATION:PT1H
X-Robots-Tag:noindex
X-PUBLISHED-TTL:PT1H
BEGIN:VTIMEZONE
TZID:America/Halifax
BEGIN:DAYLIGHT
TZOFFSETFROM:-0400
TZOFFSETTO:-0300
TZNAME:ADT
DTSTART:20230312T060000
END:DAYLIGHT
BEGIN:STANDARD
TZOFFSETFROM:-0300
TZOFFSETTO:-0400
TZNAME:AST
DTSTART:20231105T050000
END:STANDARD
BEGIN:DAYLIGHT
TZOFFSETFROM:-0400
TZOFFSETTO:-0300
TZNAME:ADT
DTSTART:20240310T060000
END:DAYLIGHT
BEGIN:STANDARD
TZOFFSETFROM:-0300
TZOFFSETTO:-0400
TZNAME:AST
DTSTART:20241103T050000
END:STANDARD
BEGIN:DAYLIGHT
TZOFFSETFROM:-0400
TZOFFSETTO:-0300
TZNAME:ADT
DTSTART:20250309T060000
END:DAYLIGHT
BEGIN:STANDARD
TZOFFSETFROM:-0300
TZOFFSETTO:-0400
TZNAME:AST
DTSTART:20251102T050000
END:STANDARD
BEGIN:DAYLIGHT
TZOFFSETFROM:-0400
TZOFFSETTO:-0300
TZNAME:ADT
DTSTART:20260308T060000
END:DAYLIGHT
BEGIN:STANDARD
TZOFFSETFROM:-0300
TZOFFSETTO:-0400
TZNAME:AST
DTSTART:20261101T050000
END:STANDARD
END:VTIMEZONE
BEGIN:VEVENT
DTSTART;VALUE=DATE:20241001
DTEND;VALUE=DATE:20241229
DTSTAMP:20260424T000911
CREATED:20240916T153733Z
LAST-MODIFIED:20241121T155741Z
UID:10009695-1727740800-1735430399@www.lovemylibrary.ca
SUMMARY:Tech Help by Appointment
DESCRIPTION:Bring your own device or use one of our computers. This program covers: eReaders/ebooks\, basic computer navigation\, basic app use\, basic cellphone use\, basic tablet use\, general internet instruction\, research and using library electronic resources. All ages are welcome. \nRegister: stewiacke@cehpubliclibrary.ca
URL:https://www.lovemylibrary.ca/event/tech-help-by-appointment-2/
LOCATION:Stewiacke Library\, 295 George Street\, Stewiacke\, Nova Scotia\, Canada
CATEGORIES:Events For Adults,Events For Kids,Location: Stewiacke
ATTACH;FMTTYPE=image/jpeg:https://www.lovemylibrary.ca/wp-content/uploads/2021/08/11.jpg
END:VEVENT
BEGIN:VEVENT
DTSTART;VALUE=DATE:20241102
DTEND;VALUE=DATE:20241228
DTSTAMP:20260424T000911
CREATED:20241018T175646Z
LAST-MODIFIED:20241029T205518Z
UID:10010133-1730505600-1735343999@www.lovemylibrary.ca
SUMMARY:Poetry: An Art Exhibit by the Truro Art Society.
DESCRIPTION:The Truro Art Society presents a unique exhibit full of pieces inspired by poetry!  Each one is based on either an existing poem written by someone else\, a poem written by the artist\, or music lyrics. They hope you’ll enjoy exploring these artistic interpretations!  The exhibit will be housed on the 2nd floor.
URL:https://www.lovemylibrary.ca/event/truro-art-society/
LOCATION:Truro Library\, 754 Prince St\, Truro\, Nova Scotia\, Canada
CATEGORIES:Events For Adults,Events For Kids,Events For Seniors,Location: Truro
ATTACH;FMTTYPE=image/png:https://www.lovemylibrary.ca/wp-content/uploads/2024/10/Untitled-design-2024-10-18T145546.149.png
END:VEVENT
BEGIN:VEVENT
DTSTART;TZID=America/Halifax:20241122T100000
DTEND;TZID=America/Halifax:20241227T120000
DTSTAMP:20260424T000911
CREATED:20240513T152733Z
LAST-MODIFIED:20250417T173941Z
UID:10009959-1732269600-1735300800@www.lovemylibrary.ca
SUMMARY:One on One Tech Help
DESCRIPTION:Issues with your phone? Laptop? Social Media? Meet in-person with our digital literacy trainer to get your tech questions answered. \nDrop in – please call (902) 883-9838 or email us at elmsdale@cehpubliclibrary.ca for more details.
URL:https://www.lovemylibrary.ca/event/one-on-one-tech-help-7-2-2-2/2024-11-22/
LOCATION:Elmsdale Library\, 15 Commerce Ct\, Elmsdale\, Nova Scotia\, Canada
CATEGORIES:Events For Adults,Location: Elmsdale
ATTACH;FMTTYPE=image/png:https://www.lovemylibrary.ca/wp-content/uploads/2022/03/Untitled-design-80.png
END:VEVENT
BEGIN:VEVENT
DTSTART;TZID=America/Halifax:20241129T100000
DTEND;TZID=America/Halifax:20250103T120000
DTSTAMP:20260424T000911
CREATED:20240513T152733Z
LAST-MODIFIED:20250417T173941Z
UID:10009960-1732874400-1735905600@www.lovemylibrary.ca
SUMMARY:One on One Tech Help
DESCRIPTION:Issues with your phone? Laptop? Social Media? Meet in-person with our digital literacy trainer to get your tech questions answered. \nDrop in – please call (902) 883-9838 or email us at elmsdale@cehpubliclibrary.ca for more details.
URL:https://www.lovemylibrary.ca/event/one-on-one-tech-help-7-2-2-2/2024-11-29/
LOCATION:Elmsdale Library\, 15 Commerce Ct\, Elmsdale\, Nova Scotia\, Canada
CATEGORIES:Events For Adults,Location: Elmsdale
ATTACH;FMTTYPE=image/png:https://www.lovemylibrary.ca/wp-content/uploads/2022/03/Untitled-design-80.png
END:VEVENT
BEGIN:VEVENT
DTSTART;VALUE=DATE:20241201
DTEND;VALUE=DATE:20241224
DTSTAMP:20260424T000911
CREATED:20221125T194453Z
LAST-MODIFIED:20241104T190239Z
UID:10002426-1733011200-1734998399@www.lovemylibrary.ca
SUMMARY:Library Shelf Elf Search
DESCRIPTION:Our mischievous elf will be visiting the Children’s department daily. Drop in to find him and get a wee sweet treat! \nThis is a drop in program. No registration is required.
URL:https://www.lovemylibrary.ca/event/library-shelf-elf-search/
LOCATION:Truro Library\, 754 Prince St\, Truro\, Nova Scotia\, Canada
CATEGORIES:Events For Kids,Location: Truro
ATTACH;FMTTYPE=image/png:https://www.lovemylibrary.ca/wp-content/uploads/2022/11/Untitled-design-2023-11-23T140512.936.png
END:VEVENT
BEGIN:VEVENT
DTSTART;VALUE=DATE:20241201
DTEND;VALUE=DATE:20241225
DTSTAMP:20260424T000911
CREATED:20241121T151803Z
LAST-MODIFIED:20241121T151803Z
UID:10010199-1733011200-1735084799@www.lovemylibrary.ca
SUMMARY:DIY Holiday Greeting Card
DESCRIPTION:Come in out of the cold and make a special Holiday greeting card for that special someone on your list. All the supplies will be provided. \nIn person\, drop in.\nPlease call 902-883-9838 or email elmsdale@cehpubliclibrary.ca.
URL:https://www.lovemylibrary.ca/event/diy-holiday-greeting-card/
LOCATION:Elmsdale Library\, 15 Commerce Ct\, Elmsdale\, Nova Scotia\, Canada
CATEGORIES:Crafting,Events For Adults,Events For Kids
ATTACH;FMTTYPE=image/png:https://www.lovemylibrary.ca/wp-content/uploads/2024/11/Untitled-design-3.png
END:VEVENT
BEGIN:VEVENT
DTSTART;TZID=America/Halifax:20241206T100000
DTEND;TZID=America/Halifax:20250110T120000
DTSTAMP:20260424T000911
CREATED:20240513T152733Z
LAST-MODIFIED:20250417T173941Z
UID:10010195-1733479200-1736510400@www.lovemylibrary.ca
SUMMARY:One on One Tech Help
DESCRIPTION:Issues with your phone? Laptop? Social Media? Meet in-person with our digital literacy trainer to get your tech questions answered. \nDrop in – please call (902) 883-9838 or email us at elmsdale@cehpubliclibrary.ca for more details.
URL:https://www.lovemylibrary.ca/event/one-on-one-tech-help-7-2-2-2/2024-12-06/
LOCATION:Elmsdale Library\, 15 Commerce Ct\, Elmsdale\, Nova Scotia\, Canada
CATEGORIES:Events For Adults,Location: Elmsdale
ATTACH;FMTTYPE=image/png:https://www.lovemylibrary.ca/wp-content/uploads/2022/03/Untitled-design-80.png
END:VEVENT
BEGIN:VEVENT
DTSTART;TZID=America/Halifax:20241213T100000
DTEND;TZID=America/Halifax:20250117T120000
DTSTAMP:20260424T000911
CREATED:20240513T152733Z
LAST-MODIFIED:20250417T173941Z
UID:10010196-1734084000-1737115200@www.lovemylibrary.ca
SUMMARY:One on One Tech Help
DESCRIPTION:Issues with your phone? Laptop? Social Media? Meet in-person with our digital literacy trainer to get your tech questions answered. \nDrop in – please call (902) 883-9838 or email us at elmsdale@cehpubliclibrary.ca for more details.
URL:https://www.lovemylibrary.ca/event/one-on-one-tech-help-7-2-2-2/2024-12-13/
LOCATION:Elmsdale Library\, 15 Commerce Ct\, Elmsdale\, Nova Scotia\, Canada
CATEGORIES:Events For Adults,Location: Elmsdale
ATTACH;FMTTYPE=image/png:https://www.lovemylibrary.ca/wp-content/uploads/2022/03/Untitled-design-80.png
END:VEVENT
BEGIN:VEVENT
DTSTART;TZID=America/Halifax:20241220T100000
DTEND;TZID=America/Halifax:20250124T120000
DTSTAMP:20260424T000911
CREATED:20240513T152733Z
LAST-MODIFIED:20250417T173941Z
UID:10010197-1734688800-1737720000@www.lovemylibrary.ca
SUMMARY:One on One Tech Help
DESCRIPTION:Issues with your phone? Laptop? Social Media? Meet in-person with our digital literacy trainer to get your tech questions answered. \nDrop in – please call (902) 883-9838 or email us at elmsdale@cehpubliclibrary.ca for more details.
URL:https://www.lovemylibrary.ca/event/one-on-one-tech-help-7-2-2-2/2024-12-20/
LOCATION:Elmsdale Library\, 15 Commerce Ct\, Elmsdale\, Nova Scotia\, Canada
CATEGORIES:Events For Adults,Location: Elmsdale
ATTACH;FMTTYPE=image/png:https://www.lovemylibrary.ca/wp-content/uploads/2022/03/Untitled-design-80.png
END:VEVENT
BEGIN:VEVENT
DTSTART;TZID=America/Halifax:20241221T100000
DTEND;TZID=America/Halifax:20241221T120000
DTSTAMP:20260424T000911
CREATED:20240918T145518Z
LAST-MODIFIED:20250625T140742Z
UID:10010155-1734775200-1734782400@www.lovemylibrary.ca
SUMMARY:Maker Lab Open Hours
DESCRIPTION:Come on in and explore. Program robots\, create circuits\, build with magnetic tiles\, and more! All ages are welcome \nThis is a drop in program. No registration is required.
URL:https://www.lovemylibrary.ca/event/maker-lab-fun-time-8/2024-12-21/
LOCATION:Truro Library\, 754 Prince St\, Truro\, Nova Scotia\, Canada
CATEGORIES:Events For Kids,Location: Truro
ATTACH;FMTTYPE=image/png:https://www.lovemylibrary.ca/wp-content/uploads/2023/09/Untitled-design-2023-09-29T143321.527.png
END:VEVENT
BEGIN:VEVENT
DTSTART;TZID=America/Halifax:20241221T103000
DTEND;TZID=America/Halifax:20241221T110000
DTSTAMP:20260424T000911
CREATED:20240918T190337Z
LAST-MODIFIED:20250520T222943Z
UID:10010248-1734777000-1734778800@www.lovemylibrary.ca
SUMMARY:Storytime
DESCRIPTION:Enjoy a picture book read by Karri or Bernie and then participate in an activity. For pre-schoolers and home schoolers. \nThis is a drop-in program. No registration is required.
URL:https://www.lovemylibrary.ca/event/storytime-9/2024-12-21/
LOCATION:Mount Uniacke Library\, 555\, Highway 1\, Mount Uniacke\, Nova Scotia\, Canada
CATEGORIES:Events For Kids,Location: Mount Uniacke
ATTACH;FMTTYPE=image/png:https://www.lovemylibrary.ca/wp-content/uploads/2022/05/Untitled-design-2.png
END:VEVENT
BEGIN:VEVENT
DTSTART;TZID=America/Halifax:20241221T103000
DTEND;TZID=America/Halifax:20241221T110000
DTSTAMP:20260424T000911
CREATED:20241122T203116Z
LAST-MODIFIED:20241122T203116Z
UID:10010275-1734777000-1734778800@www.lovemylibrary.ca
SUMMARY:Five Days of Holiday Fun
DESCRIPTION:We are having a Holiday Party for our 5th day of the 5 days of Holiday Fun. We have games\, treats\, and a story to celebrate the season. For preschoolers \nThis is a drop in program. No registration is required.
URL:https://www.lovemylibrary.ca/event/five-days-of-holiday-fun/
LOCATION:Mount Uniacke Library\, 555\, Highway 1\, Mount Uniacke\, Nova Scotia\, Canada
CATEGORIES:Events For Kids,Location: Mount Uniacke
ATTACH;FMTTYPE=image/png:https://www.lovemylibrary.ca/wp-content/uploads/2024/11/Untitled-design-2024-11-22T143012.372.png
END:VEVENT
BEGIN:VEVENT
DTSTART;TZID=America/Halifax:20241221T110000
DTEND;TZID=America/Halifax:20241221T120000
DTSTAMP:20260424T000911
CREATED:20240918T171915Z
LAST-MODIFIED:20241105T225343Z
UID:10009809-1734778800-1734782400@www.lovemylibrary.ca
SUMMARY:'Tis the Season Storytime & Craft
DESCRIPTION:Come to hear holiday stories and leave with a holiday craft! All ages are welcome \nThis is a drop in program. No registration is required.
URL:https://www.lovemylibrary.ca/event/spooky-storytime-craft/
LOCATION:Truro Library\, 754 Prince St\, Truro\, Nova Scotia\, Canada
CATEGORIES:Crafting,Events For Kids,Location: Truro
ATTACH;FMTTYPE=image/png:https://www.lovemylibrary.ca/wp-content/uploads/2024/11/Untitled-design-2024-11-05T182602.077.png
END:VEVENT
BEGIN:VEVENT
DTSTART;TZID=America/Halifax:20241221T113000
DTEND;TZID=America/Halifax:20241221T123000
DTSTAMP:20260424T000911
CREATED:20241122T203644Z
LAST-MODIFIED:20241122T203644Z
UID:10010276-1734780600-1734784200@www.lovemylibrary.ca
SUMMARY:Five Days of Holiday Fun
DESCRIPTION:We are finishing out our 5 days of Holiday Fun with an adult craft. Mark it on your calendar\, register\, and come on in to celebrate. \nTo register\, email: mtuniacke@cehpubliclibrary.ca
URL:https://www.lovemylibrary.ca/event/five-days-of-holiday-fun-2/
LOCATION:Mount Uniacke Library\, 555\, Highway 1\, Mount Uniacke\, Nova Scotia\, Canada
CATEGORIES:Crafting,Events For Adults,Location: Mount Uniacke
ATTACH;FMTTYPE=image/png:https://www.lovemylibrary.ca/wp-content/uploads/2024/11/Untitled-design-2024-11-22T143012.372.png
END:VEVENT
BEGIN:VEVENT
DTSTART;TZID=America/Halifax:20241221T140000
DTEND;TZID=America/Halifax:20241221T150000
DTSTAMP:20260424T000911
CREATED:20240916T151848Z
LAST-MODIFIED:20260117T201509Z
UID:10010218-1734789600-1734793200@www.lovemylibrary.ca
SUMMARY:Lego Club
DESCRIPTION:Build\, create\, and explore! Lego Club is the perfect place to let your imagination run wild—one brick at a time. For ages 5-99 \nThis is a drop-in program. No registration is required.
URL:https://www.lovemylibrary.ca/event/lego-club-5-2-2-2/2024-12-21/
LOCATION:Stewiacke Library\, 295 George Street\, Stewiacke\, Nova Scotia\, Canada
CATEGORIES:Events For Kids,Location: Stewiacke
ATTACH;FMTTYPE=image/png:https://www.lovemylibrary.ca/wp-content/uploads/2022/06/Untitled-design-20.png
END:VEVENT
END:VCALENDAR