BEGIN:VCALENDAR
VERSION:2.0
PRODID:-//Colchester East Hants Public Library - ECPv6.15.20//NONSGML v1.0//EN
CALSCALE:GREGORIAN
METHOD:PUBLISH
X-ORIGINAL-URL:https://www.lovemylibrary.ca
X-WR-CALDESC:Events for Colchester East Hants Public Library
REFRESH-INTERVAL;VALUE=DURATION:PT1H
X-Robots-Tag:noindex
X-PUBLISHED-TTL:PT1H
BEGIN:VTIMEZONE
TZID:America/Halifax
BEGIN:DAYLIGHT
TZOFFSETFROM:-0400
TZOFFSETTO:-0300
TZNAME:ADT
DTSTART:20230312T060000
END:DAYLIGHT
BEGIN:STANDARD
TZOFFSETFROM:-0300
TZOFFSETTO:-0400
TZNAME:AST
DTSTART:20231105T050000
END:STANDARD
BEGIN:DAYLIGHT
TZOFFSETFROM:-0400
TZOFFSETTO:-0300
TZNAME:ADT
DTSTART:20240310T060000
END:DAYLIGHT
BEGIN:STANDARD
TZOFFSETFROM:-0300
TZOFFSETTO:-0400
TZNAME:AST
DTSTART:20241103T050000
END:STANDARD
BEGIN:DAYLIGHT
TZOFFSETFROM:-0400
TZOFFSETTO:-0300
TZNAME:ADT
DTSTART:20250309T060000
END:DAYLIGHT
BEGIN:STANDARD
TZOFFSETFROM:-0300
TZOFFSETTO:-0400
TZNAME:AST
DTSTART:20251102T050000
END:STANDARD
BEGIN:DAYLIGHT
TZOFFSETFROM:-0400
TZOFFSETTO:-0300
TZNAME:ADT
DTSTART:20260308T060000
END:DAYLIGHT
BEGIN:STANDARD
TZOFFSETFROM:-0300
TZOFFSETTO:-0400
TZNAME:AST
DTSTART:20261101T050000
END:STANDARD
END:VTIMEZONE
BEGIN:VEVENT
DTSTART;TZID=America/Halifax:20241220T100000
DTEND;TZID=America/Halifax:20250124T120000
DTSTAMP:20260423T082110
CREATED:20240513T152733Z
LAST-MODIFIED:20250417T173941Z
UID:10010197-1734688800-1737720000@www.lovemylibrary.ca
SUMMARY:One on One Tech Help
DESCRIPTION:Issues with your phone? Laptop? Social Media? Meet in-person with our digital literacy trainer to get your tech questions answered. \nDrop in – please call (902) 883-9838 or email us at elmsdale@cehpubliclibrary.ca for more details.
URL:https://www.lovemylibrary.ca/event/one-on-one-tech-help-7-2-2-2/2024-12-20/
LOCATION:Elmsdale Library\, 15 Commerce Ct\, Elmsdale\, Nova Scotia\, Canada
CATEGORIES:Events For Adults,Location: Elmsdale
ATTACH;FMTTYPE=image/png:https://www.lovemylibrary.ca/wp-content/uploads/2022/03/Untitled-design-80.png
END:VEVENT
BEGIN:VEVENT
DTSTART;TZID=America/Halifax:20241227T100000
DTEND;TZID=America/Halifax:20250131T120000
DTSTAMP:20260423T082110
CREATED:20240513T152733Z
LAST-MODIFIED:20250417T173941Z
UID:10010198-1735293600-1738324800@www.lovemylibrary.ca
SUMMARY:One on One Tech Help
DESCRIPTION:Issues with your phone? Laptop? Social Media? Meet in-person with our digital literacy trainer to get your tech questions answered. \nDrop in – please call (902) 883-9838 or email us at elmsdale@cehpubliclibrary.ca for more details.
URL:https://www.lovemylibrary.ca/event/one-on-one-tech-help-7-2-2-2/2024-12-27/
LOCATION:Elmsdale Library\, 15 Commerce Ct\, Elmsdale\, Nova Scotia\, Canada
CATEGORIES:Events For Adults,Location: Elmsdale
ATTACH;FMTTYPE=image/png:https://www.lovemylibrary.ca/wp-content/uploads/2022/03/Untitled-design-80.png
END:VEVENT
BEGIN:VEVENT
DTSTART;VALUE=DATE:20250101
DTEND;VALUE=DATE:20250201
DTSTAMP:20260423T082110
CREATED:20241213T202049Z
LAST-MODIFIED:20241213T202049Z
UID:10010693-1735689600-1738367999@www.lovemylibrary.ca
SUMMARY:Mystery Books!
DESCRIPTION:Visit us at the library to check out a mystery book! Who knows what it could be? It could be a nice surprise. All ages. \nIn Person\, drop in. Please call (902) 883-9838 or email us at elmsdale@cehpubliclibrary.ca for more details.
URL:https://www.lovemylibrary.ca/event/mystery-books/
LOCATION:Elmsdale Library\, 15 Commerce Ct\, Elmsdale\, Nova Scotia\, Canada
CATEGORIES:Events For Adults,Events For Kids,Events For Seniors,Events For Teens,Location: Elmsdale
ATTACH;FMTTYPE=image/png:https://www.lovemylibrary.ca/wp-content/uploads/2024/12/Untitled-design-2.png
END:VEVENT
BEGIN:VEVENT
DTSTART;VALUE=DATE:20250102
DTEND;VALUE=DATE:20250301
DTSTAMP:20260423T082110
CREATED:20241217T133940Z
LAST-MODIFIED:20250121T145701Z
UID:10010703-1735776000-1740787199@www.lovemylibrary.ca
SUMMARY:Scavenger Hunt
DESCRIPTION:Children from Winding River Consolidated will create images for the Scavenger Hunt. They will choose their own theme each month. All Ages. \nDrop In: No registration necessary
URL:https://www.lovemylibrary.ca/event/scavenger-hunt-3/
LOCATION:Stewiacke Library\, 295 George Street\, Stewiacke\, Nova Scotia\, Canada
CATEGORIES:Events For Kids,Location: Middle Stewiacke
ATTACH;FMTTYPE=image/png:https://www.lovemylibrary.ca/wp-content/uploads/2024/12/Untitled-design-1-1.png
END:VEVENT
BEGIN:VEVENT
DTSTART;TZID=America/Halifax:20250103T100000
DTEND;TZID=America/Halifax:20250131T163000
DTSTAMP:20260423T082110
CREATED:20241217T142027Z
LAST-MODIFIED:20250315T144836Z
UID:10010720-1735898400-1738341000@www.lovemylibrary.ca
SUMMARY:Employment Services
DESCRIPTION:Need help getting hired or promoted? Learn to communicate your value and skills. Valerie Manuel\, Career Practitioner with Nova Scotia Works and YMCA of Greater Halifax/Dartmouth will be available to assist you. Ages 18+. \nDrop in or Register: valerie.manuel@halifax.ymca.ca\n 
URL:https://www.lovemylibrary.ca/event/employment-services-3/2025-01-03/
LOCATION:Stewiacke Library\, 295 George Street\, Stewiacke\, Nova Scotia\, Canada
CATEGORIES:Events For Adults,Location: Middle Stewiacke
ATTACH;FMTTYPE=image/png:https://www.lovemylibrary.ca/wp-content/uploads/2024/12/Untitled-design-6.png
END:VEVENT
BEGIN:VEVENT
DTSTART;TZID=America/Halifax:20250103T100000
DTEND;TZID=America/Halifax:20250207T120000
DTSTAMP:20260423T082110
CREATED:20240513T152733Z
LAST-MODIFIED:20250417T173941Z
UID:10010541-1735898400-1738929600@www.lovemylibrary.ca
SUMMARY:One on One Tech Help
DESCRIPTION:Issues with your phone? Laptop? Social Media? Meet in-person with our digital literacy trainer to get your tech questions answered. \nDrop in – please call (902) 883-9838 or email us at elmsdale@cehpubliclibrary.ca for more details.
URL:https://www.lovemylibrary.ca/event/one-on-one-tech-help-7-2-2-2/2025-01-03/
LOCATION:Elmsdale Library\, 15 Commerce Ct\, Elmsdale\, Nova Scotia\, Canada
CATEGORIES:Events For Adults,Location: Elmsdale
ATTACH;FMTTYPE=image/png:https://www.lovemylibrary.ca/wp-content/uploads/2022/03/Untitled-design-80.png
END:VEVENT
BEGIN:VEVENT
DTSTART;TZID=America/Halifax:20250110T100000
DTEND;TZID=America/Halifax:20250207T163000
DTSTAMP:20260423T082110
CREATED:20241217T142027Z
LAST-MODIFIED:20250315T144836Z
UID:10011072-1736503200-1738945800@www.lovemylibrary.ca
SUMMARY:Employment Services
DESCRIPTION:Need help getting hired or promoted? Learn to communicate your value and skills. Valerie Manuel\, Career Practitioner with Nova Scotia Works and YMCA of Greater Halifax/Dartmouth will be available to assist you. Ages 18+. \nDrop in or Register: valerie.manuel@halifax.ymca.ca\n 
URL:https://www.lovemylibrary.ca/event/employment-services-3/2025-01-10/
LOCATION:Stewiacke Library\, 295 George Street\, Stewiacke\, Nova Scotia\, Canada
CATEGORIES:Events For Adults,Location: Middle Stewiacke
ATTACH;FMTTYPE=image/png:https://www.lovemylibrary.ca/wp-content/uploads/2024/12/Untitled-design-6.png
END:VEVENT
BEGIN:VEVENT
DTSTART;TZID=America/Halifax:20250110T100000
DTEND;TZID=America/Halifax:20250214T120000
DTSTAMP:20260423T082110
CREATED:20240513T152733Z
LAST-MODIFIED:20250417T173941Z
UID:10010542-1736503200-1739534400@www.lovemylibrary.ca
SUMMARY:One on One Tech Help
DESCRIPTION:Issues with your phone? Laptop? Social Media? Meet in-person with our digital literacy trainer to get your tech questions answered. \nDrop in – please call (902) 883-9838 or email us at elmsdale@cehpubliclibrary.ca for more details.
URL:https://www.lovemylibrary.ca/event/one-on-one-tech-help-7-2-2-2/2025-01-10/
LOCATION:Elmsdale Library\, 15 Commerce Ct\, Elmsdale\, Nova Scotia\, Canada
CATEGORIES:Events For Adults,Location: Elmsdale
ATTACH;FMTTYPE=image/png:https://www.lovemylibrary.ca/wp-content/uploads/2022/03/Untitled-design-80.png
END:VEVENT
BEGIN:VEVENT
DTSTART;VALUE=DATE:20250116
DTEND;VALUE=DATE:20250317
DTSTAMP:20260423T082110
CREATED:20250110T202751Z
LAST-MODIFIED:20250110T202938Z
UID:10011047-1736985600-1742169599@www.lovemylibrary.ca
SUMMARY:Hackmatack
DESCRIPTION:The Hackmatack Children’s Choice Book Award is your chance to read a special selection of books and vote for your favourite to win! The Reading Club runs for three months in English and French. Register your child by visiting us at the Elmsdale Library starting January 16th. This program is open to children ages 8-11 \nTo register\, please call us at 902-883-9838 or email us at elmsdale@cehpubliclibrary.ca 
URL:https://www.lovemylibrary.ca/event/hackmatack/
LOCATION:Elmsdale Library\, 15 Commerce Ct\, Elmsdale\, Nova Scotia\, Canada
ATTACH;FMTTYPE=image/png:https://www.lovemylibrary.ca/wp-content/uploads/2022/12/Untitled-design-2023-12-22T104908.248.png
END:VEVENT
BEGIN:VEVENT
DTSTART;TZID=America/Halifax:20250117T100000
DTEND;TZID=America/Halifax:20250214T163000
DTSTAMP:20260423T082110
CREATED:20241217T142027Z
LAST-MODIFIED:20250315T144836Z
UID:10010722-1737108000-1739550600@www.lovemylibrary.ca
SUMMARY:Employment Services
DESCRIPTION:Need help getting hired or promoted? Learn to communicate your value and skills. Valerie Manuel\, Career Practitioner with Nova Scotia Works and YMCA of Greater Halifax/Dartmouth will be available to assist you. Ages 18+. \nDrop in or Register: valerie.manuel@halifax.ymca.ca\n 
URL:https://www.lovemylibrary.ca/event/employment-services-3/2025-01-17/
LOCATION:Stewiacke Library\, 295 George Street\, Stewiacke\, Nova Scotia\, Canada
CATEGORIES:Events For Adults,Location: Middle Stewiacke
ATTACH;FMTTYPE=image/png:https://www.lovemylibrary.ca/wp-content/uploads/2024/12/Untitled-design-6.png
END:VEVENT
BEGIN:VEVENT
DTSTART;TZID=America/Halifax:20250117T100000
DTEND;TZID=America/Halifax:20250221T120000
DTSTAMP:20260423T082110
CREATED:20240513T152733Z
LAST-MODIFIED:20250417T173941Z
UID:10010543-1737108000-1740139200@www.lovemylibrary.ca
SUMMARY:One on One Tech Help
DESCRIPTION:Issues with your phone? Laptop? Social Media? Meet in-person with our digital literacy trainer to get your tech questions answered. \nDrop in – please call (902) 883-9838 or email us at elmsdale@cehpubliclibrary.ca for more details.
URL:https://www.lovemylibrary.ca/event/one-on-one-tech-help-7-2-2-2/2025-01-17/
LOCATION:Elmsdale Library\, 15 Commerce Ct\, Elmsdale\, Nova Scotia\, Canada
CATEGORIES:Events For Adults,Location: Elmsdale
ATTACH;FMTTYPE=image/png:https://www.lovemylibrary.ca/wp-content/uploads/2022/03/Untitled-design-80.png
END:VEVENT
BEGIN:VEVENT
DTSTART;TZID=America/Halifax:20250121T040000
DTEND;TZID=America/Halifax:20250121T163000
DTSTAMP:20260423T082110
CREATED:20241218T160339Z
LAST-MODIFIED:20250115T233727Z
UID:10010814-1737432000-1737477000@www.lovemylibrary.ca
SUMMARY:Popcorn and Stickers for Teens
DESCRIPTION:Choose from a variety of toppings for your popcorn. Munch away as you peruse a selection of vinyl stickers for your personal belongings. Ages 13 – 18. \nDrop in: No registration necessary.
URL:https://www.lovemylibrary.ca/event/popcorn-and-stickers-for-teens/
LOCATION:Stewiacke Library\, 295 George Street\, Stewiacke\, Nova Scotia\, Canada
CATEGORIES:Events For Teens,Location: Stewiacke
ATTACH;FMTTYPE=image/png:https://www.lovemylibrary.ca/wp-content/uploads/2024/12/Untitled-design-5.png
END:VEVENT
BEGIN:VEVENT
DTSTART;TZID=America/Halifax:20250121T100000
DTEND;TZID=America/Halifax:20250121T110000
DTSTAMP:20260423T082110
CREATED:20241211T182648Z
LAST-MODIFIED:20241211T182715Z
UID:10010431-1737453600-1737457200@www.lovemylibrary.ca
SUMMARY:Baby\, Me\, & Mother Goose
DESCRIPTION:All babies 3-18 months are welcome to come for rhymes\, songs\, and stories! In partnership with Maggie’s Place.  The session will take place at Maggie’s Place\, 1027 Prince St. \nCall Maggie’s Place at 902-895-0200 to register.
URL:https://www.lovemylibrary.ca/event/baby-me-mother-goose-2-2-2-2-2-2/2025-01-21/
LOCATION:Truro Library\, 754 Prince St\, Truro\, Nova Scotia\, Canada
CATEGORIES:Events For Kids,Location: Truro
ATTACH;FMTTYPE=image/png:https://www.lovemylibrary.ca/wp-content/uploads/2022/03/Untitled-design-75.png
END:VEVENT
BEGIN:VEVENT
DTSTART;TZID=America/Halifax:20250121T110000
DTEND;TZID=America/Halifax:20250121T120000
DTSTAMP:20260423T082110
CREATED:20241018T164540Z
LAST-MODIFIED:20250422T212708Z
UID:10010823-1737457200-1737460800@www.lovemylibrary.ca
SUMMARY:Conversational English
DESCRIPTION:Is English your 2nd language? Or maybe your 4th? Our Conversational English program is for those who would like to practice their English in a fun and friendly environment. In partnership with YREACH. \nThis is a drop-in event. No registration is required.
URL:https://www.lovemylibrary.ca/event/conversational-english-10/2025-01-21/
LOCATION:Truro Library\, 754 Prince St\, Truro\, Nova Scotia\, Canada
CATEGORIES:Events For Adults,Location: Truro
ATTACH;FMTTYPE=image/jpeg:https://www.lovemylibrary.ca/wp-content/uploads/2021/08/13.jpg
END:VEVENT
BEGIN:VEVENT
DTSTART;TZID=America/Halifax:20250121T143000
DTEND;TZID=America/Halifax:20250121T150000
DTSTAMP:20260423T082110
CREATED:20241228T181731Z
LAST-MODIFIED:20241228T181731Z
UID:10010976-1737469800-1737471600@www.lovemylibrary.ca
SUMMARY:Squirrel Appreciation Day
DESCRIPTION:How can we not appreciate squirrels? How is there only 1 day to officially celebrate them? Bernie has a fun activity to show our recognition of the greatness of squirrels. For ages 5-12 \nThis is a drop in program. No registration is required.
URL:https://www.lovemylibrary.ca/event/squirrel-appreciation-day-2/
LOCATION:Mount Uniacke Library\, 555\, Highway 1\, Mount Uniacke\, Nova Scotia\, Canada
CATEGORIES:Events For Kids,Location: Mount Uniacke
ATTACH;FMTTYPE=image/png:https://www.lovemylibrary.ca/wp-content/uploads/2024/12/Untitled-design-2024-12-28T141807.120.png
END:VEVENT
BEGIN:VEVENT
DTSTART;TZID=America/Halifax:20250121T150000
DTEND;TZID=America/Halifax:20250121T163000
DTSTAMP:20260423T082110
CREATED:20241213T191147Z
LAST-MODIFIED:20250509T192439Z
UID:10010581-1737471600-1737477000@www.lovemylibrary.ca
SUMMARY:Teen Room Drop In
DESCRIPTION:Come hang out! Grab a snack\, play our Nintendo Switch\, challenge your friends to a board game\, build with Lego\, or make art!  Ages 13-18 \nThis is a drop-in program. No registration is required.
URL:https://www.lovemylibrary.ca/event/teen-room-drop-in-5/2025-01-21/
LOCATION:Truro Library\, 754 Prince St\, Truro\, Nova Scotia\, Canada
CATEGORIES:Events For Teens,Location: Truro
ATTACH;FMTTYPE=image/png:https://www.lovemylibrary.ca/wp-content/uploads/2022/10/Untitled-design-53.png
END:VEVENT
BEGIN:VEVENT
DTSTART;TZID=America/Halifax:20250121T150000
DTEND;TZID=America/Halifax:20250121T170000
DTSTAMP:20260423T082110
CREATED:20241121T185306Z
LAST-MODIFIED:20250320T184440Z
UID:10010907-1737471600-1737478800@www.lovemylibrary.ca
SUMMARY:Dungeons and Dragons
DESCRIPTION:“Join us for an epic Dungeons & Dragons game night! Roll dice\, slay monsters\, and embark on thrilling adventures with friends. Whether you’re a seasoned hero or a curious newbie\, there’s a spot for you at the table!” For ages 13-24 \n\nPre-Register in person or by phone: (902) 657-3064\, or email: tatamago@cehpubliclibrary.ca
URL:https://www.lovemylibrary.ca/event/dd/2025-01-21/
LOCATION:Tatamagouche Library\, 170 Main Street\, Tatamagouche\, Nova Scotia\, Canada
CATEGORIES:Events For Adults,Events For Teens,Location: Tatamagouche
ATTACH;FMTTYPE=image/png:https://www.lovemylibrary.ca/wp-content/uploads/2024/11/Untitled-design-1.png
END:VEVENT
BEGIN:VEVENT
DTSTART;TZID=America/Halifax:20250121T180000
DTEND;TZID=America/Halifax:20250121T200000
DTSTAMP:20260423T082110
CREATED:20240918T144614Z
LAST-MODIFIED:20250509T185455Z
UID:10010623-1737482400-1737489600@www.lovemylibrary.ca
SUMMARY:Maker Lab Fun Time
DESCRIPTION:Come on in and explore. Program robots\, create circuits\, build with magnetic tiles\, and more! All ages are welcome \nThis is a drop-in and no registration is required.
URL:https://www.lovemylibrary.ca/event/maker-lab-fun-time-6/2025-01-21/
LOCATION:Truro Library\, 754 Prince St\, Truro\, Nova Scotia\, Canada
CATEGORIES:Events For Kids,Location: Truro,STEAM
ATTACH;FMTTYPE=image/png:https://www.lovemylibrary.ca/wp-content/uploads/2023/09/Untitled-design-2023-09-29T143321.527.png
END:VEVENT
BEGIN:VEVENT
DTSTART;TZID=America/Halifax:20250121T183000
DTEND;TZID=America/Halifax:20250121T193000
DTSTAMP:20260423T082110
CREATED:20250103T151801Z
LAST-MODIFIED:20250103T151801Z
UID:10010977-1737484200-1737487800@www.lovemylibrary.ca
SUMMARY:Monthly Craft Night – Frosted Mason Jar Luminaries
DESCRIPTION:Add a bit of light to your winter décor with a frosted luminary you make yourself. Also enjoy some seasonal refreshments and conversation while you craft. Adults. \nIn person: MacQuarrie Maker Lab. Registration is limited to 10 and opens Jan 7\nTo register please email us at info@cehpubliclibrary.ca
URL:https://www.lovemylibrary.ca/event/monthly-craft-night-frosted-mason-jar-luminaries/
LOCATION:Truro Library\, 754 Prince St\, Truro\, Nova Scotia\, Canada
CATEGORIES:Crafting,Events For Adults
ATTACH;FMTTYPE=image/png:https://www.lovemylibrary.ca/wp-content/uploads/2024/12/Untitled-design-9.png
END:VEVENT
BEGIN:VEVENT
DTSTART;TZID=America/Halifax:20250121T183000
DTEND;TZID=America/Halifax:20250121T200000
DTSTAMP:20260423T082110
CREATED:20240919T175158Z
LAST-MODIFIED:20260415T142046Z
UID:10010964-1737484200-1737489600@www.lovemylibrary.ca
SUMMARY:Ewe-niacke Yarn Club
DESCRIPTION:Fiber art for all ages and abilities. Learn to knit or crochet\, bring a project you are working on\, or just come hang out with the club for some social time. All ages welcome. \nDrop in\, no registration required.
URL:https://www.lovemylibrary.ca/event/ewe-niacke-yarn-club-3-2-2-2/2025-01-21/
LOCATION:Mount Uniacke Library\, 555\, Highway 1\, Mount Uniacke\, Nova Scotia\, Canada
CATEGORIES:Crafting,Events For Adults,Events For Kids,Events For Seniors,Location: Mount Uniacke
ATTACH;FMTTYPE=image/png:https://www.lovemylibrary.ca/wp-content/uploads/2022/03/Untitled-design-89.png
END:VEVENT
END:VCALENDAR