BEGIN:VCALENDAR
VERSION:2.0
PRODID:-//Colchester East Hants Public Library - ECPv6.15.20//NONSGML v1.0//EN
CALSCALE:GREGORIAN
METHOD:PUBLISH
X-ORIGINAL-URL:https://www.lovemylibrary.ca
X-WR-CALDESC:Events for Colchester East Hants Public Library
REFRESH-INTERVAL;VALUE=DURATION:PT1H
X-Robots-Tag:noindex
X-PUBLISHED-TTL:PT1H
BEGIN:VTIMEZONE
TZID:America/Halifax
BEGIN:DAYLIGHT
TZOFFSETFROM:-0400
TZOFFSETTO:-0300
TZNAME:ADT
DTSTART:20240310T060000
END:DAYLIGHT
BEGIN:STANDARD
TZOFFSETFROM:-0300
TZOFFSETTO:-0400
TZNAME:AST
DTSTART:20241103T050000
END:STANDARD
BEGIN:DAYLIGHT
TZOFFSETFROM:-0400
TZOFFSETTO:-0300
TZNAME:ADT
DTSTART:20250309T060000
END:DAYLIGHT
BEGIN:STANDARD
TZOFFSETFROM:-0300
TZOFFSETTO:-0400
TZNAME:AST
DTSTART:20251102T050000
END:STANDARD
BEGIN:DAYLIGHT
TZOFFSETFROM:-0400
TZOFFSETTO:-0300
TZNAME:ADT
DTSTART:20260308T060000
END:DAYLIGHT
BEGIN:STANDARD
TZOFFSETFROM:-0300
TZOFFSETTO:-0400
TZNAME:AST
DTSTART:20261101T050000
END:STANDARD
END:VTIMEZONE
BEGIN:VEVENT
DTSTART;VALUE=DATE:20250102
DTEND;VALUE=DATE:20250301
DTSTAMP:20260423T040317
CREATED:20241217T133940Z
LAST-MODIFIED:20250121T145701Z
UID:10010703-1735776000-1740787199@www.lovemylibrary.ca
SUMMARY:Scavenger Hunt
DESCRIPTION:Children from Winding River Consolidated will create images for the Scavenger Hunt. They will choose their own theme each month. All Ages. \nDrop In: No registration necessary
URL:https://www.lovemylibrary.ca/event/scavenger-hunt-3/
LOCATION:Stewiacke Library\, 295 George Street\, Stewiacke\, Nova Scotia\, Canada
CATEGORIES:Events For Kids,Location: Middle Stewiacke
ATTACH;FMTTYPE=image/png:https://www.lovemylibrary.ca/wp-content/uploads/2024/12/Untitled-design-1-1.png
END:VEVENT
BEGIN:VEVENT
DTSTART;VALUE=DATE:20250116
DTEND;VALUE=DATE:20250317
DTSTAMP:20260423T040317
CREATED:20250110T202751Z
LAST-MODIFIED:20250110T202938Z
UID:10011047-1736985600-1742169599@www.lovemylibrary.ca
SUMMARY:Hackmatack
DESCRIPTION:The Hackmatack Children’s Choice Book Award is your chance to read a special selection of books and vote for your favourite to win! The Reading Club runs for three months in English and French. Register your child by visiting us at the Elmsdale Library starting January 16th. This program is open to children ages 8-11 \nTo register\, please call us at 902-883-9838 or email us at elmsdale@cehpubliclibrary.ca 
URL:https://www.lovemylibrary.ca/event/hackmatack/
LOCATION:Elmsdale Library\, 15 Commerce Ct\, Elmsdale\, Nova Scotia\, Canada
ATTACH;FMTTYPE=image/png:https://www.lovemylibrary.ca/wp-content/uploads/2022/12/Untitled-design-2023-12-22T104908.248.png
END:VEVENT
BEGIN:VEVENT
DTSTART;TZID=America/Halifax:20250124T100000
DTEND;TZID=America/Halifax:20250228T120000
DTSTAMP:20260423T040317
CREATED:20240513T152733Z
LAST-MODIFIED:20250417T173941Z
UID:10010544-1737712800-1740744000@www.lovemylibrary.ca
SUMMARY:One on One Tech Help
DESCRIPTION:Issues with your phone? Laptop? Social Media? Meet in-person with our digital literacy trainer to get your tech questions answered. \nDrop in – please call (902) 883-9838 or email us at elmsdale@cehpubliclibrary.ca for more details.
URL:https://www.lovemylibrary.ca/event/one-on-one-tech-help-7-2-2-2/2025-01-24/
LOCATION:Elmsdale Library\, 15 Commerce Ct\, Elmsdale\, Nova Scotia\, Canada
CATEGORIES:Events For Adults,Location: Elmsdale
ATTACH;FMTTYPE=image/png:https://www.lovemylibrary.ca/wp-content/uploads/2022/03/Untitled-design-80.png
END:VEVENT
BEGIN:VEVENT
DTSTART;TZID=America/Halifax:20250131T100000
DTEND;TZID=America/Halifax:20250228T163000
DTSTAMP:20260423T040317
CREATED:20241217T142027Z
LAST-MODIFIED:20250315T144836Z
UID:10010724-1738317600-1740760200@www.lovemylibrary.ca
SUMMARY:Employment Services
DESCRIPTION:Need help getting hired or promoted? Learn to communicate your value and skills. Valerie Manuel\, Career Practitioner with Nova Scotia Works and YMCA of Greater Halifax/Dartmouth will be available to assist you. Ages 18+. \nDrop in or Register: valerie.manuel@halifax.ymca.ca\n 
URL:https://www.lovemylibrary.ca/event/employment-services-3/2025-01-31/
LOCATION:Stewiacke Library\, 295 George Street\, Stewiacke\, Nova Scotia\, Canada
CATEGORIES:Events For Adults,Location: Middle Stewiacke
ATTACH;FMTTYPE=image/png:https://www.lovemylibrary.ca/wp-content/uploads/2024/12/Untitled-design-6.png
END:VEVENT
BEGIN:VEVENT
DTSTART;TZID=America/Halifax:20250131T100000
DTEND;TZID=America/Halifax:20250307T120000
DTSTAMP:20260423T040317
CREATED:20240513T152733Z
LAST-MODIFIED:20250417T173941Z
UID:10010545-1738317600-1741348800@www.lovemylibrary.ca
SUMMARY:One on One Tech Help
DESCRIPTION:Issues with your phone? Laptop? Social Media? Meet in-person with our digital literacy trainer to get your tech questions answered. \nDrop in – please call (902) 883-9838 or email us at elmsdale@cehpubliclibrary.ca for more details.
URL:https://www.lovemylibrary.ca/event/one-on-one-tech-help-7-2-2-2/2025-01-31/
LOCATION:Elmsdale Library\, 15 Commerce Ct\, Elmsdale\, Nova Scotia\, Canada
CATEGORIES:Events For Adults,Location: Elmsdale
ATTACH;FMTTYPE=image/png:https://www.lovemylibrary.ca/wp-content/uploads/2022/03/Untitled-design-80.png
END:VEVENT
BEGIN:VEVENT
DTSTART;TZID=America/Halifax:20250207T100000
DTEND;TZID=America/Halifax:20250307T163000
DTSTAMP:20260423T040317
CREATED:20241217T142027Z
LAST-MODIFIED:20250315T144836Z
UID:10011333-1738922400-1741365000@www.lovemylibrary.ca
SUMMARY:Employment Services
DESCRIPTION:Need help getting hired or promoted? Learn to communicate your value and skills. Valerie Manuel\, Career Practitioner with Nova Scotia Works and YMCA of Greater Halifax/Dartmouth will be available to assist you. Ages 18+. \nDrop in or Register: valerie.manuel@halifax.ymca.ca\n 
URL:https://www.lovemylibrary.ca/event/employment-services-3/2025-02-07/
LOCATION:Stewiacke Library\, 295 George Street\, Stewiacke\, Nova Scotia\, Canada
CATEGORIES:Events For Adults,Location: Middle Stewiacke
ATTACH;FMTTYPE=image/png:https://www.lovemylibrary.ca/wp-content/uploads/2024/12/Untitled-design-6.png
END:VEVENT
BEGIN:VEVENT
DTSTART;TZID=America/Halifax:20250207T100000
DTEND;TZID=America/Halifax:20250314T120000
DTSTAMP:20260423T040317
CREATED:20240513T152733Z
LAST-MODIFIED:20250417T173941Z
UID:10011091-1738922400-1741953600@www.lovemylibrary.ca
SUMMARY:One on One Tech Help
DESCRIPTION:Issues with your phone? Laptop? Social Media? Meet in-person with our digital literacy trainer to get your tech questions answered. \nDrop in – please call (902) 883-9838 or email us at elmsdale@cehpubliclibrary.ca for more details.
URL:https://www.lovemylibrary.ca/event/one-on-one-tech-help-7-2-2-2/2025-02-07/
LOCATION:Elmsdale Library\, 15 Commerce Ct\, Elmsdale\, Nova Scotia\, Canada
CATEGORIES:Events For Adults,Location: Elmsdale
ATTACH;FMTTYPE=image/png:https://www.lovemylibrary.ca/wp-content/uploads/2022/03/Untitled-design-80.png
END:VEVENT
BEGIN:VEVENT
DTSTART;TZID=America/Halifax:20250214T100000
DTEND;TZID=America/Halifax:20250321T120000
DTSTAMP:20260423T040317
CREATED:20240513T152733Z
LAST-MODIFIED:20250417T173941Z
UID:10011092-1739527200-1742558400@www.lovemylibrary.ca
SUMMARY:One on One Tech Help
DESCRIPTION:Issues with your phone? Laptop? Social Media? Meet in-person with our digital literacy trainer to get your tech questions answered. \nDrop in – please call (902) 883-9838 or email us at elmsdale@cehpubliclibrary.ca for more details.
URL:https://www.lovemylibrary.ca/event/one-on-one-tech-help-7-2-2-2/2025-02-14/
LOCATION:Elmsdale Library\, 15 Commerce Ct\, Elmsdale\, Nova Scotia\, Canada
CATEGORIES:Events For Adults,Location: Elmsdale
ATTACH;FMTTYPE=image/png:https://www.lovemylibrary.ca/wp-content/uploads/2022/03/Untitled-design-80.png
END:VEVENT
BEGIN:VEVENT
DTSTART;TZID=America/Halifax:20250221T100000
DTEND;TZID=America/Halifax:20250328T120000
DTSTAMP:20260423T040317
CREATED:20240513T152733Z
LAST-MODIFIED:20250417T173941Z
UID:10011093-1740132000-1743163200@www.lovemylibrary.ca
SUMMARY:One on One Tech Help
DESCRIPTION:Issues with your phone? Laptop? Social Media? Meet in-person with our digital literacy trainer to get your tech questions answered. \nDrop in – please call (902) 883-9838 or email us at elmsdale@cehpubliclibrary.ca for more details.
URL:https://www.lovemylibrary.ca/event/one-on-one-tech-help-7-2-2-2/2025-02-21/
LOCATION:Elmsdale Library\, 15 Commerce Ct\, Elmsdale\, Nova Scotia\, Canada
CATEGORIES:Events For Adults,Location: Elmsdale
ATTACH;FMTTYPE=image/png:https://www.lovemylibrary.ca/wp-content/uploads/2022/03/Untitled-design-80.png
END:VEVENT
BEGIN:VEVENT
DTSTART;TZID=America/Halifax:20250227T100000
DTEND;TZID=America/Halifax:20250227T113000
DTSTAMP:20260423T040317
CREATED:20241018T171043Z
LAST-MODIFIED:20250524T133029Z
UID:10011139-1740650400-1740655800@www.lovemylibrary.ca
SUMMARY:Tech Help
DESCRIPTION:Is your phone giving you trouble? Or maybe your tablet? Drop by the Maker Lab on Thursday mornings for one-on-one tech help on a first-come\, first-served basis! Happy to help with your simple tech needs. Open to all ages. \nThis is a drop in program. No registration is required.
URL:https://www.lovemylibrary.ca/event/tech-help-10/2025-02-27/
LOCATION:Truro Library\, 754 Prince St\, Truro\, Nova Scotia\, Canada
CATEGORIES:Events For Adults,Location: Truro
ATTACH;FMTTYPE=image/png:https://www.lovemylibrary.ca/wp-content/uploads/2024/10/Untitled-design-2024-10-18T141043.276.png
END:VEVENT
BEGIN:VEVENT
DTSTART;TZID=America/Halifax:20250227T103000
DTEND;TZID=America/Halifax:20250227T110000
DTSTAMP:20260423T040317
CREATED:20240916T150356Z
LAST-MODIFIED:20250523T182647Z
UID:10011055-1740652200-1740654000@www.lovemylibrary.ca
SUMMARY:Baby Rhyme Time
DESCRIPTION:Discover the joy of songs\, finger plays\, bouncing rhymes and simple books. Infant-2 years old with a caregiver \nThis is a drop in program. No registration is required.
URL:https://www.lovemylibrary.ca/event/baby-rhyme-time-7-2-2-2/2025-02-27/
LOCATION:Stewiacke Library\, 295 George Street\, Stewiacke\, Nova Scotia\, Canada
CATEGORIES:Events For Kids,Location: Stewiacke
ATTACH;FMTTYPE=image/png:https://www.lovemylibrary.ca/wp-content/uploads/2022/03/Untitled-design-75.png
END:VEVENT
BEGIN:VEVENT
DTSTART;TZID=America/Halifax:20250227T110000
DTEND;TZID=America/Halifax:20250227T112000
DTSTAMP:20260423T040317
CREATED:20241211T183235Z
LAST-MODIFIED:20241211T183414Z
UID:10010443-1740654000-1740655200@www.lovemylibrary.ca
SUMMARY:Tales for Tots
DESCRIPTION:Join us Thursday mornings in the Big Brothers Big Sisters Room for stories\, songs\, and activities that are just right for terrific toddlers! \n18 months-4 years with a parent/caregiver. \nDrop-in\, no registration required.
URL:https://www.lovemylibrary.ca/event/tales-for-tots-2-2-2-2/2025-02-27/
LOCATION:Truro Library\, 754 Prince St\, Truro\, Nova Scotia\, Canada
CATEGORIES:Events For Kids,Location: Truro
ATTACH;FMTTYPE=image/png:https://www.lovemylibrary.ca/wp-content/uploads/2022/03/Untitled-design-81.png
END:VEVENT
BEGIN:VEVENT
DTSTART;TZID=America/Halifax:20250227T143000
DTEND;TZID=America/Halifax:20250227T150000
DTSTAMP:20260423T040317
CREATED:20240120T165355Z
LAST-MODIFIED:20250123T164154Z
UID:10006988-1740666600-1740668400@www.lovemylibrary.ca
SUMMARY:International Polar Bear Day
DESCRIPTION:It’s Polar Bear Day! Let’s celebrate all things Polar Bears. For ages 5-12 \nThis is a drop in program. No registration is required.
URL:https://www.lovemylibrary.ca/event/international-polar-bear-day/
LOCATION:Mount Uniacke Library\, 555\, Highway 1\, Mount Uniacke\, Nova Scotia\, Canada
CATEGORIES:Events For Kids,Location: Mount Uniacke
ATTACH;FMTTYPE=image/png:https://www.lovemylibrary.ca/wp-content/uploads/2024/01/Untitled-design-2024-01-20T125447.154.png
END:VEVENT
BEGIN:VEVENT
DTSTART;TZID=America/Halifax:20250227T150000
DTEND;TZID=America/Halifax:20250227T163000
DTSTAMP:20260423T040317
CREATED:20241213T191147Z
LAST-MODIFIED:20250509T192439Z
UID:10010598-1740668400-1740673800@www.lovemylibrary.ca
SUMMARY:Teen Room Drop In
DESCRIPTION:Come hang out! Grab a snack\, play our Nintendo Switch\, challenge your friends to a board game\, build with Lego\, or make art!  Ages 13-18 \nThis is a drop-in program. No registration is required.
URL:https://www.lovemylibrary.ca/event/teen-room-drop-in-5/2025-02-27/
LOCATION:Truro Library\, 754 Prince St\, Truro\, Nova Scotia\, Canada
CATEGORIES:Events For Teens,Location: Truro
ATTACH;FMTTYPE=image/png:https://www.lovemylibrary.ca/wp-content/uploads/2022/10/Untitled-design-53.png
END:VEVENT
BEGIN:VEVENT
DTSTART;TZID=America/Halifax:20250227T160000
DTEND;TZID=America/Halifax:20250227T170000
DTSTAMP:20260423T040317
CREATED:20250110T192620Z
LAST-MODIFIED:20250121T204841Z
UID:10011041-1740672000-1740675600@www.lovemylibrary.ca
SUMMARY:Soup Meal Prepping
DESCRIPTION:In this program\, we will break down how we did our coconut curry soup take and make\, including discussing pricing for dried soup meal kits\, places to buy ingredients\, as well as a basic formula for making custom soups. There will be a variety of ingredients on offer\, and each participant will get to make\, and take 3 soups bags home. \nRegistration opens: February 13th\nTo register\, email: tatamago@cehpubliclibrary.ca
URL:https://www.lovemylibrary.ca/event/soup-meal-prepping-5/
LOCATION:Tatamagouche Library\, 170 Main Street\, Tatamagouche\, Nova Scotia\, Canada
CATEGORIES:Events For Adults,Location: Tatamagouche
ATTACH;FMTTYPE=image/png:https://www.lovemylibrary.ca/wp-content/uploads/2025/01/Untitled-design-2025-01-10T150303.876.png
END:VEVENT
BEGIN:VEVENT
DTSTART;TZID=America/Halifax:20250227T173000
DTEND;TZID=America/Halifax:20250227T190000
DTSTAMP:20260423T040317
CREATED:20241121T160922Z
LAST-MODIFIED:20250419T174854Z
UID:10011067-1740677400-1740682800@www.lovemylibrary.ca
SUMMARY:Dungeons and Dragons
DESCRIPTION:Join the action and adventure as we explore fantastic worlds. We are beginner friendly.  A safe and inclusive environment. For ages 9-13 \nTo register\, email stewiacke@cehpubliclibrary.ca
URL:https://www.lovemylibrary.ca/event/dungeons-and-dragons-8/2025-02-27/
LOCATION:Stewiacke Library\, 295 George Street\, Stewiacke\, Nova Scotia\, Canada
CATEGORIES:Events For Teens,Location: Stewiacke
ATTACH;FMTTYPE=image/png:https://www.lovemylibrary.ca/wp-content/uploads/2022/06/D-and-D.png
END:VEVENT
BEGIN:VEVENT
DTSTART;TZID=America/Halifax:20250227T180000
DTEND;TZID=America/Halifax:20250227T190000
DTSTAMP:20260423T040317
CREATED:20241015T211342Z
LAST-MODIFIED:20250416T194912Z
UID:10011049-1740679200-1740682800@www.lovemylibrary.ca
SUMMARY:Silent Reading Book Club
DESCRIPTION:Want to join a book club where you don’t have to talk to others. Bring a book or come early and check out a book. We will make sure it is quiet to read for the hour. Suitable for all ages. \nThis is a drop in program. No registration is required.
URL:https://www.lovemylibrary.ca/event/silent-reading-book-club/2025-02-27/
LOCATION:Mount Uniacke Library\, 555\, Highway 1\, Mount Uniacke\, Nova Scotia\, Canada
CATEGORIES:Location: Mount Uniacke
ATTACH;FMTTYPE=image/png:https://www.lovemylibrary.ca/wp-content/uploads/2024/10/e-8.png
END:VEVENT
END:VCALENDAR