BEGIN:VCALENDAR
VERSION:2.0
PRODID:-//Colchester East Hants Public Library - ECPv6.15.20//NONSGML v1.0//EN
CALSCALE:GREGORIAN
METHOD:PUBLISH
X-ORIGINAL-URL:https://www.lovemylibrary.ca
X-WR-CALDESC:Events for Colchester East Hants Public Library
REFRESH-INTERVAL;VALUE=DURATION:PT1H
X-Robots-Tag:noindex
X-PUBLISHED-TTL:PT1H
BEGIN:VTIMEZONE
TZID:America/Halifax
BEGIN:DAYLIGHT
TZOFFSETFROM:-0400
TZOFFSETTO:-0300
TZNAME:ADT
DTSTART:20240310T060000
END:DAYLIGHT
BEGIN:STANDARD
TZOFFSETFROM:-0300
TZOFFSETTO:-0400
TZNAME:AST
DTSTART:20241103T050000
END:STANDARD
BEGIN:DAYLIGHT
TZOFFSETFROM:-0400
TZOFFSETTO:-0300
TZNAME:ADT
DTSTART:20250309T060000
END:DAYLIGHT
BEGIN:STANDARD
TZOFFSETFROM:-0300
TZOFFSETTO:-0400
TZNAME:AST
DTSTART:20251102T050000
END:STANDARD
BEGIN:DAYLIGHT
TZOFFSETFROM:-0400
TZOFFSETTO:-0300
TZNAME:ADT
DTSTART:20260308T060000
END:DAYLIGHT
BEGIN:STANDARD
TZOFFSETFROM:-0300
TZOFFSETTO:-0400
TZNAME:AST
DTSTART:20261101T050000
END:STANDARD
END:VTIMEZONE
BEGIN:VEVENT
DTSTART;TZID=America/Halifax:20250214T100000
DTEND;TZID=America/Halifax:20250321T120000
DTSTAMP:20260423T073019
CREATED:20240513T152733Z
LAST-MODIFIED:20250417T173941Z
UID:10011092-1739527200-1742558400@www.lovemylibrary.ca
SUMMARY:One on One Tech Help
DESCRIPTION:Issues with your phone? Laptop? Social Media? Meet in-person with our digital literacy trainer to get your tech questions answered. \nDrop in – please call (902) 883-9838 or email us at elmsdale@cehpubliclibrary.ca for more details.
URL:https://www.lovemylibrary.ca/event/one-on-one-tech-help-7-2-2-2/2025-02-14/
LOCATION:Elmsdale Library\, 15 Commerce Ct\, Elmsdale\, Nova Scotia\, Canada
CATEGORIES:Events For Adults,Location: Elmsdale
ATTACH;FMTTYPE=image/png:https://www.lovemylibrary.ca/wp-content/uploads/2022/03/Untitled-design-80.png
END:VEVENT
BEGIN:VEVENT
DTSTART;TZID=America/Halifax:20250221T100000
DTEND;TZID=America/Halifax:20250328T120000
DTSTAMP:20260423T073019
CREATED:20240513T152733Z
LAST-MODIFIED:20250417T173941Z
UID:10011093-1740132000-1743163200@www.lovemylibrary.ca
SUMMARY:One on One Tech Help
DESCRIPTION:Issues with your phone? Laptop? Social Media? Meet in-person with our digital literacy trainer to get your tech questions answered. \nDrop in – please call (902) 883-9838 or email us at elmsdale@cehpubliclibrary.ca for more details.
URL:https://www.lovemylibrary.ca/event/one-on-one-tech-help-7-2-2-2/2025-02-21/
LOCATION:Elmsdale Library\, 15 Commerce Ct\, Elmsdale\, Nova Scotia\, Canada
CATEGORIES:Events For Adults,Location: Elmsdale
ATTACH;FMTTYPE=image/png:https://www.lovemylibrary.ca/wp-content/uploads/2022/03/Untitled-design-80.png
END:VEVENT
BEGIN:VEVENT
DTSTART;TZID=America/Halifax:20250228T100000
DTEND;TZID=America/Halifax:20250404T120000
DTSTAMP:20260423T073019
CREATED:20240513T152733Z
LAST-MODIFIED:20250417T173941Z
UID:10011094-1740736800-1743768000@www.lovemylibrary.ca
SUMMARY:One on One Tech Help
DESCRIPTION:Issues with your phone? Laptop? Social Media? Meet in-person with our digital literacy trainer to get your tech questions answered. \nDrop in – please call (902) 883-9838 or email us at elmsdale@cehpubliclibrary.ca for more details.
URL:https://www.lovemylibrary.ca/event/one-on-one-tech-help-7-2-2-2/2025-02-28/
LOCATION:Elmsdale Library\, 15 Commerce Ct\, Elmsdale\, Nova Scotia\, Canada
CATEGORIES:Events For Adults,Location: Elmsdale
ATTACH;FMTTYPE=image/png:https://www.lovemylibrary.ca/wp-content/uploads/2022/03/Untitled-design-80.png
END:VEVENT
BEGIN:VEVENT
DTSTART;TZID=America/Halifax:20250307T100000
DTEND;TZID=America/Halifax:20250411T120000
DTSTAMP:20260423T073019
CREATED:20240513T152733Z
LAST-MODIFIED:20250417T173941Z
UID:10011153-1741341600-1744372800@www.lovemylibrary.ca
SUMMARY:One on One Tech Help
DESCRIPTION:Issues with your phone? Laptop? Social Media? Meet in-person with our digital literacy trainer to get your tech questions answered. \nDrop in – please call (902) 883-9838 or email us at elmsdale@cehpubliclibrary.ca for more details.
URL:https://www.lovemylibrary.ca/event/one-on-one-tech-help-7-2-2-2/2025-03-07/
LOCATION:Elmsdale Library\, 15 Commerce Ct\, Elmsdale\, Nova Scotia\, Canada
CATEGORIES:Events For Adults,Location: Elmsdale
ATTACH;FMTTYPE=image/png:https://www.lovemylibrary.ca/wp-content/uploads/2022/03/Untitled-design-80.png
END:VEVENT
BEGIN:VEVENT
DTSTART;VALUE=DATE:20250320
DTEND;VALUE=DATE:20250321
DTSTAMP:20260423T073019
CREATED:20250213T192322Z
LAST-MODIFIED:20250213T192322Z
UID:10011171-1742428800-1742515199@www.lovemylibrary.ca
SUMMARY:Spring Equinox Seed Planting Event
DESCRIPTION:Spring is here! Let’s celebrate! Welcome the coming of spring by visiting us at the Elmsdale library to plant seeds to take home and watch them grow! \nAll ages. In person\, drop in\, no registration required.
URL:https://www.lovemylibrary.ca/event/spring-equinox-seed-planting-event/
LOCATION:Elmsdale Library\, 15 Commerce Ct\, Elmsdale\, Nova Scotia\, Canada
CATEGORIES:Events For Adults,Events For Kids,Events For Seniors,Events For Teens,Location: Elmsdale
ATTACH;FMTTYPE=image/png:https://www.lovemylibrary.ca/wp-content/uploads/2025/02/Untitled-design-16.png
END:VEVENT
BEGIN:VEVENT
DTSTART;TZID=America/Halifax:20250320T100000
DTEND;TZID=America/Halifax:20250320T113000
DTSTAMP:20260423T073019
CREATED:20241018T171043Z
LAST-MODIFIED:20250524T133029Z
UID:10011585-1742464800-1742470200@www.lovemylibrary.ca
SUMMARY:Tech Help
DESCRIPTION:Is your phone giving you trouble? Or maybe your tablet? Drop by the Maker Lab on Thursday mornings for one-on-one tech help on a first-come\, first-served basis! Happy to help with your simple tech needs. Open to all ages. \nThis is a drop in program. No registration is required.
URL:https://www.lovemylibrary.ca/event/tech-help-10/2025-03-20/
LOCATION:Truro Library\, 754 Prince St\, Truro\, Nova Scotia\, Canada
CATEGORIES:Events For Adults,Location: Truro
ATTACH;FMTTYPE=image/png:https://www.lovemylibrary.ca/wp-content/uploads/2024/10/Untitled-design-2024-10-18T141043.276.png
END:VEVENT
BEGIN:VEVENT
DTSTART;TZID=America/Halifax:20250320T103000
DTEND;TZID=America/Halifax:20250320T110000
DTSTAMP:20260423T073019
CREATED:20240916T150356Z
LAST-MODIFIED:20250523T182647Z
UID:10011194-1742466600-1742468400@www.lovemylibrary.ca
SUMMARY:Baby Rhyme Time
DESCRIPTION:Discover the joy of songs\, finger plays\, bouncing rhymes and simple books. Infant-2 years old with a caregiver \nThis is a drop in program. No registration is required.
URL:https://www.lovemylibrary.ca/event/baby-rhyme-time-7-2-2-2/2025-03-20/
LOCATION:Stewiacke Library\, 295 George Street\, Stewiacke\, Nova Scotia\, Canada
CATEGORIES:Events For Kids,Location: Stewiacke
ATTACH;FMTTYPE=image/png:https://www.lovemylibrary.ca/wp-content/uploads/2022/03/Untitled-design-75.png
END:VEVENT
BEGIN:VEVENT
DTSTART;TZID=America/Halifax:20250320T110000
DTEND;TZID=America/Halifax:20250320T112000
DTSTAMP:20260423T073019
CREATED:20241211T183235Z
LAST-MODIFIED:20241211T183414Z
UID:10010445-1742468400-1742469600@www.lovemylibrary.ca
SUMMARY:Tales for Tots
DESCRIPTION:Join us Thursday mornings in the Big Brothers Big Sisters Room for stories\, songs\, and activities that are just right for terrific toddlers! \n18 months-4 years with a parent/caregiver. \nDrop-in\, no registration required.
URL:https://www.lovemylibrary.ca/event/tales-for-tots-2-2-2-2/2025-03-20/
LOCATION:Truro Library\, 754 Prince St\, Truro\, Nova Scotia\, Canada
CATEGORIES:Events For Kids,Location: Truro
ATTACH;FMTTYPE=image/png:https://www.lovemylibrary.ca/wp-content/uploads/2022/03/Untitled-design-81.png
END:VEVENT
BEGIN:VEVENT
DTSTART;TZID=America/Halifax:20250320T143000
DTEND;TZID=America/Halifax:20250320T150000
DTSTAMP:20260423T073019
CREATED:20250225T233926Z
LAST-MODIFIED:20250225T233926Z
UID:10011308-1742481000-1742482800@www.lovemylibrary.ca
SUMMARY:Celebrate Spring
DESCRIPTION:Goodbye Winter\, Hello Spring! Karri has a fun activity to welcome Spring. For school aged children. \nThis is a drop in program. No registration is required.
URL:https://www.lovemylibrary.ca/event/celebrate-spring/
LOCATION:Mount Uniacke Library\, 555\, Highway 1\, Mount Uniacke\, Nova Scotia\, Canada
CATEGORIES:Events For Kids,Location: Mount Uniacke
ATTACH;FMTTYPE=image/png:https://www.lovemylibrary.ca/wp-content/uploads/2025/02/Your-paragraph-text-6.png
END:VEVENT
BEGIN:VEVENT
DTSTART;TZID=America/Halifax:20250320T143000
DTEND;TZID=America/Halifax:20250320T163000
DTSTAMP:20260423T073019
CREATED:20241228T160141Z
LAST-MODIFIED:20250320T184710Z
UID:10011270-1742481000-1742488200@www.lovemylibrary.ca
SUMMARY:Route Six Jammers
DESCRIPTION:Hope to see you at the  Route Six Jammers meetup! Bring your instrument\, three songs (and their keys)\, and your voice. Be ready to lead a few tunes. No charge to join! \nThis is a drop in program. No registration is required.
URL:https://www.lovemylibrary.ca/event/music-night-route-six-jammers-4-2/2025-03-20/
LOCATION:Tatamagouche Library\, 170 Main Street\, Tatamagouche\, Nova Scotia\, Canada
CATEGORIES:Location: Tatamagouche
ATTACH;FMTTYPE=image/png:https://www.lovemylibrary.ca/wp-content/uploads/2024/09/Untitled-design-2024-09-26T164012.107.png
END:VEVENT
BEGIN:VEVENT
DTSTART;TZID=America/Halifax:20250320T150000
DTEND;TZID=America/Halifax:20250320T163000
DTSTAMP:20260423T073019
CREATED:20241213T191147Z
LAST-MODIFIED:20250509T192439Z
UID:10011147-1742482800-1742488200@www.lovemylibrary.ca
SUMMARY:Teen Room Drop In
DESCRIPTION:Come hang out! Grab a snack\, play our Nintendo Switch\, challenge your friends to a board game\, build with Lego\, or make art!  Ages 13-18 \nThis is a drop-in program. No registration is required.
URL:https://www.lovemylibrary.ca/event/teen-room-drop-in-5/2025-03-20/
LOCATION:Truro Library\, 754 Prince St\, Truro\, Nova Scotia\, Canada
CATEGORIES:Events For Teens,Location: Truro
ATTACH;FMTTYPE=image/png:https://www.lovemylibrary.ca/wp-content/uploads/2022/10/Untitled-design-53.png
END:VEVENT
BEGIN:VEVENT
DTSTART;TZID=America/Halifax:20250320T163000
DTEND;TZID=America/Halifax:20250320T173000
DTSTAMP:20260423T073019
CREATED:20250110T193446Z
LAST-MODIFIED:20250124T131520Z
UID:10011045-1742488200-1742491800@www.lovemylibrary.ca
SUMMARY:Beeswax Wraps
DESCRIPTION:This program will discuss sustainable efforts in the kitchen and with food storage\, focusing on reusable packaging. During this program\, the participants will be guided through making their own beeswax food storage wraps\, and will take their freshly made wraps home with them. \nRegistration Opens: March 6\nTo register\, email: tatamago@cehpubliclibrary.ca
URL:https://www.lovemylibrary.ca/event/beeswax-wraps-4/
LOCATION:Tatamagouche Library\, 170 Main Street\, Tatamagouche\, Nova Scotia\, Canada
CATEGORIES:Events For Adults,Location: Tatamagouche
ATTACH;FMTTYPE=image/png:https://www.lovemylibrary.ca/wp-content/uploads/2025/01/Untitled-design-2025-01-10T153207.419.png
END:VEVENT
BEGIN:VEVENT
DTSTART;TZID=America/Halifax:20250320T180000
DTEND;TZID=America/Halifax:20250320T190000
DTSTAMP:20260423T073019
CREATED:20241228T174153Z
LAST-MODIFIED:20250523T192541Z
UID:10010070-1742493600-1742497200@www.lovemylibrary.ca
SUMMARY:Only Murders in our Library
DESCRIPTION:Introverts and extroverts unite. Extroverts come early to socialize and introverts can join us at 6pm. We are spending an hour listening to a true crime podcast and doing some adult coloring. For ages 15-99 (or older) \n 
URL:https://www.lovemylibrary.ca/event/only-murders-in-our-library-6/2025-03-20/
LOCATION:Mount Uniacke Library\, 555\, Highway 1\, Mount Uniacke\, Nova Scotia\, Canada
CATEGORIES:Location: Mount Uniacke
ATTACH;FMTTYPE=image/png:https://www.lovemylibrary.ca/wp-content/uploads/2023/08/Untitled-design-2023-08-25T151940.865.png
END:VEVENT
END:VCALENDAR