BEGIN:VCALENDAR
VERSION:2.0
PRODID:-//Colchester East Hants Public Library - ECPv6.15.20//NONSGML v1.0//EN
CALSCALE:GREGORIAN
METHOD:PUBLISH
X-ORIGINAL-URL:https://www.lovemylibrary.ca
X-WR-CALDESC:Events for Colchester East Hants Public Library
REFRESH-INTERVAL;VALUE=DURATION:PT1H
X-Robots-Tag:noindex
X-PUBLISHED-TTL:PT1H
BEGIN:VTIMEZONE
TZID:America/Halifax
BEGIN:DAYLIGHT
TZOFFSETFROM:-0400
TZOFFSETTO:-0300
TZNAME:ADT
DTSTART:20240310T060000
END:DAYLIGHT
BEGIN:STANDARD
TZOFFSETFROM:-0300
TZOFFSETTO:-0400
TZNAME:AST
DTSTART:20241103T050000
END:STANDARD
BEGIN:DAYLIGHT
TZOFFSETFROM:-0400
TZOFFSETTO:-0300
TZNAME:ADT
DTSTART:20250309T060000
END:DAYLIGHT
BEGIN:STANDARD
TZOFFSETFROM:-0300
TZOFFSETTO:-0400
TZNAME:AST
DTSTART:20251102T050000
END:STANDARD
BEGIN:DAYLIGHT
TZOFFSETFROM:-0400
TZOFFSETTO:-0300
TZNAME:ADT
DTSTART:20260308T060000
END:DAYLIGHT
BEGIN:STANDARD
TZOFFSETFROM:-0300
TZOFFSETTO:-0400
TZNAME:AST
DTSTART:20261101T050000
END:STANDARD
END:VTIMEZONE
BEGIN:VEVENT
DTSTART;TZID=America/Halifax:20250221T100000
DTEND;TZID=America/Halifax:20250328T120000
DTSTAMP:20260423T013841
CREATED:20240513T152733Z
LAST-MODIFIED:20250417T173941Z
UID:10011093-1740132000-1743163200@www.lovemylibrary.ca
SUMMARY:One on One Tech Help
DESCRIPTION:Issues with your phone? Laptop? Social Media? Meet in-person with our digital literacy trainer to get your tech questions answered. \nDrop in – please call (902) 883-9838 or email us at elmsdale@cehpubliclibrary.ca for more details.
URL:https://www.lovemylibrary.ca/event/one-on-one-tech-help-7-2-2-2/2025-02-21/
LOCATION:Elmsdale Library\, 15 Commerce Ct\, Elmsdale\, Nova Scotia\, Canada
CATEGORIES:Events For Adults,Location: Elmsdale
ATTACH;FMTTYPE=image/png:https://www.lovemylibrary.ca/wp-content/uploads/2022/03/Untitled-design-80.png
END:VEVENT
BEGIN:VEVENT
DTSTART;TZID=America/Halifax:20250228T100000
DTEND;TZID=America/Halifax:20250404T120000
DTSTAMP:20260423T013841
CREATED:20240513T152733Z
LAST-MODIFIED:20250417T173941Z
UID:10011094-1740736800-1743768000@www.lovemylibrary.ca
SUMMARY:One on One Tech Help
DESCRIPTION:Issues with your phone? Laptop? Social Media? Meet in-person with our digital literacy trainer to get your tech questions answered. \nDrop in – please call (902) 883-9838 or email us at elmsdale@cehpubliclibrary.ca for more details.
URL:https://www.lovemylibrary.ca/event/one-on-one-tech-help-7-2-2-2/2025-02-28/
LOCATION:Elmsdale Library\, 15 Commerce Ct\, Elmsdale\, Nova Scotia\, Canada
CATEGORIES:Events For Adults,Location: Elmsdale
ATTACH;FMTTYPE=image/png:https://www.lovemylibrary.ca/wp-content/uploads/2022/03/Untitled-design-80.png
END:VEVENT
BEGIN:VEVENT
DTSTART;TZID=America/Halifax:20250307T100000
DTEND;TZID=America/Halifax:20250411T120000
DTSTAMP:20260423T013841
CREATED:20240513T152733Z
LAST-MODIFIED:20250417T173941Z
UID:10011153-1741341600-1744372800@www.lovemylibrary.ca
SUMMARY:One on One Tech Help
DESCRIPTION:Issues with your phone? Laptop? Social Media? Meet in-person with our digital literacy trainer to get your tech questions answered. \nDrop in – please call (902) 883-9838 or email us at elmsdale@cehpubliclibrary.ca for more details.
URL:https://www.lovemylibrary.ca/event/one-on-one-tech-help-7-2-2-2/2025-03-07/
LOCATION:Elmsdale Library\, 15 Commerce Ct\, Elmsdale\, Nova Scotia\, Canada
CATEGORIES:Events For Adults,Location: Elmsdale
ATTACH;FMTTYPE=image/png:https://www.lovemylibrary.ca/wp-content/uploads/2022/03/Untitled-design-80.png
END:VEVENT
BEGIN:VEVENT
DTSTART;TZID=America/Halifax:20250321T100000
DTEND;TZID=America/Halifax:20250425T120000
DTSTAMP:20260423T013841
CREATED:20240513T152733Z
LAST-MODIFIED:20250417T173941Z
UID:10011155-1742551200-1745582400@www.lovemylibrary.ca
SUMMARY:One on One Tech Help
DESCRIPTION:Issues with your phone? Laptop? Social Media? Meet in-person with our digital literacy trainer to get your tech questions answered. \nDrop in – please call (902) 883-9838 or email us at elmsdale@cehpubliclibrary.ca for more details.
URL:https://www.lovemylibrary.ca/event/one-on-one-tech-help-7-2-2-2/2025-03-21/
LOCATION:Elmsdale Library\, 15 Commerce Ct\, Elmsdale\, Nova Scotia\, Canada
CATEGORIES:Events For Adults,Location: Elmsdale
ATTACH;FMTTYPE=image/png:https://www.lovemylibrary.ca/wp-content/uploads/2022/03/Untitled-design-80.png
END:VEVENT
BEGIN:VEVENT
DTSTART;TZID=America/Halifax:20250322T100000
DTEND;TZID=America/Halifax:20250322T120000
DTSTAMP:20260423T013841
CREATED:20240918T145518Z
LAST-MODIFIED:20250625T140742Z
UID:10011180-1742637600-1742644800@www.lovemylibrary.ca
SUMMARY:Maker Lab Open Hours
DESCRIPTION:Come on in and explore. Program robots\, create circuits\, build with magnetic tiles\, and more! All ages are welcome \nThis is a drop in program. No registration is required.
URL:https://www.lovemylibrary.ca/event/maker-lab-fun-time-8/2025-03-22/
LOCATION:Truro Library\, 754 Prince St\, Truro\, Nova Scotia\, Canada
CATEGORIES:Events For Kids,Location: Truro
ATTACH;FMTTYPE=image/png:https://www.lovemylibrary.ca/wp-content/uploads/2023/09/Untitled-design-2023-09-29T143321.527.png
END:VEVENT
BEGIN:VEVENT
DTSTART;TZID=America/Halifax:20250322T103000
DTEND;TZID=America/Halifax:20250322T110000
DTSTAMP:20260423T013841
CREATED:20240918T190337Z
LAST-MODIFIED:20250520T222943Z
UID:10011281-1742639400-1742641200@www.lovemylibrary.ca
SUMMARY:Storytime
DESCRIPTION:Enjoy a picture book read by Karri or Bernie and then participate in an activity. For pre-schoolers and home schoolers. \nThis is a drop-in program. No registration is required.
URL:https://www.lovemylibrary.ca/event/storytime-9/2025-03-22/
LOCATION:Mount Uniacke Library\, 555\, Highway 1\, Mount Uniacke\, Nova Scotia\, Canada
CATEGORIES:Events For Kids,Location: Mount Uniacke
ATTACH;FMTTYPE=image/png:https://www.lovemylibrary.ca/wp-content/uploads/2022/05/Untitled-design-2.png
END:VEVENT
BEGIN:VEVENT
DTSTART;TZID=America/Halifax:20250322T110000
DTEND;TZID=America/Halifax:20250322T123000
DTSTAMP:20260423T013841
CREATED:20250226T175037Z
LAST-MODIFIED:20250226T175208Z
UID:10011311-1742641200-1742646600@www.lovemylibrary.ca
SUMMARY:ResinCraft Studio
DESCRIPTION:Get hands-on with Resin Creations! Learn how to make your own jewelry\, coasters\, and more using resin. Fun\, easy\, and beginner-friendly—leave with unique\, handmade pieces to show off or gift!  This is a program for seniors. \nPre register in person or by phone 902 – 657-3064 or email: tatamago@cehpubliclibrary.ca
URL:https://www.lovemylibrary.ca/event/resincraft-studio/
LOCATION:Tatamagouche Library\, 170 Main Street\, Tatamagouche\, Nova Scotia\, Canada
ATTACH;FMTTYPE=image/png:https://www.lovemylibrary.ca/wp-content/uploads/2025/02/Untitled-design-2025-02-26T135156.579.png
END:VEVENT
BEGIN:VEVENT
DTSTART;TZID=America/Halifax:20250322T110000
DTEND;TZID=America/Halifax:20250322T130000
DTSTAMP:20260423T013841
CREATED:20250118T204448Z
LAST-MODIFIED:20250614T190638Z
UID:10011048-1742641200-1742648400@www.lovemylibrary.ca
SUMMARY:Technically Speaking
DESCRIPTION:Is your tablet confusing? Having trouble downloading an app to your phone or don’t know what an app means?  Drop into the library with your questions and we can help. All ages are welcome. \nNo registration is required.
URL:https://www.lovemylibrary.ca/event/technically-speaking-9/2025-03-22/
LOCATION:Mount Uniacke Library\, 555\, Highway 1\, Mount Uniacke\, Nova Scotia\, Canada
CATEGORIES:Events For Adults,Location: Mount Uniacke
ATTACH;FMTTYPE=image/png:https://www.lovemylibrary.ca/wp-content/uploads/2023/04/Untitled-design-65.png
END:VEVENT
BEGIN:VEVENT
DTSTART;TZID=America/Halifax:20250322T113000
DTEND;TZID=America/Halifax:20250322T123000
DTSTAMP:20260423T013841
CREATED:20250110T194346Z
LAST-MODIFIED:20250122T183045Z
UID:10011046-1742643000-1742646600@www.lovemylibrary.ca
SUMMARY:Beeswax Wraps
DESCRIPTION:This program will discuss sustainable efforts in the kitchen and with food storage\, focusing on reusable packaging. During this program\, the participants will be guided through making their own beeswax food storage wraps\, and will take their freshly made wraps home with them. \nRegistration opens: March 8\nTo register\, email: mtuniack@cehpubliclibrary.ca
URL:https://www.lovemylibrary.ca/event/beeswax-wraps-5/
LOCATION:Mount Uniacke Library\, 555\, Highway 1\, Mount Uniacke\, Nova Scotia\, Canada
CATEGORIES:Events For Adults,Location: Mount Uniacke
ATTACH;FMTTYPE=image/png:https://www.lovemylibrary.ca/wp-content/uploads/2025/01/Untitled-design-2025-01-10T153207.419.png
END:VEVENT
END:VCALENDAR