BEGIN:VCALENDAR
VERSION:2.0
PRODID:-//Colchester East Hants Public Library - ECPv6.15.20//NONSGML v1.0//EN
CALSCALE:GREGORIAN
METHOD:PUBLISH
X-ORIGINAL-URL:https://www.lovemylibrary.ca
X-WR-CALDESC:Events for Colchester East Hants Public Library
REFRESH-INTERVAL;VALUE=DURATION:PT1H
X-Robots-Tag:noindex
X-PUBLISHED-TTL:PT1H
BEGIN:VTIMEZONE
TZID:America/Halifax
BEGIN:DAYLIGHT
TZOFFSETFROM:-0400
TZOFFSETTO:-0300
TZNAME:ADT
DTSTART:20240310T060000
END:DAYLIGHT
BEGIN:STANDARD
TZOFFSETFROM:-0300
TZOFFSETTO:-0400
TZNAME:AST
DTSTART:20241103T050000
END:STANDARD
BEGIN:DAYLIGHT
TZOFFSETFROM:-0400
TZOFFSETTO:-0300
TZNAME:ADT
DTSTART:20250309T060000
END:DAYLIGHT
BEGIN:STANDARD
TZOFFSETFROM:-0300
TZOFFSETTO:-0400
TZNAME:AST
DTSTART:20251102T050000
END:STANDARD
BEGIN:DAYLIGHT
TZOFFSETFROM:-0400
TZOFFSETTO:-0300
TZNAME:ADT
DTSTART:20260308T060000
END:DAYLIGHT
BEGIN:STANDARD
TZOFFSETFROM:-0300
TZOFFSETTO:-0400
TZNAME:AST
DTSTART:20261101T050000
END:STANDARD
END:VTIMEZONE
BEGIN:VEVENT
DTSTART;TZID=America/Halifax:20250321T100000
DTEND;TZID=America/Halifax:20250425T120000
DTSTAMP:20260422T193608
CREATED:20240513T152733Z
LAST-MODIFIED:20250417T173941Z
UID:10011155-1742551200-1745582400@www.lovemylibrary.ca
SUMMARY:One on One Tech Help
DESCRIPTION:Issues with your phone? Laptop? Social Media? Meet in-person with our digital literacy trainer to get your tech questions answered. \nDrop in – please call (902) 883-9838 or email us at elmsdale@cehpubliclibrary.ca for more details.
URL:https://www.lovemylibrary.ca/event/one-on-one-tech-help-7-2-2-2/2025-03-21/
LOCATION:Elmsdale Library\, 15 Commerce Ct\, Elmsdale\, Nova Scotia\, Canada
CATEGORIES:Events For Adults,Location: Elmsdale
ATTACH;FMTTYPE=image/png:https://www.lovemylibrary.ca/wp-content/uploads/2022/03/Untitled-design-80.png
END:VEVENT
BEGIN:VEVENT
DTSTART;VALUE=DATE:20250324
DTEND;VALUE=DATE:20250429
DTSTAMP:20260422T193608
CREATED:20250324T184135Z
LAST-MODIFIED:20250324T184135Z
UID:10011592-1742774400-1745884799@www.lovemylibrary.ca
SUMMARY:Created With Love: An Art Exhibit by the Creation Cafe
DESCRIPTION:These works were crafted with love and given with blessings by the Creation Café! The Creation Café meets at the Truro Library from mid-October until mid-May. Many of the works in this exhibit are fibre related and created for various charitable organizations in the Colchester area. Drop by and explore this unique exhibit. All ages are welcome \n 
URL:https://www.lovemylibrary.ca/event/created-with-love-an-art-exhibit-by-the-creation-cafe/
LOCATION:Truro Library\, 754 Prince St\, Truro\, Nova Scotia\, Canada
CATEGORIES:Location: Truro
ATTACH;FMTTYPE=image/png:https://www.lovemylibrary.ca/wp-content/uploads/2025/03/Untitled-design-2025-03-24T154158.709.png
END:VEVENT
BEGIN:VEVENT
DTSTART;TZID=America/Halifax:20250328T100000
DTEND;TZID=America/Halifax:20250502T120000
DTSTAMP:20260422T193608
CREATED:20240513T152733Z
LAST-MODIFIED:20250417T173941Z
UID:10011156-1743156000-1746187200@www.lovemylibrary.ca
SUMMARY:One on One Tech Help
DESCRIPTION:Issues with your phone? Laptop? Social Media? Meet in-person with our digital literacy trainer to get your tech questions answered. \nDrop in – please call (902) 883-9838 or email us at elmsdale@cehpubliclibrary.ca for more details.
URL:https://www.lovemylibrary.ca/event/one-on-one-tech-help-7-2-2-2/2025-03-28/
LOCATION:Elmsdale Library\, 15 Commerce Ct\, Elmsdale\, Nova Scotia\, Canada
CATEGORIES:Events For Adults,Location: Elmsdale
ATTACH;FMTTYPE=image/png:https://www.lovemylibrary.ca/wp-content/uploads/2022/03/Untitled-design-80.png
END:VEVENT
BEGIN:VEVENT
DTSTART;VALUE=DATE:20250401
DTEND;VALUE=DATE:20250501
DTSTAMP:20260422T193608
CREATED:20250320T175455Z
LAST-MODIFIED:20250320T175455Z
UID:10011485-1743465600-1746057599@www.lovemylibrary.ca
SUMMARY:Haiku Challenge
DESCRIPTION:Some folks say that poetry is the art of saying a lot with a few words. So\, what better way to celebrate National Poetry Month than haiku writing. A haiku is a Japanese style poem that has three lines\, with five syllables in the first line\, seven in the second\, and five in the third. Afterwards the haikus will be put into a mini-zine for patrons of the library. Submit poems either in person\, or by email.  All ages are welcome to participate. \nPlease call 902-883-9838 or email at elmsdale@cehpubliclibrary.ca for more details\n 
URL:https://www.lovemylibrary.ca/event/haiku-challenge/
LOCATION:Elmsdale Library\, 15 Commerce Ct\, Elmsdale\, Nova Scotia\, Canada
CATEGORIES:Location: Elmsdale
ATTACH;FMTTYPE=image/png:https://www.lovemylibrary.ca/wp-content/uploads/2025/03/Untitled-design-2025-03-20T145629.265.png
END:VEVENT
BEGIN:VEVENT
DTSTART;TZID=America/Halifax:20250404T100000
DTEND;TZID=America/Halifax:20250509T120000
DTSTAMP:20260422T193608
CREATED:20240513T152733Z
LAST-MODIFIED:20250417T173941Z
UID:10011446-1743760800-1746792000@www.lovemylibrary.ca
SUMMARY:One on One Tech Help
DESCRIPTION:Issues with your phone? Laptop? Social Media? Meet in-person with our digital literacy trainer to get your tech questions answered. \nDrop in – please call (902) 883-9838 or email us at elmsdale@cehpubliclibrary.ca for more details.
URL:https://www.lovemylibrary.ca/event/one-on-one-tech-help-7-2-2-2/2025-04-04/
LOCATION:Elmsdale Library\, 15 Commerce Ct\, Elmsdale\, Nova Scotia\, Canada
CATEGORIES:Events For Adults,Location: Elmsdale
ATTACH;FMTTYPE=image/png:https://www.lovemylibrary.ca/wp-content/uploads/2022/03/Untitled-design-80.png
END:VEVENT
BEGIN:VEVENT
DTSTART;TZID=America/Halifax:20250411T100000
DTEND;TZID=America/Halifax:20250516T120000
DTSTAMP:20260422T193608
CREATED:20240513T152733Z
LAST-MODIFIED:20250417T173941Z
UID:10011447-1744365600-1747396800@www.lovemylibrary.ca
SUMMARY:One on One Tech Help
DESCRIPTION:Issues with your phone? Laptop? Social Media? Meet in-person with our digital literacy trainer to get your tech questions answered. \nDrop in – please call (902) 883-9838 or email us at elmsdale@cehpubliclibrary.ca for more details.
URL:https://www.lovemylibrary.ca/event/one-on-one-tech-help-7-2-2-2/2025-04-11/
LOCATION:Elmsdale Library\, 15 Commerce Ct\, Elmsdale\, Nova Scotia\, Canada
CATEGORIES:Events For Adults,Location: Elmsdale
ATTACH;FMTTYPE=image/png:https://www.lovemylibrary.ca/wp-content/uploads/2022/03/Untitled-design-80.png
END:VEVENT
BEGIN:VEVENT
DTSTART;TZID=America/Halifax:20250412T100000
DTEND;TZID=America/Halifax:20250412T120000
DTSTAMP:20260422T193608
CREATED:20240918T145518Z
LAST-MODIFIED:20250625T140742Z
UID:10011613-1744452000-1744459200@www.lovemylibrary.ca
SUMMARY:Maker Lab Open Hours
DESCRIPTION:Come on in and explore. Program robots\, create circuits\, build with magnetic tiles\, and more! All ages are welcome \nThis is a drop in program. No registration is required.
URL:https://www.lovemylibrary.ca/event/maker-lab-fun-time-8/2025-04-12/
LOCATION:Truro Library\, 754 Prince St\, Truro\, Nova Scotia\, Canada
CATEGORIES:Events For Kids,Location: Truro
ATTACH;FMTTYPE=image/png:https://www.lovemylibrary.ca/wp-content/uploads/2023/09/Untitled-design-2023-09-29T143321.527.png
END:VEVENT
BEGIN:VEVENT
DTSTART;TZID=America/Halifax:20250412T103000
DTEND;TZID=America/Halifax:20250412T103000
DTSTAMP:20260422T193608
CREATED:20250324T190409Z
LAST-MODIFIED:20250324T190517Z
UID:10011593-1744453800-1744453800@www.lovemylibrary.ca
SUMMARY:Rural Water Watch Healthy Wells Workshop
DESCRIPTION:Join us to learn how to keep your well healthy. Learn about common issues with water quality and quantity\, as well as how to test your well for bacteria and metals. We will also discuss local concerns like the impacts of climate change and introduce you to resources to help you manage and protect your well water. In partnership with Rural Water Watch Association. For adults. \nThis is a drop in program. No registration is required.
URL:https://www.lovemylibrary.ca/event/rural-water-watch-healthy-wells-workshop/
LOCATION:Truro Library\, 754 Prince St\, Truro\, Nova Scotia\, Canada
CATEGORIES:Events For Adults,Location: Truro
ATTACH;FMTTYPE=image/png:https://www.lovemylibrary.ca/wp-content/uploads/2025/03/Untitled-design-2025-03-24T160547.628.png
END:VEVENT
BEGIN:VEVENT
DTSTART;TZID=America/Halifax:20250412T103000
DTEND;TZID=America/Halifax:20250412T110000
DTSTAMP:20260422T193608
CREATED:20240918T190337Z
LAST-MODIFIED:20250520T222943Z
UID:10011508-1744453800-1744455600@www.lovemylibrary.ca
SUMMARY:Storytime
DESCRIPTION:Enjoy a picture book read by Karri or Bernie and then participate in an activity. For pre-schoolers and home schoolers. \nThis is a drop-in program. No registration is required.
URL:https://www.lovemylibrary.ca/event/storytime-9/2025-04-12/
LOCATION:Mount Uniacke Library\, 555\, Highway 1\, Mount Uniacke\, Nova Scotia\, Canada
CATEGORIES:Events For Kids,Location: Mount Uniacke
ATTACH;FMTTYPE=image/png:https://www.lovemylibrary.ca/wp-content/uploads/2022/05/Untitled-design-2.png
END:VEVENT
BEGIN:VEVENT
DTSTART;TZID=America/Halifax:20250412T103000
DTEND;TZID=America/Halifax:20250412T110000
DTSTAMP:20260422T193608
CREATED:20241121T154110Z
LAST-MODIFIED:20260415T173841Z
UID:10011162-1744453800-1744455600@www.lovemylibrary.ca
SUMMARY:Toddler Time
DESCRIPTION:Come and enjoy story time at the library. A great way for your little one to make new friends. For children ages 0-2 \nThis is a drop-in program. Please call us at 902-883-9838 or email us at elmsdale@cehpubliclibrary.ca for more details
URL:https://www.lovemylibrary.ca/event/toddler-time-2-2/2025-04-12/
LOCATION:Elmsdale Library\, 15 Commerce Ct\, Elmsdale\, Nova Scotia\, Canada
CATEGORIES:Events For Kids,Location: Elmsdale
ATTACH;FMTTYPE=image/png:https://www.lovemylibrary.ca/wp-content/uploads/2022/03/Untitled-design-75.png
END:VEVENT
BEGIN:VEVENT
DTSTART;TZID=America/Halifax:20250412T110000
DTEND;TZID=America/Halifax:20250412T130000
DTSTAMP:20260422T193608
CREATED:20250118T204448Z
LAST-MODIFIED:20250614T190638Z
UID:10012331-1744455600-1744462800@www.lovemylibrary.ca
SUMMARY:Technically Speaking
DESCRIPTION:Is your tablet confusing? Having trouble downloading an app to your phone or don’t know what an app means?  Drop into the library with your questions and we can help. All ages are welcome. \nNo registration is required.
URL:https://www.lovemylibrary.ca/event/technically-speaking-9/2025-04-12/
LOCATION:Mount Uniacke Library\, 555\, Highway 1\, Mount Uniacke\, Nova Scotia\, Canada
CATEGORIES:Events For Adults,Location: Mount Uniacke
ATTACH;FMTTYPE=image/png:https://www.lovemylibrary.ca/wp-content/uploads/2023/04/Untitled-design-65.png
END:VEVENT
BEGIN:VEVENT
DTSTART;TZID=America/Halifax:20250412T133000
DTEND;TZID=America/Halifax:20250412T143000
DTSTAMP:20260422T193608
CREATED:20231025T191031Z
LAST-MODIFIED:20250315T150936Z
UID:10005652-1744464600-1744468200@www.lovemylibrary.ca
SUMMARY:Understanding Dementia
DESCRIPTION:Donna Lawrence\, Regional Coordinator of Education& Outreach\, Cumberland\, Colchester and East Hants\, Alzheimer Society of Nova Scotia will be here for an information session. \nTopics will include: · Signs and Symptoms · Risk Factors · Actions for Healthier Brains \nThis is a drop in program. No registration is required.
URL:https://www.lovemylibrary.ca/event/understanding-dementia/
LOCATION:Stewiacke Library\, 295 George Street\, Stewiacke\, Nova Scotia\, Canada
CATEGORIES:Events For Adults,Location: Stewiacke
ATTACH;FMTTYPE=image/png:https://www.lovemylibrary.ca/wp-content/uploads/2023/10/Untitled-design-2023-10-25T161014.038.png
END:VEVENT
BEGIN:VEVENT
DTSTART;TZID=America/Halifax:20250412T140000
DTEND;TZID=America/Halifax:20250412T150000
DTSTAMP:20260422T193608
CREATED:20240916T151848Z
LAST-MODIFIED:20260117T201509Z
UID:10011339-1744466400-1744470000@www.lovemylibrary.ca
SUMMARY:Lego Club
DESCRIPTION:Build\, create\, and explore! Lego Club is the perfect place to let your imagination run wild—one brick at a time. For ages 5-99 \nThis is a drop-in program. No registration is required.
URL:https://www.lovemylibrary.ca/event/lego-club-5-2-2-2/2025-04-12/
LOCATION:Stewiacke Library\, 295 George Street\, Stewiacke\, Nova Scotia\, Canada
CATEGORIES:Events For Kids,Location: Stewiacke
ATTACH;FMTTYPE=image/png:https://www.lovemylibrary.ca/wp-content/uploads/2022/06/Untitled-design-20.png
END:VEVENT
END:VCALENDAR