BEGIN:VCALENDAR
VERSION:2.0
PRODID:-//Colchester East Hants Public Library - ECPv6.15.20//NONSGML v1.0//EN
CALSCALE:GREGORIAN
METHOD:PUBLISH
X-WR-CALNAME:Colchester East Hants Public Library
X-ORIGINAL-URL:https://www.lovemylibrary.ca
X-WR-CALDESC:Events for Colchester East Hants Public Library
REFRESH-INTERVAL;VALUE=DURATION:PT1H
X-Robots-Tag:noindex
X-PUBLISHED-TTL:PT1H
BEGIN:VTIMEZONE
TZID:America/Halifax
BEGIN:DAYLIGHT
TZOFFSETFROM:-0400
TZOFFSETTO:-0300
TZNAME:ADT
DTSTART:20240310T060000
END:DAYLIGHT
BEGIN:STANDARD
TZOFFSETFROM:-0300
TZOFFSETTO:-0400
TZNAME:AST
DTSTART:20241103T050000
END:STANDARD
BEGIN:DAYLIGHT
TZOFFSETFROM:-0400
TZOFFSETTO:-0300
TZNAME:ADT
DTSTART:20250309T060000
END:DAYLIGHT
BEGIN:STANDARD
TZOFFSETFROM:-0300
TZOFFSETTO:-0400
TZNAME:AST
DTSTART:20251102T050000
END:STANDARD
BEGIN:DAYLIGHT
TZOFFSETFROM:-0400
TZOFFSETTO:-0300
TZNAME:ADT
DTSTART:20260308T060000
END:DAYLIGHT
BEGIN:STANDARD
TZOFFSETFROM:-0300
TZOFFSETTO:-0400
TZNAME:AST
DTSTART:20261101T050000
END:STANDARD
END:VTIMEZONE
BEGIN:VEVENT
DTSTART;TZID=America/Halifax:20250404T100000
DTEND;TZID=America/Halifax:20250509T120000
DTSTAMP:20260422T091011
CREATED:20240513T152733Z
LAST-MODIFIED:20250417T173941Z
UID:10011446-1743760800-1746792000@www.lovemylibrary.ca
SUMMARY:One on One Tech Help
DESCRIPTION:Issues with your phone? Laptop? Social Media? Meet in-person with our digital literacy trainer to get your tech questions answered. \nDrop in – please call (902) 883-9838 or email us at elmsdale@cehpubliclibrary.ca for more details.
URL:https://www.lovemylibrary.ca/event/one-on-one-tech-help-7-2-2-2/2025-04-04/
LOCATION:Elmsdale Library\, 15 Commerce Ct\, Elmsdale\, Nova Scotia\, Canada
CATEGORIES:Events For Adults,Location: Elmsdale
ATTACH;FMTTYPE=image/png:https://www.lovemylibrary.ca/wp-content/uploads/2022/03/Untitled-design-80.png
END:VEVENT
BEGIN:VEVENT
DTSTART;TZID=America/Halifax:20250411T100000
DTEND;TZID=America/Halifax:20250516T120000
DTSTAMP:20260422T091011
CREATED:20240513T152733Z
LAST-MODIFIED:20250417T173941Z
UID:10011447-1744365600-1747396800@www.lovemylibrary.ca
SUMMARY:One on One Tech Help
DESCRIPTION:Issues with your phone? Laptop? Social Media? Meet in-person with our digital literacy trainer to get your tech questions answered. \nDrop in – please call (902) 883-9838 or email us at elmsdale@cehpubliclibrary.ca for more details.
URL:https://www.lovemylibrary.ca/event/one-on-one-tech-help-7-2-2-2/2025-04-11/
LOCATION:Elmsdale Library\, 15 Commerce Ct\, Elmsdale\, Nova Scotia\, Canada
CATEGORIES:Events For Adults,Location: Elmsdale
ATTACH;FMTTYPE=image/png:https://www.lovemylibrary.ca/wp-content/uploads/2022/03/Untitled-design-80.png
END:VEVENT
BEGIN:VEVENT
DTSTART;VALUE=DATE:20250501
DTEND;VALUE=DATE:20250701
DTSTAMP:20260422T091011
CREATED:20250213T172319Z
LAST-MODIFIED:20250514T202331Z
UID:10011152-1746057600-1751327999@www.lovemylibrary.ca
SUMMARY:Take and Make Crafts
DESCRIPTION:Weekly take-and-make craft kits are available for pick up in-branch. \nDrop-in\, no registration required.
URL:https://www.lovemylibrary.ca/event/take-and-make-crafts-7/
LOCATION:Elmsdale Library\, 15 Commerce Ct\, Elmsdale\, Nova Scotia\, Canada
CATEGORIES:Events For Kids,Location: Elmsdale
ATTACH;FMTTYPE=image/png:https://www.lovemylibrary.ca/wp-content/uploads/2025/02/Untitled-design-10.png
END:VEVENT
BEGIN:VEVENT
DTSTART;VALUE=DATE:20250502
DTEND;VALUE=DATE:20250628
DTSTAMP:20260422T091011
CREATED:20250422T222030Z
LAST-MODIFIED:20250422T222030Z
UID:10011897-1746144000-1751068799@www.lovemylibrary.ca
SUMMARY:Women Artists of Passion: An Exhibit by Three Members of the Truro Art Society
DESCRIPTION:Explore this diverse and vibrant mix of paintings\, mixed media artworks\, and rug hooking from Ursula Ryle-Gulliver\, Rebecca Daphne Hill\, and Sheila Newell\, all artists and members of the Truro Art Society. They all have a passion for art and are excited to share their works with you. \nThis is a drop in program. No registration is required.
URL:https://www.lovemylibrary.ca/event/women-artists-of-passion-an-exhibit-by-three-members-of-the-truro-art-society/
LOCATION:Truro Library\, 754 Prince St\, Truro\, Nova Scotia\, Canada
CATEGORIES:Location: Truro
ATTACH;FMTTYPE=image/png:https://www.lovemylibrary.ca/wp-content/uploads/2025/04/Untitled-design-2025-04-22T192156.106.png
END:VEVENT
BEGIN:VEVENT
DTSTART;TZID=America/Halifax:20250503T100000
DTEND;TZID=America/Halifax:20250503T120000
DTSTAMP:20260422T091011
CREATED:20240918T145518Z
LAST-MODIFIED:20250625T140742Z
UID:10011616-1746266400-1746273600@www.lovemylibrary.ca
SUMMARY:Maker Lab Open Hours
DESCRIPTION:Come on in and explore. Program robots\, create circuits\, build with magnetic tiles\, and more! All ages are welcome \nThis is a drop in program. No registration is required.
URL:https://www.lovemylibrary.ca/event/maker-lab-fun-time-8/2025-05-03/
LOCATION:Truro Library\, 754 Prince St\, Truro\, Nova Scotia\, Canada
CATEGORIES:Events For Kids,Location: Truro
ATTACH;FMTTYPE=image/png:https://www.lovemylibrary.ca/wp-content/uploads/2023/09/Untitled-design-2023-09-29T143321.527.png
END:VEVENT
BEGIN:VEVENT
DTSTART;TZID=America/Halifax:20250503T100000
DTEND;TZID=America/Halifax:20250503T120000
DTSTAMP:20260422T091011
CREATED:20250423T225531Z
LAST-MODIFIED:20250423T225531Z
UID:10011916-1746266400-1746273600@www.lovemylibrary.ca
SUMMARY:Celebrate 75 Years with Your Library
DESCRIPTION:It’s Colchester-East Hants Public Library’s diamond jubilee and we’re having a party! Join us at the Tatamagouche Library as we celebrate 75 years of books\, technology\, and community. There will be cake\, door prizes\, entertainment\, and more! \nOur musical guest is Mary Beth Carty\, winner of the 2024 Canadian Folk Music Award for Traditional Singer of the Year. She performs original and ancient music rooted in the rich traditions of her Nova Scotian home. Born in Antigonish County\, she blends the sounds of her Gaelic heritage with multicultural influences\, soulfully accompanying herself on accordion\, guitar\, and wooden rhythm bones. \nAll ages. This is a drop-in program\, no registration required.
URL:https://www.lovemylibrary.ca/event/celebrate-75-years-with-your-library-2/
LOCATION:Tatamagouche Library\, 170 Main Street\, Tatamagouche\, Nova Scotia\, Canada
CATEGORIES:Events For Adults,Events For Kids,Events For Seniors,Events For Teens,Location: Tatamagouche
ATTACH;FMTTYPE=image/png:https://www.lovemylibrary.ca/wp-content/uploads/2025/04/Untitled-design-19.png
END:VEVENT
BEGIN:VEVENT
DTSTART;TZID=America/Halifax:20250503T103000
DTEND;TZID=America/Halifax:20250503T110000
DTSTAMP:20260422T091011
CREATED:20240918T190337Z
LAST-MODIFIED:20250520T222943Z
UID:10011514-1746268200-1746270000@www.lovemylibrary.ca
SUMMARY:Storytime
DESCRIPTION:Enjoy a picture book read by Karri or Bernie and then participate in an activity. For pre-schoolers and home schoolers. \nThis is a drop-in program. No registration is required.
URL:https://www.lovemylibrary.ca/event/storytime-9/2025-05-03/
LOCATION:Mount Uniacke Library\, 555\, Highway 1\, Mount Uniacke\, Nova Scotia\, Canada
CATEGORIES:Events For Kids,Location: Mount Uniacke
ATTACH;FMTTYPE=image/png:https://www.lovemylibrary.ca/wp-content/uploads/2022/05/Untitled-design-2.png
END:VEVENT
BEGIN:VEVENT
DTSTART;TZID=America/Halifax:20250503T110000
DTEND;TZID=America/Halifax:20250503T130000
DTSTAMP:20260422T091011
CREATED:20250118T204448Z
LAST-MODIFIED:20250614T190638Z
UID:10012332-1746270000-1746277200@www.lovemylibrary.ca
SUMMARY:Technically Speaking
DESCRIPTION:Is your tablet confusing? Having trouble downloading an app to your phone or don’t know what an app means?  Drop into the library with your questions and we can help. All ages are welcome. \nNo registration is required.
URL:https://www.lovemylibrary.ca/event/technically-speaking-9/2025-05-03/
LOCATION:Mount Uniacke Library\, 555\, Highway 1\, Mount Uniacke\, Nova Scotia\, Canada
CATEGORIES:Events For Adults,Location: Mount Uniacke
ATTACH;FMTTYPE=image/png:https://www.lovemylibrary.ca/wp-content/uploads/2023/04/Untitled-design-65.png
END:VEVENT
BEGIN:VEVENT
DTSTART;TZID=America/Halifax:20250503T113000
DTEND;TZID=America/Halifax:20250503T123000
DTSTAMP:20260422T091011
CREATED:20250122T161248Z
LAST-MODIFIED:20250425T121350Z
UID:10011114-1746271800-1746275400@www.lovemylibrary.ca
SUMMARY:Adult Craft
DESCRIPTION:We have a great “summerish” craft to make with beach rock. Join us to paint and glue and have social time. This is an adult program. \nRegister in branch or by email mtuniack@cehpubliclibrary.ca\n  \n 
URL:https://www.lovemylibrary.ca/event/adult-crafty-crew-trinket-basket/
LOCATION:Mount Uniacke Library\, 555\, Highway 1\, Mount Uniacke\, Nova Scotia\, Canada
CATEGORIES:Crafting,Events For Adults,Location: Mount Uniacke
ATTACH;FMTTYPE=image/png:https://www.lovemylibrary.ca/wp-content/uploads/2022/03/Untitled-design-85.png
END:VEVENT
END:VCALENDAR