BEGIN:VCALENDAR
VERSION:2.0
PRODID:-//Colchester East Hants Public Library - ECPv6.15.20//NONSGML v1.0//EN
CALSCALE:GREGORIAN
METHOD:PUBLISH
X-WR-CALNAME:Colchester East Hants Public Library
X-ORIGINAL-URL:https://www.lovemylibrary.ca
X-WR-CALDESC:Events for Colchester East Hants Public Library
REFRESH-INTERVAL;VALUE=DURATION:PT1H
X-Robots-Tag:noindex
X-PUBLISHED-TTL:PT1H
BEGIN:VTIMEZONE
TZID:America/Halifax
BEGIN:DAYLIGHT
TZOFFSETFROM:-0400
TZOFFSETTO:-0300
TZNAME:ADT
DTSTART:20240310T060000
END:DAYLIGHT
BEGIN:STANDARD
TZOFFSETFROM:-0300
TZOFFSETTO:-0400
TZNAME:AST
DTSTART:20241103T050000
END:STANDARD
BEGIN:DAYLIGHT
TZOFFSETFROM:-0400
TZOFFSETTO:-0300
TZNAME:ADT
DTSTART:20250309T060000
END:DAYLIGHT
BEGIN:STANDARD
TZOFFSETFROM:-0300
TZOFFSETTO:-0400
TZNAME:AST
DTSTART:20251102T050000
END:STANDARD
BEGIN:DAYLIGHT
TZOFFSETFROM:-0400
TZOFFSETTO:-0300
TZNAME:ADT
DTSTART:20260308T060000
END:DAYLIGHT
BEGIN:STANDARD
TZOFFSETFROM:-0300
TZOFFSETTO:-0400
TZNAME:AST
DTSTART:20261101T050000
END:STANDARD
END:VTIMEZONE
BEGIN:VEVENT
DTSTART;VALUE=DATE:20250501
DTEND;VALUE=DATE:20250701
DTSTAMP:20260421T182936
CREATED:20250213T172319Z
LAST-MODIFIED:20250514T202331Z
UID:10011152-1746057600-1751327999@www.lovemylibrary.ca
SUMMARY:Take and Make Crafts
DESCRIPTION:Weekly take-and-make craft kits are available for pick up in-branch. \nDrop-in\, no registration required.
URL:https://www.lovemylibrary.ca/event/take-and-make-crafts-7/
LOCATION:Elmsdale Library\, 15 Commerce Ct\, Elmsdale\, Nova Scotia\, Canada
CATEGORIES:Events For Kids,Location: Elmsdale
ATTACH;FMTTYPE=image/png:https://www.lovemylibrary.ca/wp-content/uploads/2025/02/Untitled-design-10.png
END:VEVENT
BEGIN:VEVENT
DTSTART;VALUE=DATE:20250502
DTEND;VALUE=DATE:20250628
DTSTAMP:20260421T182936
CREATED:20250422T222030Z
LAST-MODIFIED:20250422T222030Z
UID:10011897-1746144000-1751068799@www.lovemylibrary.ca
SUMMARY:Women Artists of Passion: An Exhibit by Three Members of the Truro Art Society
DESCRIPTION:Explore this diverse and vibrant mix of paintings\, mixed media artworks\, and rug hooking from Ursula Ryle-Gulliver\, Rebecca Daphne Hill\, and Sheila Newell\, all artists and members of the Truro Art Society. They all have a passion for art and are excited to share their works with you. \nThis is a drop in program. No registration is required.
URL:https://www.lovemylibrary.ca/event/women-artists-of-passion-an-exhibit-by-three-members-of-the-truro-art-society/
LOCATION:Truro Library\, 754 Prince St\, Truro\, Nova Scotia\, Canada
CATEGORIES:Location: Truro
ATTACH;FMTTYPE=image/png:https://www.lovemylibrary.ca/wp-content/uploads/2025/04/Untitled-design-2025-04-22T192156.106.png
END:VEVENT
BEGIN:VEVENT
DTSTART;TZID=America/Halifax:20250522T100000
DTEND;TZID=America/Halifax:20250522T110000
DTSTAMP:20260421T182936
CREATED:20250214T185120Z
LAST-MODIFIED:20250409T174349Z
UID:10011175-1747908000-1747911600@www.lovemylibrary.ca
SUMMARY:Virtual Author Visit: Linda Trinh
DESCRIPTION:Linda Trinh is an award-winning Vietnamese Canadian author and she goes by the pronouns she/ her. She writes fiction and nonfiction for children and adults. She is the author of The Nguyen Kids early chapter book series\, published by Annick Press. The books have been nominated for numerous awards and The Secret of the Jade Bangle co-won the Manitoba Book Award for best first book. Suitable for ages 5-12 \nTo register: Email info@cehpubliclibrary.ca
URL:https://www.lovemylibrary.ca/event/virtual-author-visit-ekiuwa-aire/
LOCATION:Virtual
CATEGORIES:Events For Kids,Location: Virtual
ATTACH;FMTTYPE=image/png:https://www.lovemylibrary.ca/wp-content/uploads/2025/02/Untitled-design-2025-04-09T144435.588.png
END:VEVENT
BEGIN:VEVENT
DTSTART;TZID=America/Halifax:20250522T100000
DTEND;TZID=America/Halifax:20250522T113000
DTSTAMP:20260421T182936
CREATED:20241018T171043Z
LAST-MODIFIED:20250524T133029Z
UID:10011893-1747908000-1747913400@www.lovemylibrary.ca
SUMMARY:Tech Help
DESCRIPTION:Is your phone giving you trouble? Or maybe your tablet? Drop by the Maker Lab on Thursday mornings for one-on-one tech help on a first-come\, first-served basis! Happy to help with your simple tech needs. Open to all ages. \nThis is a drop in program. No registration is required.
URL:https://www.lovemylibrary.ca/event/tech-help-10/2025-05-22/
LOCATION:Truro Library\, 754 Prince St\, Truro\, Nova Scotia\, Canada
CATEGORIES:Events For Adults,Location: Truro
ATTACH;FMTTYPE=image/png:https://www.lovemylibrary.ca/wp-content/uploads/2024/10/Untitled-design-2024-10-18T141043.276.png
END:VEVENT
BEGIN:VEVENT
DTSTART;TZID=America/Halifax:20250522T103000
DTEND;TZID=America/Halifax:20250522T110000
DTSTAMP:20260421T182936
CREATED:20240916T150356Z
LAST-MODIFIED:20250523T182647Z
UID:10011852-1747909800-1747911600@www.lovemylibrary.ca
SUMMARY:Baby Rhyme Time
DESCRIPTION:Discover the joy of songs\, finger plays\, bouncing rhymes and simple books. Infant-2 years old with a caregiver \nThis is a drop in program. No registration is required.
URL:https://www.lovemylibrary.ca/event/baby-rhyme-time-7-2-2-2/2025-05-22/
LOCATION:Stewiacke Library\, 295 George Street\, Stewiacke\, Nova Scotia\, Canada
CATEGORIES:Events For Kids,Location: Stewiacke
ATTACH;FMTTYPE=image/png:https://www.lovemylibrary.ca/wp-content/uploads/2022/03/Untitled-design-75.png
END:VEVENT
BEGIN:VEVENT
DTSTART;TZID=America/Halifax:20250522T110000
DTEND;TZID=America/Halifax:20250522T112000
DTSTAMP:20260421T182936
CREATED:20241211T183235Z
LAST-MODIFIED:20241211T183414Z
UID:10010454-1747911600-1747912800@www.lovemylibrary.ca
SUMMARY:Tales for Tots
DESCRIPTION:Join us Thursday mornings in the Big Brothers Big Sisters Room for stories\, songs\, and activities that are just right for terrific toddlers! \n18 months-4 years with a parent/caregiver. \nDrop-in\, no registration required.
URL:https://www.lovemylibrary.ca/event/tales-for-tots-2-2-2-2/2025-05-22/
LOCATION:Truro Library\, 754 Prince St\, Truro\, Nova Scotia\, Canada
CATEGORIES:Events For Kids,Location: Truro
ATTACH;FMTTYPE=image/png:https://www.lovemylibrary.ca/wp-content/uploads/2022/03/Untitled-design-81.png
END:VEVENT
BEGIN:VEVENT
DTSTART;TZID=America/Halifax:20250522T143000
DTEND;TZID=America/Halifax:20250522T150000
DTSTAMP:20260421T182936
CREATED:20250419T144147Z
LAST-MODIFIED:20250419T144147Z
UID:10011828-1747924200-1747926000@www.lovemylibrary.ca
SUMMARY:Jeopardy for Kids
DESCRIPTION:Trivia for kids. Who wants to see who knows the answers? Karri is going to be testing you (in a fun way) and there might be prizes. For ages 8-12 \nThis is a drop in program. No registration is required.\n 
URL:https://www.lovemylibrary.ca/event/jeopardy-for-kids/
LOCATION:Mount Uniacke Library\, 555\, Highway 1\, Mount Uniacke\, Nova Scotia\, Canada
CATEGORIES:Events For Kids,Location: Mount Uniacke
ATTACH;FMTTYPE=image/png:https://www.lovemylibrary.ca/wp-content/uploads/2025/04/Untitled-design-2025-04-19T114322.394.png
END:VEVENT
BEGIN:VEVENT
DTSTART;TZID=America/Halifax:20250522T150000
DTEND;TZID=America/Halifax:20250522T160000
DTSTAMP:20260421T182936
CREATED:20250419T165923Z
LAST-MODIFIED:20250419T165923Z
UID:10011848-1747926000-1747929600@www.lovemylibrary.ca
SUMMARY:Plant & Paint Party!
DESCRIPTION:Kids get creative painting their own terra cotta pots\, then bring them to life by planting a little green friend to take home and grow! For ages 8-12 \nPre register in person or by phone 902 – 657-3064 or email: tatamago@cehpubliclibrary.ca
URL:https://www.lovemylibrary.ca/event/plant-paint-party/
LOCATION:Tatamagouche Library\, 170 Main Street\, Tatamagouche\, Nova Scotia\, Canada
CATEGORIES:Crafting,Events For Kids,Location: Tatamagouche
ATTACH;FMTTYPE=image/png:https://www.lovemylibrary.ca/wp-content/uploads/2025/04/Untitled-design-2025-04-19T140119.146.png
END:VEVENT
BEGIN:VEVENT
DTSTART;TZID=America/Halifax:20250522T150000
DTEND;TZID=America/Halifax:20250522T163000
DTSTAMP:20260421T182936
CREATED:20241213T191147Z
LAST-MODIFIED:20250509T192439Z
UID:10011375-1747926000-1747931400@www.lovemylibrary.ca
SUMMARY:Teen Room Drop In
DESCRIPTION:Come hang out! Grab a snack\, play our Nintendo Switch\, challenge your friends to a board game\, build with Lego\, or make art!  Ages 13-18 \nThis is a drop-in program. No registration is required.
URL:https://www.lovemylibrary.ca/event/teen-room-drop-in-5/2025-05-22/
LOCATION:Truro Library\, 754 Prince St\, Truro\, Nova Scotia\, Canada
CATEGORIES:Events For Teens,Location: Truro
ATTACH;FMTTYPE=image/png:https://www.lovemylibrary.ca/wp-content/uploads/2022/10/Untitled-design-53.png
END:VEVENT
BEGIN:VEVENT
DTSTART;TZID=America/Halifax:20250522T173000
DTEND;TZID=America/Halifax:20250522T190000
DTSTAMP:20260421T182936
CREATED:20241121T160922Z
LAST-MODIFIED:20250419T174854Z
UID:10011866-1747935000-1747940400@www.lovemylibrary.ca
SUMMARY:Dungeons and Dragons
DESCRIPTION:Join the action and adventure as we explore fantastic worlds. We are beginner friendly.  A safe and inclusive environment. For ages 9-13 \nTo register\, email stewiacke@cehpubliclibrary.ca
URL:https://www.lovemylibrary.ca/event/dungeons-and-dragons-8/2025-05-22/
LOCATION:Stewiacke Library\, 295 George Street\, Stewiacke\, Nova Scotia\, Canada
CATEGORIES:Events For Teens,Location: Stewiacke
ATTACH;FMTTYPE=image/png:https://www.lovemylibrary.ca/wp-content/uploads/2022/06/D-and-D.png
END:VEVENT
END:VCALENDAR