BEGIN:VCALENDAR
VERSION:2.0
PRODID:-//Colchester East Hants Public Library - ECPv6.15.20//NONSGML v1.0//EN
CALSCALE:GREGORIAN
METHOD:PUBLISH
X-WR-CALNAME:Colchester East Hants Public Library
X-ORIGINAL-URL:https://www.lovemylibrary.ca
X-WR-CALDESC:Events for Colchester East Hants Public Library
REFRESH-INTERVAL;VALUE=DURATION:PT1H
X-Robots-Tag:noindex
X-PUBLISHED-TTL:PT1H
BEGIN:VTIMEZONE
TZID:America/Halifax
BEGIN:DAYLIGHT
TZOFFSETFROM:-0400
TZOFFSETTO:-0300
TZNAME:ADT
DTSTART:20240310T060000
END:DAYLIGHT
BEGIN:STANDARD
TZOFFSETFROM:-0300
TZOFFSETTO:-0400
TZNAME:AST
DTSTART:20241103T050000
END:STANDARD
BEGIN:DAYLIGHT
TZOFFSETFROM:-0400
TZOFFSETTO:-0300
TZNAME:ADT
DTSTART:20250309T060000
END:DAYLIGHT
BEGIN:STANDARD
TZOFFSETFROM:-0300
TZOFFSETTO:-0400
TZNAME:AST
DTSTART:20251102T050000
END:STANDARD
BEGIN:DAYLIGHT
TZOFFSETFROM:-0400
TZOFFSETTO:-0300
TZNAME:ADT
DTSTART:20260308T060000
END:DAYLIGHT
BEGIN:STANDARD
TZOFFSETFROM:-0300
TZOFFSETTO:-0400
TZNAME:AST
DTSTART:20261101T050000
END:STANDARD
END:VTIMEZONE
BEGIN:VEVENT
DTSTART;VALUE=DATE:20250501
DTEND;VALUE=DATE:20250701
DTSTAMP:20260421T171623
CREATED:20250213T172319Z
LAST-MODIFIED:20250514T202331Z
UID:10011152-1746057600-1751327999@www.lovemylibrary.ca
SUMMARY:Take and Make Crafts
DESCRIPTION:Weekly take-and-make craft kits are available for pick up in-branch. \nDrop-in\, no registration required.
URL:https://www.lovemylibrary.ca/event/take-and-make-crafts-7/
LOCATION:Elmsdale Library\, 15 Commerce Ct\, Elmsdale\, Nova Scotia\, Canada
CATEGORIES:Events For Kids,Location: Elmsdale
ATTACH;FMTTYPE=image/png:https://www.lovemylibrary.ca/wp-content/uploads/2025/02/Untitled-design-10.png
END:VEVENT
BEGIN:VEVENT
DTSTART;VALUE=DATE:20250502
DTEND;VALUE=DATE:20250628
DTSTAMP:20260421T171623
CREATED:20250422T222030Z
LAST-MODIFIED:20250422T222030Z
UID:10011897-1746144000-1751068799@www.lovemylibrary.ca
SUMMARY:Women Artists of Passion: An Exhibit by Three Members of the Truro Art Society
DESCRIPTION:Explore this diverse and vibrant mix of paintings\, mixed media artworks\, and rug hooking from Ursula Ryle-Gulliver\, Rebecca Daphne Hill\, and Sheila Newell\, all artists and members of the Truro Art Society. They all have a passion for art and are excited to share their works with you. \nThis is a drop in program. No registration is required.
URL:https://www.lovemylibrary.ca/event/women-artists-of-passion-an-exhibit-by-three-members-of-the-truro-art-society/
LOCATION:Truro Library\, 754 Prince St\, Truro\, Nova Scotia\, Canada
CATEGORIES:Location: Truro
ATTACH;FMTTYPE=image/png:https://www.lovemylibrary.ca/wp-content/uploads/2025/04/Untitled-design-2025-04-22T192156.106.png
END:VEVENT
BEGIN:VEVENT
DTSTART;TZID=America/Halifax:20250528T103000
DTEND;TZID=America/Halifax:20250528T110000
DTSTAMP:20260421T171623
CREATED:20240918T190337Z
LAST-MODIFIED:20250520T222943Z
UID:10011521-1748428200-1748430000@www.lovemylibrary.ca
SUMMARY:Storytime
DESCRIPTION:Enjoy a picture book read by Karri or Bernie and then participate in an activity. For pre-schoolers and home schoolers. \nThis is a drop-in program. No registration is required.
URL:https://www.lovemylibrary.ca/event/storytime-9/2025-05-28/
LOCATION:Mount Uniacke Library\, 555\, Highway 1\, Mount Uniacke\, Nova Scotia\, Canada
CATEGORIES:Events For Kids,Location: Mount Uniacke
ATTACH;FMTTYPE=image/png:https://www.lovemylibrary.ca/wp-content/uploads/2022/05/Untitled-design-2.png
END:VEVENT
BEGIN:VEVENT
DTSTART;TZID=America/Halifax:20250528T103000
DTEND;TZID=America/Halifax:20250528T123000
DTSTAMP:20260421T171623
CREATED:20250422T223902Z
LAST-MODIFIED:20250422T223902Z
UID:10011912-1748428200-1748435400@www.lovemylibrary.ca
SUMMARY:Mindfulness Activity Event
DESCRIPTION:Join us at the Elmsdale library to learn more about Mental Health Awareness Month. A Mental Health Outreach Social Worker.will be available for information\, advice and resources. Stop in for crafts\, colouring\, games\, or simply come in and relax with a book. All ages are welcome. \nFor more details\, please call 902-883-9838 or email at elmsdale@cehpubliclibrary.ca
URL:https://www.lovemylibrary.ca/event/mindfulness-activity-event/
LOCATION:Elmsdale Library\, 15 Commerce Ct\, Elmsdale\, Nova Scotia\, Canada
CATEGORIES:Location: Elmsdale
ATTACH;FMTTYPE=image/png:https://www.lovemylibrary.ca/wp-content/uploads/2025/04/Untitled-design-2025-04-22T194121.034.png
END:VEVENT
BEGIN:VEVENT
DTSTART;TZID=America/Halifax:20250528T130000
DTEND;TZID=America/Halifax:20250528T150000
DTSTAMP:20260421T171623
CREATED:20241125T140505Z
LAST-MODIFIED:20250524T132431Z
UID:10011885-1748437200-1748444400@www.lovemylibrary.ca
SUMMARY:Makers in the Maker Lab
DESCRIPTION:Calling all Makers! Drop by for a relaxing afternoon to hang out with fellow crafters. Bring along your ongoing projects like knitting\, crochet\, needlework\, painting or other hands on crafts. \nNo registration\, drop in.
URL:https://www.lovemylibrary.ca/event/makers-in-the-maker-lab-14-2/2025-05-28/
LOCATION:Truro Library\, 754 Prince St\, Truro\, Nova Scotia\, Canada
CATEGORIES:Crafting,Events For Adults,Events For Seniors,Location: Truro
ATTACH;FMTTYPE=image/png:https://www.lovemylibrary.ca/wp-content/uploads/2023/01/Untitled-design-2023-01-24T155257.327.png
END:VEVENT
BEGIN:VEVENT
DTSTART;TZID=America/Halifax:20250528T140000
DTEND;TZID=America/Halifax:20250528T160000
DTSTAMP:20260421T171623
CREATED:20250417T181643Z
LAST-MODIFIED:20260415T173925Z
UID:10011796-1748440800-1748448000@www.lovemylibrary.ca
SUMMARY:Social Café
DESCRIPTION:Are you retired\, new to the area\, or just looking to connect with some new people? We would love to see you and welcome you to the library! Light refreshments available. \nIn person\, drop in. For more details call us at (902) 883-9838 or email us at elmsdale@cehpubliclibrary.ca
URL:https://www.lovemylibrary.ca/event/social-cafe-5/2025-05-28/
LOCATION:Elmsdale Library\, 15 Commerce Ct\, Elmsdale\, Nova Scotia\, Canada
CATEGORIES:Events For Adults,Events For Seniors,Location: Elmsdale
ATTACH;FMTTYPE=image/png:https://www.lovemylibrary.ca/wp-content/uploads/2025/04/Untitled-design-2023-06-19T111314.785.png
END:VEVENT
BEGIN:VEVENT
DTSTART;TZID=America/Halifax:20250528T143000
DTEND;TZID=America/Halifax:20250528T163000
DTSTAMP:20260421T171623
CREATED:20250408T224727Z
LAST-MODIFIED:20250419T164211Z
UID:10011607-1748442600-1748449800@www.lovemylibrary.ca
SUMMARY:Route Six Jammers
DESCRIPTION:Hope to see you at the  Route Six Jammers meetup! Bring your instrument\, three songs (and their keys)\, and your voice. Be ready to lead a few tunes. No charge to join! \nThis is a drop in program. No registration is required.
URL:https://www.lovemylibrary.ca/event/music-night-route-six-jammers-4-2-2/2025-05-28/
LOCATION:Tatamagouche Library\, 170 Main Street\, Tatamagouche\, Nova Scotia\, Canada
CATEGORIES:Location: Tatamagouche
ATTACH;FMTTYPE=image/png:https://www.lovemylibrary.ca/wp-content/uploads/2024/09/Untitled-design-2024-09-26T164012.107.png
END:VEVENT
BEGIN:VEVENT
DTSTART;TZID=America/Halifax:20250528T150000
DTEND;TZID=America/Halifax:20250528T163000
DTSTAMP:20260421T171623
CREATED:20241213T191147Z
LAST-MODIFIED:20250509T192439Z
UID:10011377-1748444400-1748449800@www.lovemylibrary.ca
SUMMARY:Teen Room Drop In
DESCRIPTION:Come hang out! Grab a snack\, play our Nintendo Switch\, challenge your friends to a board game\, build with Lego\, or make art!  Ages 13-18 \nThis is a drop-in program. No registration is required.
URL:https://www.lovemylibrary.ca/event/teen-room-drop-in-5/2025-05-28/
LOCATION:Truro Library\, 754 Prince St\, Truro\, Nova Scotia\, Canada
CATEGORIES:Events For Teens,Location: Truro
ATTACH;FMTTYPE=image/png:https://www.lovemylibrary.ca/wp-content/uploads/2022/10/Untitled-design-53.png
END:VEVENT
END:VCALENDAR