BEGIN:VCALENDAR
VERSION:2.0
PRODID:-//Colchester East Hants Public Library - ECPv6.15.20//NONSGML v1.0//EN
CALSCALE:GREGORIAN
METHOD:PUBLISH
X-ORIGINAL-URL:https://www.lovemylibrary.ca
X-WR-CALDESC:Events for Colchester East Hants Public Library
REFRESH-INTERVAL;VALUE=DURATION:PT1H
X-Robots-Tag:noindex
X-PUBLISHED-TTL:PT1H
BEGIN:VTIMEZONE
TZID:America/Halifax
BEGIN:DAYLIGHT
TZOFFSETFROM:-0400
TZOFFSETTO:-0300
TZNAME:ADT
DTSTART:20240310T060000
END:DAYLIGHT
BEGIN:STANDARD
TZOFFSETFROM:-0300
TZOFFSETTO:-0400
TZNAME:AST
DTSTART:20241103T050000
END:STANDARD
BEGIN:DAYLIGHT
TZOFFSETFROM:-0400
TZOFFSETTO:-0300
TZNAME:ADT
DTSTART:20250309T060000
END:DAYLIGHT
BEGIN:STANDARD
TZOFFSETFROM:-0300
TZOFFSETTO:-0400
TZNAME:AST
DTSTART:20251102T050000
END:STANDARD
BEGIN:DAYLIGHT
TZOFFSETFROM:-0400
TZOFFSETTO:-0300
TZNAME:ADT
DTSTART:20260308T060000
END:DAYLIGHT
BEGIN:STANDARD
TZOFFSETFROM:-0300
TZOFFSETTO:-0400
TZNAME:AST
DTSTART:20261101T050000
END:STANDARD
END:VTIMEZONE
BEGIN:VEVENT
DTSTART;VALUE=DATE:20250702
DTEND;VALUE=DATE:20250831
DTSTAMP:20260421T042606
CREATED:20250704T180637Z
LAST-MODIFIED:20250704T180637Z
UID:10012393-1751414400-1756598399@www.lovemylibrary.ca
SUMMARY:Read Local Summer 2025: Adult Summer Reading Program
DESCRIPTION:Include NS authors and activities in your summer plans and earn ballots to win a great selection of prizes. Pick up a logbook at our Circulation and 2nd floor Info desks. \nFor adults. No registration required.
URL:https://www.lovemylibrary.ca/event/read-local-summer-2025-adult-summer-reading-program/
LOCATION:Truro Library\, 754 Prince St\, Truro\, Nova Scotia\, Canada
CATEGORIES:Events For Adults,Location: Elmsdale,Location: Mount Uniacke,Location: Stewiacke,Location: Tatamagouche,Location: Truro
ATTACH;FMTTYPE=image/png:https://www.lovemylibrary.ca/wp-content/uploads/2025/07/Read-Local-Summer-2025.png
END:VEVENT
BEGIN:VEVENT
DTSTART;TZID=America/Halifax:20250702T103000
DTEND;TZID=America/Halifax:20250702T113000
DTSTAMP:20260421T042606
CREATED:20250121T174225Z
LAST-MODIFIED:20251216T233710Z
UID:10012026-1751452200-1751455800@www.lovemylibrary.ca
SUMMARY:Storytime
DESCRIPTION:Join us for a fun-filled story time at the library! There will be stories\, maybe a song or two along with a craft. Ages 2 – 4. \nIn person\, drop in. Please call (902) 883-9838 or email us at elmsdale@cehpubliclibrary.ca for more details.\n 
URL:https://www.lovemylibrary.ca/event/storytime-11/2025-07-02/
LOCATION:Elmsdale Library\, 15 Commerce Ct\, Elmsdale\, Nova Scotia\, Canada
CATEGORIES:Events For Kids,Location: Elmsdale
ATTACH;FMTTYPE=image/png:https://www.lovemylibrary.ca/wp-content/uploads/2024/12/Untitled-design.png
END:VEVENT
BEGIN:VEVENT
DTSTART;TZID=America/Halifax:20250702T140000
DTEND;TZID=America/Halifax:20250702T153000
DTSTAMP:20260421T042607
CREATED:20250614T173014Z
LAST-MODIFIED:20250614T173014Z
UID:10012310-1751464800-1751470200@www.lovemylibrary.ca
SUMMARY:Mixed Media Art Day
DESCRIPTION:How artistic can you be? We provide all the supplies you need to be crafty and we can’t wait to see what you create! All ages are welcome to participate. \nPlease call at 902-883-9838 or email us at elmsdale@cehpubliclibrary.ca for more details
URL:https://www.lovemylibrary.ca/event/mixed-media-art-day/
LOCATION:Elmsdale Library\, 15 Commerce Ct\, Elmsdale\, Nova Scotia\, Canada
CATEGORIES:Crafting,Location: Elmsdale
ATTACH;FMTTYPE=image/png:https://www.lovemylibrary.ca/wp-content/uploads/2023/11/Untitled-design-57.png
END:VEVENT
BEGIN:VEVENT
DTSTART;TZID=America/Halifax:20250702T143000
DTEND;TZID=America/Halifax:20250702T153000
DTSTAMP:20260421T042607
CREATED:20240327T175008Z
LAST-MODIFIED:20250613T192346Z
UID:10007643-1751466600-1751470200@www.lovemylibrary.ca
SUMMARY:Escape Room
DESCRIPTION:At this escape room\, we’re going international! Discover clues\, decipher codes\, and solve puzzles. Can you beat the time and break out? For ages 8-14 \nThis is a drop in program. No registration is required\, but space is limited.
URL:https://www.lovemylibrary.ca/event/escape-room-3/
LOCATION:Truro Library\, 754 Prince St\, Truro\, Nova Scotia\, Canada
CATEGORIES:Events For Kids,Events For Teens,Location: Truro
ATTACH;FMTTYPE=image/png:https://www.lovemylibrary.ca/wp-content/uploads/2022/05/Untitled-design-2023-10-25T143452.130.png
END:VEVENT
END:VCALENDAR