BEGIN:VCALENDAR
VERSION:2.0
PRODID:-//Colchester East Hants Public Library - ECPv6.15.20//NONSGML v1.0//EN
CALSCALE:GREGORIAN
METHOD:PUBLISH
X-WR-CALNAME:Colchester East Hants Public Library
X-ORIGINAL-URL:https://www.lovemylibrary.ca
X-WR-CALDESC:Events for Colchester East Hants Public Library
REFRESH-INTERVAL;VALUE=DURATION:PT1H
X-Robots-Tag:noindex
X-PUBLISHED-TTL:PT1H
BEGIN:VTIMEZONE
TZID:America/Halifax
BEGIN:DAYLIGHT
TZOFFSETFROM:-0400
TZOFFSETTO:-0300
TZNAME:ADT
DTSTART:20240310T060000
END:DAYLIGHT
BEGIN:STANDARD
TZOFFSETFROM:-0300
TZOFFSETTO:-0400
TZNAME:AST
DTSTART:20241103T050000
END:STANDARD
BEGIN:DAYLIGHT
TZOFFSETFROM:-0400
TZOFFSETTO:-0300
TZNAME:ADT
DTSTART:20250309T060000
END:DAYLIGHT
BEGIN:STANDARD
TZOFFSETFROM:-0300
TZOFFSETTO:-0400
TZNAME:AST
DTSTART:20251102T050000
END:STANDARD
BEGIN:DAYLIGHT
TZOFFSETFROM:-0400
TZOFFSETTO:-0300
TZNAME:ADT
DTSTART:20260308T060000
END:DAYLIGHT
BEGIN:STANDARD
TZOFFSETFROM:-0300
TZOFFSETTO:-0400
TZNAME:AST
DTSTART:20261101T050000
END:STANDARD
END:VTIMEZONE
BEGIN:VEVENT
DTSTART;VALUE=DATE:20250702
DTEND;VALUE=DATE:20250831
DTSTAMP:20260421T025756
CREATED:20250704T180637Z
LAST-MODIFIED:20250704T180637Z
UID:10012393-1751414400-1756598399@www.lovemylibrary.ca
SUMMARY:Read Local Summer 2025: Adult Summer Reading Program
DESCRIPTION:Include NS authors and activities in your summer plans and earn ballots to win a great selection of prizes. Pick up a logbook at our Circulation and 2nd floor Info desks. \nFor adults. No registration required.
URL:https://www.lovemylibrary.ca/event/read-local-summer-2025-adult-summer-reading-program/
LOCATION:Truro Library\, 754 Prince St\, Truro\, Nova Scotia\, Canada
CATEGORIES:Events For Adults,Location: Elmsdale,Location: Mount Uniacke,Location: Stewiacke,Location: Tatamagouche,Location: Truro
ATTACH;FMTTYPE=image/png:https://www.lovemylibrary.ca/wp-content/uploads/2025/07/Read-Local-Summer-2025.png
END:VEVENT
BEGIN:VEVENT
DTSTART;VALUE=DATE:20250712
DTEND;VALUE=DATE:20250826
DTSTAMP:20260421T025756
CREATED:20250704T182531Z
LAST-MODIFIED:20250801T174914Z
UID:10012395-1752278400-1756166399@www.lovemylibrary.ca
SUMMARY:Fragments: An Art Exhibition by Hanna Petrikina
DESCRIPTION:In this series of three paintings\, Hanna Petrikina invites you to step into her lens and experience the world the way she does\, in fragments. Like random objects at a flea market that end up together by chance\, she saw patterns where others saw chaos. A stray piece of overheard folklore\, a desire to intentionally break the standard–that’s where her art begins. \nAll ages. In person. 2nd floor exhibition area. Drop-in.
URL:https://www.lovemylibrary.ca/event/fragments-an-art-exhibition-by-hanna-petrikina/
LOCATION:Truro Library\, 754 Prince St\, Truro\, Nova Scotia\, Canada
CATEGORIES:Events For Adults,Events For Kids,Events For Seniors,Events For Teens,Location: Truro
ATTACH;FMTTYPE=image/png:https://www.lovemylibrary.ca/wp-content/uploads/2025/07/Untitled-design-29.png
END:VEVENT
BEGIN:VEVENT
DTSTART;TZID=America/Halifax:20250723T103000
DTEND;TZID=America/Halifax:20250723T113000
DTSTAMP:20260421T025756
CREATED:20250523T194134Z
LAST-MODIFIED:20251120T190650Z
UID:10012377-1753266600-1753270200@www.lovemylibrary.ca
SUMMARY:Parents and Tots Story Time and Crafts
DESCRIPTION:Come along and enjoy an hour of fun filled story time and craft.  For ages 0+ \nDrop-in\, no registration required.
URL:https://www.lovemylibrary.ca/event/tots-and-moms-social-time-3-2-2-2-2-2/2025-07-23/
LOCATION:Tatamagouche Library\, 170 Main Street\, Tatamagouche\, Nova Scotia\, Canada
CATEGORIES:Events For Kids,Location: Tatamagouche
ATTACH;FMTTYPE=image/png:https://www.lovemylibrary.ca/wp-content/uploads/2022/03/Untitled-design-75.png
END:VEVENT
BEGIN:VEVENT
DTSTART;TZID=America/Halifax:20250723T140000
DTEND;TZID=America/Halifax:20250723T160000
DTSTAMP:20260421T025756
CREATED:20250417T181643Z
LAST-MODIFIED:20260415T173925Z
UID:10012234-1753279200-1753286400@www.lovemylibrary.ca
SUMMARY:Social Café
DESCRIPTION:Are you retired\, new to the area\, or just looking to connect with some new people? We would love to see you and welcome you to the library! Light refreshments available. \nIn person\, drop in. For more details call us at (902) 883-9838 or email us at elmsdale@cehpubliclibrary.ca
URL:https://www.lovemylibrary.ca/event/social-cafe-5/2025-07-23/
LOCATION:Elmsdale Library\, 15 Commerce Ct\, Elmsdale\, Nova Scotia\, Canada
CATEGORIES:Events For Adults,Events For Seniors,Location: Elmsdale
ATTACH;FMTTYPE=image/png:https://www.lovemylibrary.ca/wp-content/uploads/2025/04/Untitled-design-2023-06-19T111314.785.png
END:VEVENT
BEGIN:VEVENT
DTSTART;TZID=America/Halifax:20250723T143000
DTEND;TZID=America/Halifax:20250723T153000
DTSTAMP:20260421T025756
CREATED:20250616T153038Z
LAST-MODIFIED:20250616T153038Z
UID:10012359-1753281000-1753284600@www.lovemylibrary.ca
SUMMARY:Adventure Express
DESCRIPTION:Are you ready for an adventure? Come along as we explore the world without leaving the library. Stories and snacks and crafts\, oh my! For ages 5-12 \nJuly 9 –  Welcome to the Antarctic \nJuly 16 – Welcome to the Jungle \nJuly 23- Welcome to the Savanna \nThis is a drop in program. No registration is required.
URL:https://www.lovemylibrary.ca/event/adventure-express-2/2025-07-23/
LOCATION:Truro Library\, 754 Prince St\, Truro\, Nova Scotia\, Canada
CATEGORIES:Events For Kids,Location: Truro
ATTACH;FMTTYPE=image/png:https://www.lovemylibrary.ca/wp-content/uploads/2025/06/Untitled-design-2025-06-16T123138.125.png
END:VEVENT
END:VCALENDAR