BEGIN:VCALENDAR
VERSION:2.0
PRODID:-//Colchester East Hants Public Library - ECPv6.15.20//NONSGML v1.0//EN
CALSCALE:GREGORIAN
METHOD:PUBLISH
X-WR-CALNAME:Colchester East Hants Public Library
X-ORIGINAL-URL:https://www.lovemylibrary.ca
X-WR-CALDESC:Events for Colchester East Hants Public Library
REFRESH-INTERVAL;VALUE=DURATION:PT1H
X-Robots-Tag:noindex
X-PUBLISHED-TTL:PT1H
BEGIN:VTIMEZONE
TZID:America/Halifax
BEGIN:DAYLIGHT
TZOFFSETFROM:-0400
TZOFFSETTO:-0300
TZNAME:ADT
DTSTART:20240310T060000
END:DAYLIGHT
BEGIN:STANDARD
TZOFFSETFROM:-0300
TZOFFSETTO:-0400
TZNAME:AST
DTSTART:20241103T050000
END:STANDARD
BEGIN:DAYLIGHT
TZOFFSETFROM:-0400
TZOFFSETTO:-0300
TZNAME:ADT
DTSTART:20250309T060000
END:DAYLIGHT
BEGIN:STANDARD
TZOFFSETFROM:-0300
TZOFFSETTO:-0400
TZNAME:AST
DTSTART:20251102T050000
END:STANDARD
BEGIN:DAYLIGHT
TZOFFSETFROM:-0400
TZOFFSETTO:-0300
TZNAME:ADT
DTSTART:20260308T060000
END:DAYLIGHT
BEGIN:STANDARD
TZOFFSETFROM:-0300
TZOFFSETTO:-0400
TZNAME:AST
DTSTART:20261101T050000
END:STANDARD
END:VTIMEZONE
BEGIN:VEVENT
DTSTART;VALUE=DATE:20250702
DTEND;VALUE=DATE:20250831
DTSTAMP:20260420T141248
CREATED:20250704T180637Z
LAST-MODIFIED:20250704T180637Z
UID:10012393-1751414400-1756598399@www.lovemylibrary.ca
SUMMARY:Read Local Summer 2025: Adult Summer Reading Program
DESCRIPTION:Include NS authors and activities in your summer plans and earn ballots to win a great selection of prizes. Pick up a logbook at our Circulation and 2nd floor Info desks. \nFor adults. No registration required.
URL:https://www.lovemylibrary.ca/event/read-local-summer-2025-adult-summer-reading-program/
LOCATION:Truro Library\, 754 Prince St\, Truro\, Nova Scotia\, Canada
CATEGORIES:Events For Adults,Location: Elmsdale,Location: Mount Uniacke,Location: Stewiacke,Location: Tatamagouche,Location: Truro
ATTACH;FMTTYPE=image/png:https://www.lovemylibrary.ca/wp-content/uploads/2025/07/Read-Local-Summer-2025.png
END:VEVENT
BEGIN:VEVENT
DTSTART;VALUE=DATE:20250712
DTEND;VALUE=DATE:20250826
DTSTAMP:20260420T141248
CREATED:20250704T182531Z
LAST-MODIFIED:20250801T174914Z
UID:10012395-1752278400-1756166399@www.lovemylibrary.ca
SUMMARY:Fragments: An Art Exhibition by Hanna Petrikina
DESCRIPTION:In this series of three paintings\, Hanna Petrikina invites you to step into her lens and experience the world the way she does\, in fragments. Like random objects at a flea market that end up together by chance\, she saw patterns where others saw chaos. A stray piece of overheard folklore\, a desire to intentionally break the standard–that’s where her art begins. \nAll ages. In person. 2nd floor exhibition area. Drop-in.
URL:https://www.lovemylibrary.ca/event/fragments-an-art-exhibition-by-hanna-petrikina/
LOCATION:Truro Library\, 754 Prince St\, Truro\, Nova Scotia\, Canada
CATEGORIES:Events For Adults,Events For Kids,Events For Seniors,Events For Teens,Location: Truro
ATTACH;FMTTYPE=image/png:https://www.lovemylibrary.ca/wp-content/uploads/2025/07/Untitled-design-29.png
END:VEVENT
BEGIN:VEVENT
DTSTART;TZID=America/Halifax:20250725T100000
DTEND;TZID=America/Halifax:20250725T120000
DTSTAMP:20260420T141248
CREATED:20250417T174051Z
LAST-MODIFIED:20260415T173232Z
UID:10012239-1753437600-1753444800@www.lovemylibrary.ca
SUMMARY:One on One Tech Help
DESCRIPTION:Issues with your phone? Laptop? Social Media? Meet in-person with our digital literacy trainer to get your tech questions answered. \nDrop in – please call (902) 883-9838 or email us at elmsdale@cehpubliclibrary.ca for more details.
URL:https://www.lovemylibrary.ca/event/one-on-one-tech-help-7-2-2-2-2/2025-07-25/
LOCATION:Elmsdale Library\, 15 Commerce Ct\, Elmsdale\, Nova Scotia\, Canada
CATEGORIES:Events For Adults,Location: Elmsdale
ATTACH;FMTTYPE=image/png:https://www.lovemylibrary.ca/wp-content/uploads/2022/03/Untitled-design-80.png
END:VEVENT
BEGIN:VEVENT
DTSTART;TZID=America/Halifax:20250725T103000
DTEND;TZID=America/Halifax:20250725T113000
DTSTAMP:20260420T141248
CREATED:20250613T193603Z
LAST-MODIFIED:20250616T145152Z
UID:10012249-1753439400-1753443000@www.lovemylibrary.ca
SUMMARY:Fun with Food
DESCRIPTION:Do you like to try new foods? Learn about different foods from around the world through story\, hands-on prep\, and tastings. For ages 8-12 \nTo register: email info@cehpubliclibrary.ca
URL:https://www.lovemylibrary.ca/event/fun-with-food/2025-07-25/
LOCATION:Truro Library\, 754 Prince St\, Truro\, Nova Scotia\, Canada
ATTACH;FMTTYPE=image/png:https://www.lovemylibrary.ca/wp-content/uploads/2025/06/Untitled-design-2025-06-13T163806.731.png
END:VEVENT
BEGIN:VEVENT
DTSTART;TZID=America/Halifax:20250725T110000
DTEND;TZID=America/Halifax:20250725T120000
DTSTAMP:20260420T141248
CREATED:20250614T174429Z
LAST-MODIFIED:20250614T174429Z
UID:10012315-1753441200-1753444800@www.lovemylibrary.ca
SUMMARY:Read-in Hour
DESCRIPTION:Need some peace and quiet to work through your Summer Reading Club books? We’ve got you covered! Join us every week for an SRC check-in and some dedicated reading time! For kids and teens. \nThis is a drop in program. Please call at 902-883-9838 or email us at elmsdale@cehpubliclibrary.ca for more details
URL:https://www.lovemylibrary.ca/event/read-in-hour/2025-07-25/
LOCATION:Elmsdale Library\, 15 Commerce Ct\, Elmsdale\, Nova Scotia\, Canada
CATEGORIES:Events For Kids,Events For Teens,Location: Elmsdale
ATTACH;FMTTYPE=image/png:https://www.lovemylibrary.ca/wp-content/uploads/2025/06/Untitled-design-2025-06-14T144655.122.png
END:VEVENT
BEGIN:VEVENT
DTSTART;TZID=America/Halifax:20250725T120000
DTEND;TZID=America/Halifax:20250725T130000
DTSTAMP:20260420T141248
CREATED:20250717T171604Z
LAST-MODIFIED:20250717T171604Z
UID:10012449-1753444800-1753448400@www.lovemylibrary.ca
SUMMARY:Great Train Journey
DESCRIPTION:Join us each week as we visit a new city around the world through crafts\, stories\, snacks\, and fun. One stop every week for 6 weeks — no passport required\, just imagination! For ages 7-12 \nPre register in person or by phone 902 – 657-3064 or email: tatamago@cehpubliclibrary.ca
URL:https://www.lovemylibrary.ca/event/great-train-journey/2025-07-25/
LOCATION:Tatamagouche Library\, 170 Main Street\, Tatamagouche\, Nova Scotia\, Canada
CATEGORIES:Events For Kids,Location: Tatamagouche
ATTACH;FMTTYPE=image/png:https://www.lovemylibrary.ca/wp-content/uploads/2025/07/Untitled-design-2025-07-17T141927.082.png
END:VEVENT
BEGIN:VEVENT
DTSTART;TZID=America/Halifax:20250725T130000
DTEND;TZID=America/Halifax:20250725T143000
DTSTAMP:20260420T141248
CREATED:20240916T151310Z
LAST-MODIFIED:20250809T171947Z
UID:10012230-1753448400-1753453800@www.lovemylibrary.ca
SUMMARY:Scrabble Squad
DESCRIPTION:What spells F-U-N? Playing Scrabble with friends! All adults welcome. \nThis is a drop-in program. No registration is required.
URL:https://www.lovemylibrary.ca/event/scrabble-squad-5/2025-07-25/
LOCATION:Stewiacke Library\, 295 George Street\, Stewiacke\, Nova Scotia\, Canada
CATEGORIES:Events For Adults,Events For Seniors,Location: Stewiacke
ATTACH;FMTTYPE=image/png:https://www.lovemylibrary.ca/wp-content/uploads/2022/05/Add-a-subheading-700-×-500-px-3.png
END:VEVENT
END:VCALENDAR