BEGIN:VCALENDAR
VERSION:2.0
PRODID:-//Colchester East Hants Public Library - ECPv6.15.20//NONSGML v1.0//EN
CALSCALE:GREGORIAN
METHOD:PUBLISH
X-ORIGINAL-URL:https://www.lovemylibrary.ca
X-WR-CALDESC:Events for Colchester East Hants Public Library
REFRESH-INTERVAL;VALUE=DURATION:PT1H
X-Robots-Tag:noindex
X-PUBLISHED-TTL:PT1H
BEGIN:VTIMEZONE
TZID:America/Halifax
BEGIN:DAYLIGHT
TZOFFSETFROM:-0400
TZOFFSETTO:-0300
TZNAME:ADT
DTSTART:20240310T060000
END:DAYLIGHT
BEGIN:STANDARD
TZOFFSETFROM:-0300
TZOFFSETTO:-0400
TZNAME:AST
DTSTART:20241103T050000
END:STANDARD
BEGIN:DAYLIGHT
TZOFFSETFROM:-0400
TZOFFSETTO:-0300
TZNAME:ADT
DTSTART:20250309T060000
END:DAYLIGHT
BEGIN:STANDARD
TZOFFSETFROM:-0300
TZOFFSETTO:-0400
TZNAME:AST
DTSTART:20251102T050000
END:STANDARD
BEGIN:DAYLIGHT
TZOFFSETFROM:-0400
TZOFFSETTO:-0300
TZNAME:ADT
DTSTART:20260308T060000
END:DAYLIGHT
BEGIN:STANDARD
TZOFFSETFROM:-0300
TZOFFSETTO:-0400
TZNAME:AST
DTSTART:20261101T050000
END:STANDARD
END:VTIMEZONE
BEGIN:VEVENT
DTSTART;VALUE=DATE:20250702
DTEND;VALUE=DATE:20250831
DTSTAMP:20260421T211654
CREATED:20250704T180637Z
LAST-MODIFIED:20250704T180637Z
UID:10012393-1751414400-1756598399@www.lovemylibrary.ca
SUMMARY:Read Local Summer 2025: Adult Summer Reading Program
DESCRIPTION:Include NS authors and activities in your summer plans and earn ballots to win a great selection of prizes. Pick up a logbook at our Circulation and 2nd floor Info desks. \nFor adults. No registration required.
URL:https://www.lovemylibrary.ca/event/read-local-summer-2025-adult-summer-reading-program/
LOCATION:Truro Library\, 754 Prince St\, Truro\, Nova Scotia\, Canada
CATEGORIES:Events For Adults,Location: Elmsdale,Location: Mount Uniacke,Location: Stewiacke,Location: Tatamagouche,Location: Truro
ATTACH;FMTTYPE=image/png:https://www.lovemylibrary.ca/wp-content/uploads/2025/07/Read-Local-Summer-2025.png
END:VEVENT
BEGIN:VEVENT
DTSTART;VALUE=DATE:20250712
DTEND;VALUE=DATE:20250826
DTSTAMP:20260421T211654
CREATED:20250704T182531Z
LAST-MODIFIED:20250801T174914Z
UID:10012395-1752278400-1756166399@www.lovemylibrary.ca
SUMMARY:Fragments: An Art Exhibition by Hanna Petrikina
DESCRIPTION:In this series of three paintings\, Hanna Petrikina invites you to step into her lens and experience the world the way she does\, in fragments. Like random objects at a flea market that end up together by chance\, she saw patterns where others saw chaos. A stray piece of overheard folklore\, a desire to intentionally break the standard–that’s where her art begins. \nAll ages. In person. 2nd floor exhibition area. Drop-in.
URL:https://www.lovemylibrary.ca/event/fragments-an-art-exhibition-by-hanna-petrikina/
LOCATION:Truro Library\, 754 Prince St\, Truro\, Nova Scotia\, Canada
CATEGORIES:Events For Adults,Events For Kids,Events For Seniors,Events For Teens,Location: Truro
ATTACH;FMTTYPE=image/png:https://www.lovemylibrary.ca/wp-content/uploads/2025/07/Untitled-design-29.png
END:VEVENT
BEGIN:VEVENT
DTSTART;VALUE=DATE:20250801
DTEND;VALUE=DATE:20260101
DTSTAMP:20260421T211654
CREATED:20250801T181420Z
LAST-MODIFIED:20250801T181504Z
UID:10012468-1754006400-1767225599@www.lovemylibrary.ca
SUMMARY:Offering Wireless Printing
DESCRIPTION:We now offer wireless printing directly from your personal device. Cost for printing services is 0.20 cents per black and white page\, and 0.50 cents per colour page.
URL:https://www.lovemylibrary.ca/event/offering-wireless-printing/
LOCATION:Truro Library\, 754 Prince St\, Truro\, Nova Scotia\, Canada
CATEGORIES:Location: Truro
ATTACH;FMTTYPE=image/png:https://www.lovemylibrary.ca/wp-content/uploads/2025/08/Untitled-design-31.png
END:VEVENT
BEGIN:VEVENT
DTSTART;TZID=America/Halifax:20250807T100000
DTEND;TZID=America/Halifax:20250807T120000
DTSTAMP:20260421T211654
CREATED:20250705T133726Z
LAST-MODIFIED:20250705T133837Z
UID:10012396-1754560800-1754568000@www.lovemylibrary.ca
SUMMARY:Maker Lab Open Hours
DESCRIPTION:Curious about the Maker Lab? Come on in and explore. Program robots\, create circuits\, build with magnetic tiles\, and more! All ages are welcome \nThis is a drop in program. No registration is required.
URL:https://www.lovemylibrary.ca/event/maker-lab-fun-time-8-2/2025-08-07/
LOCATION:Truro Library\, 754 Prince St\, Truro\, Nova Scotia\, Canada
CATEGORIES:Events For Kids,Location: Truro
ATTACH;FMTTYPE=image/png:https://www.lovemylibrary.ca/wp-content/uploads/2023/09/Untitled-design-2023-09-29T143321.527.png
END:VEVENT
BEGIN:VEVENT
DTSTART;TZID=America/Halifax:20250807T100000
DTEND;TZID=America/Halifax:20250807T120000
DTSTAMP:20260421T211654
CREATED:20250711T194407Z
LAST-MODIFIED:20250711T194407Z
UID:10012430-1754560800-1754568000@www.lovemylibrary.ca
SUMMARY:75th Anniversary Celebration
DESCRIPTION:It’s Colchester-East Hants Public Library’s diamond jubilee and we are having a party! Join us for our special musical guest\, Mary Beth Carty! There will be cake\, door prizes\, and more!
URL:https://www.lovemylibrary.ca/event/75th-anniversary-celebration/
LOCATION:Elmsdale Library\, 15 Commerce Ct\, Elmsdale\, Nova Scotia\, Canada
ATTACH;FMTTYPE=image/png:https://www.lovemylibrary.ca/wp-content/uploads/2025/07/Images-for-75th-anniversary-web-events.png
END:VEVENT
BEGIN:VEVENT
DTSTART;TZID=America/Halifax:20250807T140000
DTEND;TZID=America/Halifax:20250807T150000
DTSTAMP:20260421T211654
CREATED:20250723T195655Z
LAST-MODIFIED:20250723T195655Z
UID:10012458-1754575200-1754578800@www.lovemylibrary.ca
SUMMARY:Tote painting for kids
DESCRIPTION:Get creative and design your own one-of-a-kind tote bag! We’ll provide the bags\, paints\, and inspiration—you bring the fun. Perfect for all ages and skill levels. For ages 8-12 \nPre register in person or by phone 902 – 657-3064 or email: tatamago@cehpubliclibrary.ca
URL:https://www.lovemylibrary.ca/event/tote-painting-for-kids/
LOCATION:Tatamagouche Library\, 170 Main Street\, Tatamagouche\, Nova Scotia\, Canada
CATEGORIES:Crafting,Events For Kids,Location: Tatamagouche
ATTACH;FMTTYPE=image/png:https://www.lovemylibrary.ca/wp-content/uploads/2025/07/Untitled-design-2025-07-23T170032.656.png
END:VEVENT
BEGIN:VEVENT
DTSTART;TZID=America/Halifax:20250807T143000
DTEND;TZID=America/Halifax:20250807T153000
DTSTAMP:20260421T211654
CREATED:20250705T145246Z
LAST-MODIFIED:20250705T145246Z
UID:10012403-1754577000-1754580600@www.lovemylibrary.ca
SUMMARY:Sharing the Planet: Wildflower Seed Balls
DESCRIPTION:Join local author Amanda Oberswain in making wildflower seed balls as she reads excerpts from her book “Sharing the Planet”.  For ages 5 and up. \nThis is a drop in program. No registration is required.
URL:https://www.lovemylibrary.ca/event/sharing-the-planet-wildflower-seed-balls/
LOCATION:Truro Library\, 754 Prince St\, Truro\, Nova Scotia\, Canada
CATEGORIES:Location: Truro
ATTACH;FMTTYPE=image/png:https://www.lovemylibrary.ca/wp-content/uploads/2025/07/Untitled-design-2025-07-05T115553.920.png
END:VEVENT
END:VCALENDAR