BEGIN:VCALENDAR
VERSION:2.0
PRODID:-//Colchester East Hants Public Library - ECPv6.15.20//NONSGML v1.0//EN
CALSCALE:GREGORIAN
METHOD:PUBLISH
X-ORIGINAL-URL:https://www.lovemylibrary.ca
X-WR-CALDESC:Events for Colchester East Hants Public Library
REFRESH-INTERVAL;VALUE=DURATION:PT1H
X-Robots-Tag:noindex
X-PUBLISHED-TTL:PT1H
BEGIN:VTIMEZONE
TZID:America/Halifax
BEGIN:DAYLIGHT
TZOFFSETFROM:-0400
TZOFFSETTO:-0300
TZNAME:ADT
DTSTART:20240310T060000
END:DAYLIGHT
BEGIN:STANDARD
TZOFFSETFROM:-0300
TZOFFSETTO:-0400
TZNAME:AST
DTSTART:20241103T050000
END:STANDARD
BEGIN:DAYLIGHT
TZOFFSETFROM:-0400
TZOFFSETTO:-0300
TZNAME:ADT
DTSTART:20250309T060000
END:DAYLIGHT
BEGIN:STANDARD
TZOFFSETFROM:-0300
TZOFFSETTO:-0400
TZNAME:AST
DTSTART:20251102T050000
END:STANDARD
BEGIN:DAYLIGHT
TZOFFSETFROM:-0400
TZOFFSETTO:-0300
TZNAME:ADT
DTSTART:20260308T060000
END:DAYLIGHT
BEGIN:STANDARD
TZOFFSETFROM:-0300
TZOFFSETTO:-0400
TZNAME:AST
DTSTART:20261101T050000
END:STANDARD
END:VTIMEZONE
BEGIN:VEVENT
DTSTART;VALUE=DATE:20250801
DTEND;VALUE=DATE:20260101
DTSTAMP:20260420T050219
CREATED:20250801T181420Z
LAST-MODIFIED:20250801T181504Z
UID:10012468-1754006400-1767225599@www.lovemylibrary.ca
SUMMARY:Offering Wireless Printing
DESCRIPTION:We now offer wireless printing directly from your personal device. Cost for printing services is 0.20 cents per black and white page\, and 0.50 cents per colour page.
URL:https://www.lovemylibrary.ca/event/offering-wireless-printing/
LOCATION:Truro Library\, 754 Prince St\, Truro\, Nova Scotia\, Canada
CATEGORIES:Location: Truro
ATTACH;FMTTYPE=image/png:https://www.lovemylibrary.ca/wp-content/uploads/2025/08/Untitled-design-31.png
END:VEVENT
BEGIN:VEVENT
DTSTART;VALUE=DATE:20250902
DTEND;VALUE=DATE:20251101
DTSTAMP:20260420T050219
CREATED:20241121T160434Z
LAST-MODIFIED:20260119T175716Z
UID:10010202-1756771200-1761955140@www.lovemylibrary.ca
SUMMARY:Tech Help by Appointment
DESCRIPTION:Bring your own device or use one of our computers. This program covers: eReaders/ebooks\, basic computer navigation\, basic app use\, basic cellphone use\, basic tablet use\, general internet instruction\, research and using library electronic resources. All ages are welcome. \nRegister: stewiacke@cehpubliclibrary.ca
URL:https://www.lovemylibrary.ca/event/tech-help-by-appointment-4/
LOCATION:Stewiacke Library\, 295 George Street\, Stewiacke\, Nova Scotia\, Canada
CATEGORIES:Events For Adults,Location: Stewiacke
ATTACH;FMTTYPE=image/jpeg:https://www.lovemylibrary.ca/wp-content/uploads/2021/08/11.jpg
END:VEVENT
BEGIN:VEVENT
DTSTART;VALUE=DATE:20250912
DTEND;VALUE=DATE:20251031
DTSTAMP:20260420T050219
CREATED:20250829T193543Z
LAST-MODIFIED:20250905T184655Z
UID:10012888-1757635200-1761868799@www.lovemylibrary.ca
SUMMARY:Msit No'kmaq\, All My Relations: Art Exhibit by Lorne Julien
DESCRIPTION:Lorne Julien is a proud Mi’kmaw artist and member of Millbrook First Nation\, We’kopekitk\, Nova Scotia. He specializes in contemporary Indigenous acrylic paintings and murals. He believes that incorporating Indigenous art in public spaces is a simple act of reconciliation and moving forward in a spirit of mutual respect and understanding. His intention is to inspire hope and balance within the universe. This series of paintings features animals of significance to Mi’kmaw people and highlights connection to the natural world. it is made possible through funding by Arts Nova Scotia’s Mi’kmaq Arts Grant. \nDrop-in
URL:https://www.lovemylibrary.ca/event/msit-nokmaq-all-my-relations-art-exhibit-by-lorne-julien/
LOCATION:Truro Library\, 754 Prince St\, Truro\, Nova Scotia\, Canada
CATEGORIES:Events For Adults,Events For Kids,Events For Seniors,Events For Teens,Location: Truro
ATTACH;FMTTYPE=image/png:https://www.lovemylibrary.ca/wp-content/uploads/2025/08/Untitled-design-40.png
END:VEVENT
BEGIN:VEVENT
DTSTART;TZID=America/Halifax:20250925T100000
DTEND;TZID=America/Halifax:20250925T113000
DTSTAMP:20260420T050219
CREATED:20250905T182110Z
LAST-MODIFIED:20251029T205726Z
UID:10013061-1758794400-1758799800@www.lovemylibrary.ca
SUMMARY:Tech Help: Drop-in Session
DESCRIPTION:Experiencing tech troubles with your phone\, tablet\, computer\, or the library computers? Would you like to learn how to access FREE eBooks\, audiobooks\, movies\, and music online using your library card? Take advantage of our free tech help to solve your problems and become more comfortable with the digital world. \nAdults. In-person. Drop in: no registration required.
URL:https://www.lovemylibrary.ca/event/tech-help-drop-in-session/2025-09-25/
LOCATION:Truro Library\, 754 Prince St\, Truro\, Nova Scotia\, Canada
CATEGORIES:Events For Adults,Location: Truro
ATTACH;FMTTYPE=image/png:https://www.lovemylibrary.ca/wp-content/uploads/2025/09/Untitled-design-41.png
END:VEVENT
BEGIN:VEVENT
DTSTART;TZID=America/Halifax:20250925T100000
DTEND;TZID=America/Halifax:20250925T130000
DTSTAMP:20260420T050219
CREATED:20250905T185327Z
LAST-MODIFIED:20250917T150043Z
UID:10013114-1758794400-1758805200@www.lovemylibrary.ca
SUMMARY:Day of Caring
DESCRIPTION:Federal and provincial departments and community organizations will be on-site to offer easy access to programs and services to those who are unhoused\, at rick of being unhoused\, and/or underserved. Services will include access to Birth Certificates\, Provincial ID\, Driver’s Licenses\, Employment Support\, Income Assistance\, Employment Insurance (EI)\, Canada Pension Plan (CPP)\, Old Age Security (OAS)\, the Canada Dental Care Plan (CDCP)\, taxes\, and CRA benefits. \nAdults. In-person. Drop in: no registration required.
URL:https://www.lovemylibrary.ca/event/day-of-caring-2/
LOCATION:Truro Library\, 754 Prince St\, Truro\, Nova Scotia\, Canada
CATEGORIES:Events For Adults,Location: Truro
ATTACH;FMTTYPE=image/png:https://www.lovemylibrary.ca/wp-content/uploads/2025/09/Day-of-Caring.png
END:VEVENT
BEGIN:VEVENT
DTSTART;TZID=America/Halifax:20250925T103000
DTEND;TZID=America/Halifax:20250925T110000
DTSTAMP:20260420T050219
CREATED:20250815T135736Z
LAST-MODIFIED:20260117T200751Z
UID:10012540-1758796200-1758798000@www.lovemylibrary.ca
SUMMARY:Baby Rhyme Time
DESCRIPTION:Bring your little one to Baby Rhyme Time—a fun\, interactive session filled with songs\, rhymes\, and snuggly story moments. Perfect for babies and their caregivers! Infant-2 years old with a caregiver \nThis is a drop in program. No registration is required.
URL:https://www.lovemylibrary.ca/event/baby-rhyme-time-7-2-2-2-2/2025-09-25/
LOCATION:Stewiacke Library\, 295 George Street\, Stewiacke\, Nova Scotia\, Canada
CATEGORIES:Events For Kids,Location: Stewiacke
ATTACH;FMTTYPE=image/png:https://www.lovemylibrary.ca/wp-content/uploads/2022/03/Untitled-design-75.png
END:VEVENT
BEGIN:VEVENT
DTSTART;TZID=America/Halifax:20250925T103000
DTEND;TZID=America/Halifax:20250925T123000
DTSTAMP:20260420T050219
CREATED:20250905T184306Z
LAST-MODIFIED:20260401T152251Z
UID:10013118-1758796200-1758803400@www.lovemylibrary.ca
SUMMARY:Drop-in Housing Outreach Services with Housing Outreach Society
DESCRIPTION:Workers from the Truro Housing Outreach Society will be at the library to offer housing and outreach support services for folks experiencing homelessness and/or housing insecurity. This can include access to survival supplies\, client case management and care plans\, assistance with rental and subsidy applications\, sending paperwork to agencies\, and interfacing with landlords. \nAdults. In-person. Drop-in: no registration required.
URL:https://www.lovemylibrary.ca/event/drop-in-housing-outreach-services-with-housing-outreach-society/2025-09-25/
LOCATION:Truro Library\, 754 Prince St\, Truro\, Nova Scotia\, Canada
CATEGORIES:Events For Adults,Location: Truro
ATTACH;FMTTYPE=image/png:https://www.lovemylibrary.ca/wp-content/uploads/2025/08/Untitled-design-39.png
END:VEVENT
BEGIN:VEVENT
DTSTART;TZID=America/Halifax:20250925T110000
DTEND;TZID=America/Halifax:20250925T112000
DTSTAMP:20260420T050219
CREATED:20250820T135034Z
LAST-MODIFIED:20260414T165957Z
UID:10012793-1758798000-1758799200@www.lovemylibrary.ca
SUMMARY:Tales for Tots
DESCRIPTION:Join us Thursday mornings in the Big Brothers Big Sisters Room for stories\, songs\, and activities that are just right for terrific toddlers! \n18 months-4 years with a parent/caregiver. \nDrop-in\, no registration required.
URL:https://www.lovemylibrary.ca/event/tales-for-tots-2-2-2-2-2/2025-09-25/
LOCATION:Truro Library\, 754 Prince St\, Truro\, Nova Scotia\, Canada
CATEGORIES:Events For Kids,Location: Truro
ATTACH;FMTTYPE=image/png:https://www.lovemylibrary.ca/wp-content/uploads/2022/03/Untitled-design-81.png
END:VEVENT
BEGIN:VEVENT
DTSTART;TZID=America/Halifax:20250925T150000
DTEND;TZID=America/Halifax:20250925T163000
DTSTAMP:20260420T050219
CREATED:20250820T135426Z
LAST-MODIFIED:20260203T193209Z
UID:10012804-1758812400-1758817800@www.lovemylibrary.ca
SUMMARY:Teen Room Drop In
DESCRIPTION:Come hang out! Grab a snack\, play our Nintendo Switch\, challenge your friends to a board game\, build with Lego\, or make art!  Ages 13-18 \nThis is a drop-in program. No registration is required.
URL:https://www.lovemylibrary.ca/event/teen-room-drop-in-5-2/2025-09-25/
LOCATION:Truro Library\, 754 Prince St\, Truro\, Nova Scotia\, Canada
CATEGORIES:Events For Teens,Location: Truro
ATTACH;FMTTYPE=image/png:https://www.lovemylibrary.ca/wp-content/uploads/2022/10/Untitled-design-53.png
END:VEVENT
END:VCALENDAR