BEGIN:VCALENDAR
VERSION:2.0
PRODID:-//Colchester East Hants Public Library - ECPv6.15.20//NONSGML v1.0//EN
CALSCALE:GREGORIAN
METHOD:PUBLISH
X-WR-CALNAME:Colchester East Hants Public Library
X-ORIGINAL-URL:https://www.lovemylibrary.ca
X-WR-CALDESC:Events for Colchester East Hants Public Library
REFRESH-INTERVAL;VALUE=DURATION:PT1H
X-Robots-Tag:noindex
X-PUBLISHED-TTL:PT1H
BEGIN:VTIMEZONE
TZID:America/Halifax
BEGIN:DAYLIGHT
TZOFFSETFROM:-0400
TZOFFSETTO:-0300
TZNAME:ADT
DTSTART:20240310T060000
END:DAYLIGHT
BEGIN:STANDARD
TZOFFSETFROM:-0300
TZOFFSETTO:-0400
TZNAME:AST
DTSTART:20241103T050000
END:STANDARD
BEGIN:DAYLIGHT
TZOFFSETFROM:-0400
TZOFFSETTO:-0300
TZNAME:ADT
DTSTART:20250309T060000
END:DAYLIGHT
BEGIN:STANDARD
TZOFFSETFROM:-0300
TZOFFSETTO:-0400
TZNAME:AST
DTSTART:20251102T050000
END:STANDARD
BEGIN:DAYLIGHT
TZOFFSETFROM:-0400
TZOFFSETTO:-0300
TZNAME:ADT
DTSTART:20260308T060000
END:DAYLIGHT
BEGIN:STANDARD
TZOFFSETFROM:-0300
TZOFFSETTO:-0400
TZNAME:AST
DTSTART:20261101T050000
END:STANDARD
END:VTIMEZONE
BEGIN:VEVENT
DTSTART;VALUE=DATE:20250801
DTEND;VALUE=DATE:20260101
DTSTAMP:20260419T233049
CREATED:20250801T181420Z
LAST-MODIFIED:20250801T181504Z
UID:10012468-1754006400-1767225599@www.lovemylibrary.ca
SUMMARY:Offering Wireless Printing
DESCRIPTION:We now offer wireless printing directly from your personal device. Cost for printing services is 0.20 cents per black and white page\, and 0.50 cents per colour page.
URL:https://www.lovemylibrary.ca/event/offering-wireless-printing/
LOCATION:Truro Library\, 754 Prince St\, Truro\, Nova Scotia\, Canada
CATEGORIES:Location: Truro
ATTACH;FMTTYPE=image/png:https://www.lovemylibrary.ca/wp-content/uploads/2025/08/Untitled-design-31.png
END:VEVENT
BEGIN:VEVENT
DTSTART;VALUE=DATE:20250902
DTEND;VALUE=DATE:20251101
DTSTAMP:20260419T233049
CREATED:20241121T160434Z
LAST-MODIFIED:20260119T175716Z
UID:10010202-1756771200-1761955140@www.lovemylibrary.ca
SUMMARY:Tech Help by Appointment
DESCRIPTION:Bring your own device or use one of our computers. This program covers: eReaders/ebooks\, basic computer navigation\, basic app use\, basic cellphone use\, basic tablet use\, general internet instruction\, research and using library electronic resources. All ages are welcome. \nRegister: stewiacke@cehpubliclibrary.ca
URL:https://www.lovemylibrary.ca/event/tech-help-by-appointment-4/
LOCATION:Stewiacke Library\, 295 George Street\, Stewiacke\, Nova Scotia\, Canada
CATEGORIES:Events For Adults,Location: Stewiacke
ATTACH;FMTTYPE=image/jpeg:https://www.lovemylibrary.ca/wp-content/uploads/2021/08/11.jpg
END:VEVENT
BEGIN:VEVENT
DTSTART;VALUE=DATE:20250912
DTEND;VALUE=DATE:20251031
DTSTAMP:20260419T233049
CREATED:20250829T193543Z
LAST-MODIFIED:20250905T184655Z
UID:10012888-1757635200-1761868799@www.lovemylibrary.ca
SUMMARY:Msit No'kmaq\, All My Relations: Art Exhibit by Lorne Julien
DESCRIPTION:Lorne Julien is a proud Mi’kmaw artist and member of Millbrook First Nation\, We’kopekitk\, Nova Scotia. He specializes in contemporary Indigenous acrylic paintings and murals. He believes that incorporating Indigenous art in public spaces is a simple act of reconciliation and moving forward in a spirit of mutual respect and understanding. His intention is to inspire hope and balance within the universe. This series of paintings features animals of significance to Mi’kmaw people and highlights connection to the natural world. it is made possible through funding by Arts Nova Scotia’s Mi’kmaq Arts Grant. \nDrop-in
URL:https://www.lovemylibrary.ca/event/msit-nokmaq-all-my-relations-art-exhibit-by-lorne-julien/
LOCATION:Truro Library\, 754 Prince St\, Truro\, Nova Scotia\, Canada
CATEGORIES:Events For Adults,Events For Kids,Events For Seniors,Events For Teens,Location: Truro
ATTACH;FMTTYPE=image/png:https://www.lovemylibrary.ca/wp-content/uploads/2025/08/Untitled-design-40.png
END:VEVENT
BEGIN:VEVENT
DTSTART;VALUE=DATE:20251002
DTEND;VALUE=DATE:20251101
DTSTAMP:20260419T233049
CREATED:20250522T135134Z
LAST-MODIFIED:20250922T124003Z
UID:10012078-1759363200-1761955199@www.lovemylibrary.ca
SUMMARY:Scavenger Hunt - Travel Edition
DESCRIPTION:Which of these Images have you used on vacation? \nAll Ages. In-person. Drop in: No registration required.
URL:https://www.lovemylibrary.ca/event/scavenger-hunt-travel-edition/
LOCATION:Stewiacke Library\, 295 George Street\, Stewiacke\, Nova Scotia\, Canada
CATEGORIES:Events For Adults,Events For Kids,Events For Seniors,Events For Teens,Location: Stewiacke
ATTACH;FMTTYPE=image/png:https://www.lovemylibrary.ca/wp-content/uploads/2025/05/Untitled-design-52.png
END:VEVENT
BEGIN:VEVENT
DTSTART;TZID=America/Halifax:20251008T103000
DTEND;TZID=America/Halifax:20251008T110000
DTSTAMP:20260419T233049
CREATED:20250818T192158Z
LAST-MODIFIED:20251114T201518Z
UID:10012686-1759919400-1759921200@www.lovemylibrary.ca
SUMMARY:Storytime
DESCRIPTION:Enjoy a picture book read by Karri or Bernie and then participate in an activity.  Please note there will be no Storytime on December 24\, 27\, and 31. For pre-schoolers and home schoolers. \nThis is a drop-in program. No registration is required.
URL:https://www.lovemylibrary.ca/event/storytime-9-2/2025-10-08/
LOCATION:Mount Uniacke Library\, 555\, Highway 1\, Mount Uniacke\, Nova Scotia\, Canada
CATEGORIES:Events For Kids,Location: Mount Uniacke
ATTACH;FMTTYPE=image/png:https://www.lovemylibrary.ca/wp-content/uploads/2022/05/Untitled-design-2.png
END:VEVENT
BEGIN:VEVENT
DTSTART;TZID=America/Halifax:20251008T103000
DTEND;TZID=America/Halifax:20251008T110000
DTSTAMP:20260419T233049
CREATED:20251219T193920Z
LAST-MODIFIED:20260415T141101Z
UID:10013717-1759919400-1759921200@www.lovemylibrary.ca
SUMMARY:Storytime
DESCRIPTION:Enjoy a picture book read by Karri or Bernie and then participate in an activity.  Please note there will be no Storytime on January 24\,28\,and 31. For pre-schoolers and home schoolers. \nThis is a drop-in program. No registration is required.
URL:https://www.lovemylibrary.ca/event/storytime-12/2025-10-08/
LOCATION:Mount Uniacke Library\, 555\, Highway 1\, Mount Uniacke\, Nova Scotia\, Canada
CATEGORIES:Events For Kids,Location: Mount Uniacke
ATTACH;FMTTYPE=image/png:https://www.lovemylibrary.ca/wp-content/uploads/2022/05/Untitled-design-2.png
END:VEVENT
BEGIN:VEVENT
DTSTART;TZID=America/Halifax:20251008T103000
DTEND;TZID=America/Halifax:20251008T113000
DTSTAMP:20260419T233049
CREATED:20250121T174225Z
LAST-MODIFIED:20251216T233710Z
UID:10012661-1759919400-1759923000@www.lovemylibrary.ca
SUMMARY:Storytime
DESCRIPTION:Join us for a fun-filled story time at the library! There will be stories\, maybe a song or two along with a craft. Ages 2 – 4. \nIn person\, drop in. Please call (902) 883-9838 or email us at elmsdale@cehpubliclibrary.ca for more details.\n 
URL:https://www.lovemylibrary.ca/event/storytime-11/2025-10-08/
LOCATION:Elmsdale Library\, 15 Commerce Ct\, Elmsdale\, Nova Scotia\, Canada
CATEGORIES:Events For Kids,Location: Elmsdale
ATTACH;FMTTYPE=image/png:https://www.lovemylibrary.ca/wp-content/uploads/2024/12/Untitled-design.png
END:VEVENT
BEGIN:VEVENT
DTSTART;TZID=America/Halifax:20251008T130000
DTEND;TZID=America/Halifax:20251008T150000
DTSTAMP:20260419T233049
CREATED:20250818T190859Z
LAST-MODIFIED:20260217T180921Z
UID:10013233-1759928400-1759935600@www.lovemylibrary.ca
SUMMARY:Homeschoolers Hangout
DESCRIPTION:Learn and explore at the library! We want to be part of your education experience. \nIn person\, drop in. Please call (902) 883-9838 or email elmsdale@cehpubliclibrary.ca for more details
URL:https://www.lovemylibrary.ca/event/homeschoolers-hangout-2-2-2/2025-10-08/
LOCATION:Elmsdale Library\, 15 Commerce Ct\, Elmsdale\, Nova Scotia\, Canada
CATEGORIES:Events For Kids,Events For Teens,Location: Elmsdale
ATTACH;FMTTYPE=image/png:https://www.lovemylibrary.ca/wp-content/uploads/2022/07/Untitled-design-9.png
END:VEVENT
BEGIN:VEVENT
DTSTART;TZID=America/Halifax:20251008T130000
DTEND;TZID=America/Halifax:20251008T150000
DTSTAMP:20260419T233049
CREATED:20250905T181307Z
LAST-MODIFIED:20260401T152139Z
UID:10013176-1759928400-1759935600@www.lovemylibrary.ca
SUMMARY:Makers in the Maker Lab
DESCRIPTION:Calling all Makers! Drop by for a relaxing afternoon to hang out with fellow crafters. Bring along your ongoing projects like knitting\, crochet\, needlework\, painting or other hands on crafts. \nNo registration\, drop in.
URL:https://www.lovemylibrary.ca/event/makers-in-the-maker-lab-14-2-2/2025-10-08/
LOCATION:Truro Library\, 754 Prince St\, Truro\, Nova Scotia\, Canada
CATEGORIES:Crafting,Events For Adults,Events For Seniors,Location: Truro
ATTACH;FMTTYPE=image/png:https://www.lovemylibrary.ca/wp-content/uploads/2025/09/Info-Calendar-Images-1.png
END:VEVENT
BEGIN:VEVENT
DTSTART;TZID=America/Halifax:20251008T150000
DTEND;TZID=America/Halifax:20251008T163000
DTSTAMP:20260419T233049
CREATED:20250820T135426Z
LAST-MODIFIED:20260203T193209Z
UID:10013205-1759935600-1759941000@www.lovemylibrary.ca
SUMMARY:Teen Room Drop In
DESCRIPTION:Come hang out! Grab a snack\, play our Nintendo Switch\, challenge your friends to a board game\, build with Lego\, or make art!  Ages 13-18 \nThis is a drop-in program. No registration is required.
URL:https://www.lovemylibrary.ca/event/teen-room-drop-in-5-2/2025-10-08/
LOCATION:Truro Library\, 754 Prince St\, Truro\, Nova Scotia\, Canada
CATEGORIES:Events For Teens,Location: Truro
ATTACH;FMTTYPE=image/png:https://www.lovemylibrary.ca/wp-content/uploads/2022/10/Untitled-design-53.png
END:VEVENT
BEGIN:VEVENT
DTSTART;TZID=America/Halifax:20251008T150000
DTEND;TZID=America/Halifax:20251008T163000
DTSTAMP:20260419T233049
CREATED:20260323T191525Z
LAST-MODIFIED:20260414T171217Z
UID:10014561-1759935600-1759941000@www.lovemylibrary.ca
SUMMARY:Teen Room Drop In
DESCRIPTION:Come hang out after school! Grab a snack\, play our Nintendo Switch\, challenge your friends to a board game\, build with Lego\, or make art. Ages 13-18 \nThis is a drop-in program. No registration is required.
URL:https://www.lovemylibrary.ca/event/teen-room-drop-in-6/2025-10-08/
LOCATION:Truro Library\, 754 Prince St\, Truro\, Nova Scotia\, Canada
CATEGORIES:Events For Teens,Location: Truro
ATTACH;FMTTYPE=image/png:https://www.lovemylibrary.ca/wp-content/uploads/2022/10/Untitled-design-53.png
END:VEVENT
BEGIN:VEVENT
DTSTART;TZID=America/Halifax:20251008T183000
DTEND;TZID=America/Halifax:20251008T200000
DTSTAMP:20260419T233049
CREATED:20250918T140848Z
LAST-MODIFIED:20251008T180223Z
UID:10013307-1759948200-1759953600@www.lovemylibrary.ca
SUMMARY:Aging in Place Workshop Series
DESCRIPTION:A weekly\, four-part series in partnership with Remember When HealthCare exploring the following topics: Care Options & Funding in NS\, Transitions from Hospital to Home\, Preparing the Home for Aging and Building a Support System. \nAdults. In person. Drop in\, no registration required.
URL:https://www.lovemylibrary.ca/event/aging-in-place-workshop-series/2025-10-08/
LOCATION:Truro Library\, 754 Prince St\, Truro\, Nova Scotia\, Canada
CATEGORIES:Events For Adults,Events For Seniors,Location: Truro
ATTACH;FMTTYPE=image/png:https://www.lovemylibrary.ca/wp-content/uploads/2025/09/Untitled-design-46.png
END:VEVENT
END:VCALENDAR