BEGIN:VCALENDAR
VERSION:2.0
PRODID:-//Colchester East Hants Public Library - ECPv6.15.20//NONSGML v1.0//EN
CALSCALE:GREGORIAN
METHOD:PUBLISH
X-ORIGINAL-URL:https://www.lovemylibrary.ca
X-WR-CALDESC:Events for Colchester East Hants Public Library
REFRESH-INTERVAL;VALUE=DURATION:PT1H
X-Robots-Tag:noindex
X-PUBLISHED-TTL:PT1H
BEGIN:VTIMEZONE
TZID:America/Halifax
BEGIN:DAYLIGHT
TZOFFSETFROM:-0400
TZOFFSETTO:-0300
TZNAME:ADT
DTSTART:20240310T060000
END:DAYLIGHT
BEGIN:STANDARD
TZOFFSETFROM:-0300
TZOFFSETTO:-0400
TZNAME:AST
DTSTART:20241103T050000
END:STANDARD
BEGIN:DAYLIGHT
TZOFFSETFROM:-0400
TZOFFSETTO:-0300
TZNAME:ADT
DTSTART:20250309T060000
END:DAYLIGHT
BEGIN:STANDARD
TZOFFSETFROM:-0300
TZOFFSETTO:-0400
TZNAME:AST
DTSTART:20251102T050000
END:STANDARD
BEGIN:DAYLIGHT
TZOFFSETFROM:-0400
TZOFFSETTO:-0300
TZNAME:ADT
DTSTART:20260308T060000
END:DAYLIGHT
BEGIN:STANDARD
TZOFFSETFROM:-0300
TZOFFSETTO:-0400
TZNAME:AST
DTSTART:20261101T050000
END:STANDARD
BEGIN:DAYLIGHT
TZOFFSETFROM:-0400
TZOFFSETTO:-0300
TZNAME:ADT
DTSTART:20270314T060000
END:DAYLIGHT
BEGIN:STANDARD
TZOFFSETFROM:-0300
TZOFFSETTO:-0400
TZNAME:AST
DTSTART:20271107T050000
END:STANDARD
END:VTIMEZONE
BEGIN:VEVENT
DTSTART;VALUE=DATE:20250801
DTEND;VALUE=DATE:20260101
DTSTAMP:20260420T180539
CREATED:20250801T181420Z
LAST-MODIFIED:20250801T181504Z
UID:10012468-1754006400-1767225599@www.lovemylibrary.ca
SUMMARY:Offering Wireless Printing
DESCRIPTION:We now offer wireless printing directly from your personal device. Cost for printing services is 0.20 cents per black and white page\, and 0.50 cents per colour page.
URL:https://www.lovemylibrary.ca/event/offering-wireless-printing/
LOCATION:Truro Library\, 754 Prince St\, Truro\, Nova Scotia\, Canada
CATEGORIES:Location: Truro
ATTACH;FMTTYPE=image/png:https://www.lovemylibrary.ca/wp-content/uploads/2025/08/Untitled-design-31.png
END:VEVENT
BEGIN:VEVENT
DTSTART;VALUE=DATE:20251129
DTEND;VALUE=DATE:20251230
DTSTAMP:20260420T180539
CREATED:20251129T162904Z
LAST-MODIFIED:20251129T162904Z
UID:10013587-1764374400-1767052799@www.lovemylibrary.ca
SUMMARY:From the Pages of...: Art Exhibit by Truro Art Society
DESCRIPTION:Truro Art Society presents “From the Pages of…\,” an exhibit of works that draw inspiration from books\, perfectly at home in the Library. Explore where literature and art collide! \nAll ages. In person. Drop- in. 2nd Floor Exhibit Area.
URL:https://www.lovemylibrary.ca/event/from-the-pages-of-art-exhibit-by-truro-art-society/
LOCATION:Truro Library\, 754 Prince St\, Truro\, Nova Scotia\, Canada
CATEGORIES:Location: Truro
ATTACH;FMTTYPE=image/png:https://www.lovemylibrary.ca/wp-content/uploads/2025/10/Untitled-design-2025-11-29T121417.788.png
END:VEVENT
BEGIN:VEVENT
DTSTART;VALUE=DATE:20251201
DTEND;VALUE=DATE:20260101
DTSTAMP:20260420T180539
CREATED:20221019T180730Z
LAST-MODIFIED:20251114T185900Z
UID:10001837-1764547200-1767225599@www.lovemylibrary.ca
SUMMARY:Holiday Take and Make Crafts
DESCRIPTION:Special take-and-make craft kits are available for pick up in-branch. While supplies last. \nDrop-in\, no registration required.
URL:https://www.lovemylibrary.ca/event/take-and-make-crafts-6/
LOCATION:Elmsdale Library\, 15 Commerce Ct\, Elmsdale\, Nova Scotia\, Canada
CATEGORIES:Crafting,Events For Adults,Events For Kids,Location: Elmsdale
ATTACH;FMTTYPE=image/png:https://www.lovemylibrary.ca/wp-content/uploads/2022/03/Untitled-design-57.png
END:VEVENT
BEGIN:VEVENT
DTSTART;VALUE=DATE:20251202
DTEND;VALUE=DATE:20260601
DTSTAMP:20260420T180539
CREATED:20250818T193306Z
LAST-MODIFIED:20260415T142120Z
UID:10012341-1764633600-1780271999@www.lovemylibrary.ca
SUMMARY:Technically Speaking
DESCRIPTION:Is your tablet confusing? Having trouble downloading an app to your phone or don’t know what an app means? Want to learn more about TikTok? Drop into the library with your questions and we can help. All ages are welcome. \nNo registration is required.
URL:https://www.lovemylibrary.ca/event/technically-speaking-9-2-2/
LOCATION:Mount Uniacke Library\, 555\, Highway 1\, Mount Uniacke\, Nova Scotia\, Canada
CATEGORIES:Events For Adults,Location: Mount Uniacke
ATTACH;FMTTYPE=image/png:https://www.lovemylibrary.ca/wp-content/uploads/2023/04/Untitled-design-65.png
END:VEVENT
BEGIN:VEVENT
DTSTART;TZID=America/Halifax:20251213T100000
DTEND;TZID=America/Halifax:20251213T120000
DTSTAMP:20260420T180539
CREATED:20241105T225149Z
LAST-MODIFIED:20251101T190754Z
UID:10010166-1765620000-1765627200@www.lovemylibrary.ca
SUMMARY:Holiday Craft Party
DESCRIPTION:Grab the glue\, glitter\, and googly eyes to create holiday decorations\, cards\, and more! For ages 4 and up. \nThis is a drop in program. Registration is not required.
URL:https://www.lovemylibrary.ca/event/holiday-craft-party/
LOCATION:Truro Library\, 754 Prince St\, Truro\, Nova Scotia\, Canada
CATEGORIES:Crafting,Events For Kids,Location: Truro
ATTACH;FMTTYPE=image/png:https://www.lovemylibrary.ca/wp-content/uploads/2024/11/Untitled-design-2024-11-05T185133.503.png
END:VEVENT
BEGIN:VEVENT
DTSTART;TZID=America/Halifax:20251213T100000
DTEND;TZID=America/Halifax:20251213T150000
DTSTAMP:20260420T180539
CREATED:20251122T204411Z
LAST-MODIFIED:20251122T204411Z
UID:10013571-1765620000-1765638000@www.lovemylibrary.ca
SUMMARY:Holiday Tree Ornament Making
DESCRIPTION:Let’s celebrate this festive time of year by making tree ornaments. You can make an ornament for your tree or for someone special. We have all the supplies! All ages are welcome to participate. \nPlease call 902-883-9838 or email us at elmsdale@cehpubliclibrary.ca for more details
URL:https://www.lovemylibrary.ca/event/holiday-tree-ornament-making/
LOCATION:Nova Scotia
CATEGORIES:Crafting,Location: Elmsdale
ATTACH;FMTTYPE=image/png:https://www.lovemylibrary.ca/wp-content/uploads/2025/11/Untitled-design-2025-11-22T164337.013.png
END:VEVENT
BEGIN:VEVENT
DTSTART;TZID=America/Halifax:20251213T103000
DTEND;TZID=America/Halifax:20251213T110000
DTSTAMP:20260420T180539
CREATED:20250818T192158Z
LAST-MODIFIED:20251114T201518Z
UID:10013541-1765621800-1765623600@www.lovemylibrary.ca
SUMMARY:Storytime
DESCRIPTION:Enjoy a picture book read by Karri or Bernie and then participate in an activity.  Please note there will be no Storytime on December 24\, 27\, and 31. For pre-schoolers and home schoolers. \nThis is a drop-in program. No registration is required.
URL:https://www.lovemylibrary.ca/event/storytime-9-2/2025-12-13/
LOCATION:Mount Uniacke Library\, 555\, Highway 1\, Mount Uniacke\, Nova Scotia\, Canada
CATEGORIES:Events For Kids,Location: Mount Uniacke
ATTACH;FMTTYPE=image/png:https://www.lovemylibrary.ca/wp-content/uploads/2022/05/Untitled-design-2.png
END:VEVENT
BEGIN:VEVENT
DTSTART;TZID=America/Halifax:20251213T103000
DTEND;TZID=America/Halifax:20251213T110000
DTSTAMP:20260420T180539
CREATED:20251219T193920Z
LAST-MODIFIED:20260415T141101Z
UID:10013736-1765621800-1765623600@www.lovemylibrary.ca
SUMMARY:Storytime
DESCRIPTION:Enjoy a picture book read by Karri or Bernie and then participate in an activity.  Please note there will be no Storytime on January 24\,28\,and 31. For pre-schoolers and home schoolers. \nThis is a drop-in program. No registration is required.
URL:https://www.lovemylibrary.ca/event/storytime-12/2025-12-13/
LOCATION:Mount Uniacke Library\, 555\, Highway 1\, Mount Uniacke\, Nova Scotia\, Canada
CATEGORIES:Events For Kids,Location: Mount Uniacke
ATTACH;FMTTYPE=image/png:https://www.lovemylibrary.ca/wp-content/uploads/2022/05/Untitled-design-2.png
END:VEVENT
BEGIN:VEVENT
DTSTART;TZID=America/Halifax:20251213T110000
DTEND;TZID=America/Halifax:20251213T120000
DTSTAMP:20260420T180539
CREATED:20231118T203653Z
LAST-MODIFIED:20251129T160549Z
UID:10005862-1765623600-1765627200@www.lovemylibrary.ca
SUMMARY:Consort Players
DESCRIPTION:Drop in and hear the Consort Players serenade us with holiday music! \nThis is a drop-in event. No registration is required.
URL:https://www.lovemylibrary.ca/event/consort-players-2/
LOCATION:Truro Library\, 754 Prince St\, Truro\, Nova Scotia\, Canada
CATEGORIES:Events For Adults,Events For Kids,Events For Seniors,Events For Teens,Location: Truro
ATTACH;FMTTYPE=image/png:https://www.lovemylibrary.ca/wp-content/uploads/2022/11/Untitled-design-25.png
END:VEVENT
BEGIN:VEVENT
DTSTART;TZID=America/Halifax:20251213T140000
DTEND;TZID=America/Halifax:20251213T160000
DTSTAMP:20260420T180539
CREATED:20251121T172209Z
LAST-MODIFIED:20251121T172209Z
UID:10013570-1765634400-1765641600@www.lovemylibrary.ca
SUMMARY:Shop\, Wrap Celebrate!
DESCRIPTION:A perfect way for kids to experience the joy of giving this holiday season. Choose a Gift\, then visit our Gift Wrap Station\, where little elves can help wrap your treasures with colorful paper\, ribbons\, and bows—complete with a sprinkle of holiday cheer! For ages 2 and up \nThis is a drop in program. No registration is required.
URL:https://www.lovemylibrary.ca/event/shop-wrap-celebrate/
LOCATION:Stewiacke Library\, 295 George Street\, Stewiacke\, Nova Scotia\, Canada
CATEGORIES:Events For Kids,Location: Stewiacke
ATTACH;FMTTYPE=image/png:https://www.lovemylibrary.ca/wp-content/uploads/2025/11/Untitled-design-2025-11-21T132137.375.png
END:VEVENT
END:VCALENDAR